Workbook
Name gamesPerRound: Analysis11!$J$9
Name gamesPerRound: Analysis12!$J$9
Name players: Analysis11!$J$7
Name players: Analysis12!$J$7
Name rounds: Analysis11!$J$8
Name rounds: Analysis12!$J$8
Name teams: Analysis11!$J$6
Name teams: Analysis12!$J$6
Name teamsList: Setup!$C$1:$C$26

Sheet Entries
A1: Valid? | B1: =IF(OR(Analysis11!I10,Analysis12!I10),"Invalid","Valid") -> Valid | C1: for Reference
B2: ="11t: "&Analysis11!K1&"; 12t: "&Analysis12!K1 -> 11t: OK; 12t: OK
A3: Timestamp | B3: 07/12/2023 20:57:32 | C3: Check
A4: Team ID | B4: 2311 | C4: Calculated Q:
A5: Q_6t_4p | B5: 20.27 | C5: 20.27
A6: Q_total | B6: 0.16 | C6: =C7+C173 -> 0.16
A7: Q_11t_10p | B7: 0.09 | C7: =ROUND(Analysis11!$M$10,2) -> 0.09
A8: 1 | B8: 1,K.01,A.01
A9: 2 | B9: 1,H.01,I.01
A10: 3 | B10: 1,J.01,F.01
A11: 4 | B11: 1,E.01,D.01
A12: 5 | B12: 1,C.01,G.01
A13: 6 | B13: 1,A.02,B.01
A14: 7 | B14: 1,E.02,J.02
A15: 8 | B15: 1,G.02,F.02
A16: 9 | B16: 1,D.02,I.02
A17: 10 | B17: 1,B.02,H.02
A18: 11 | B18: 1,K.02,C.02
A19: 12 | B19: 1,A.03,F.03
... A172: 165 | B172: 3,E.10,K.10
A173: Q_12t_10p | B173: 0.07 | C173: =ROUND(Analysis12!$M$10,2) -> 0.07
A174: 1 | B174: 1,A.01,D.01
A175: 2 | B175: 1,E.01,B.01
A176: 3 | B176: 1,F.01,G.01
A177: 4 | B177: 1,H.01,L.01
A178: 5 | B178: 1,J.01,I.01
A179: 6 | B179: 1,K.01,C.01
A180: 7 | B180: 1,B.02,J.02
A181: 8 | B181: 1,C.02,E.02
A182: 9 | B182: 1,D.02,F.02
A183: 10 | B183: 1,G.02,A.02
A184: 11 | B184: 1,I.02,K.02
A185: 12 | B185: 1,L.02,H.02
... A353: 180 | B353: 3,D.10,K.10

Sheet Pairings11
D1: 11 | E1: teams
D2: {=INDIRECT("Analysis"&D1&"!players")} -> 10 | E2: players per team
D3: {=INDIRECT("Analysis"&D1&"!rounds")} -> 3 | E3: rounds
D4: =D1*D2/2 -> 55 | E4: games per round
A5: Ref | B5: Round | C5: White | D5: Black | E5: White Copy for TeamSheets
A6: 0 | B6: {=_xlfn.TEXTSPLIT(Entries!$B8,",")} -> 1 | C6: K.01 | D6: A.01 | E6: =C6 -> K.01
A7: 1 | B7: {=_xlfn.TEXTSPLIT(Entries!$B9,",")} -> 1 | C7: H.01 | D7: I.01 | E7: =C7 -> H.01
A8: 2 | B8: {=_xlfn.TEXTSPLIT(Entries!$B10,",")} -> 1 | C8: J.01 | D8: F.01 | E8: =C8 -> J.01
A9: 3 | B9: {=_xlfn.TEXTSPLIT(Entries!$B11,",")} -> 1 | C9: E.01 | D9: D.01 | E9: =C9 -> E.01
A10: 4 | B10: {=_xlfn.TEXTSPLIT(Entries!$B12,",")} -> 1 | C10: C.01 | D10: G.01 | E10: =C10 -> C.01
A11: 5 | B11: {=_xlfn.TEXTSPLIT(Entries!$B13,",")} -> 1 | C11: A.02 | D11: B.01 | E11: =C11 -> A.02
A12: 6 | B12: {=_xlfn.TEXTSPLIT(Entries!$B14,",")} -> 1 | C12: E.02 | D12: J.02 | E12: =C12 -> E.02
A13: 7 | B13: {=_xlfn.TEXTSPLIT(Entries!$B15,",")} -> 1 | C13: G.02 | D13: F.02 | E13: =C13 -> G.02
A14: 8 | B14: {=_xlfn.TEXTSPLIT(Entries!$B16,",")} -> 1 | C14: D.02 | D14: I.02 | E14: =C14 -> D.02
A15: 9 | B15: {=_xlfn.TEXTSPLIT(Entries!$B17,",")} -> 1 | C15: B.02 | D15: H.02 | E15: =C15 -> B.02
A16: 10 | B16: {=_xlfn.TEXTSPLIT(Entries!$B18,",")} -> 1 | C16: K.02 | D16: C.02 | E16: =C16 -> K.02
A17: 11 | B17: {=_xlfn.TEXTSPLIT(Entries!$B19,",")} -> 1 | C17: A.03 | D17: F.03 | E17: =C17 -> A.03
... A170: 164 | B170: {=_xlfn.TEXTSPLIT(Entries!$B172,",")} -> 3 | C170: E.10 | D170: K.10 | E170: =C170 -> E.10
A171: 165 | B171: =IF(INT(A171/$D$4)<$D$3,1+INT(A171/$D$4),"")
A172: 166 | B172: =IF(INT(A172/$D$4)<$D$3,1+INT(A172/$D$4),"")
A173: 167 | B173: =IF(INT(A173/$D$4)<$D$3,1+INT(A173/$D$4),"")
A174: 168 | B174: =IF(INT(A174/$D$4)<$D$3,1+INT(A174/$D$4),"")
A175: 169 | B175: =IF(INT(A175/$D$4)<$D$3,1+INT(A175/$D$4),"")
A176: 170 | B176: =IF(INT(A176/$D$4)<$D$3,1+INT(A176/$D$4),"")
A177: 171 | B177: =IF(INT(A177/$D$4)<$D$3,1+INT(A177/$D$4),"")
A178: 172 | B178: =IF(INT(A178/$D$4)<$D$3,1+INT(A178/$D$4),"")
A179: 173 | B179: =IF(INT(A179/$D$4)<$D$3,1+INT(A179/$D$4),"")
A180: 174 | B180: =IF(INT(A180/$D$4)<$D$3,1+INT(A180/$D$4),"")
A181: 175 | B181: =IF(INT(A181/$D$4)<$D$3,1+INT(A181/$D$4),"")
A182: 176 | B182: =IF(INT(A182/$D$4)<$D$3,1+INT(A182/$D$4),"")
... A306: 300 | B306: =IF(INT(A306/$D$4)<$D$3,1+INT(A306/$D$4),"")
A307: =A306+1 -> 301 | B307: =IF(INT(A307/$D$4)<$D$3,1+INT(A307/$D$4),"")
A308: =A307+1 -> 302 | B308: =IF(INT(A308/$D$4)<$D$3,1+INT(A308/$D$4),"")
A309: =A308+1 -> 303 | B309: =IF(INT(A309/$D$4)<$D$3,1+INT(A309/$D$4),"")
A310: =A309+1 -> 304 | B310: =IF(INT(A310/$D$4)<$D$3,1+INT(A310/$D$4),"")
A311: =A310+1 -> 305 | B311: =IF(INT(A311/$D$4)<$D$3,1+INT(A311/$D$4),"")
A312: =A311+1 -> 306 | B312: =IF(INT(A312/$D$4)<$D$3,1+INT(A312/$D$4),"")
A313: =A312+1 -> 307 | B313: =IF(INT(A313/$D$4)<$D$3,1+INT(A313/$D$4),"")
A314: =A313+1 -> 308 | B314: =IF(INT(A314/$D$4)<$D$3,1+INT(A314/$D$4),"")
A315: =A314+1 -> 309 | B315: =IF(INT(A315/$D$4)<$D$3,1+INT(A315/$D$4),"")
A316: =A315+1 -> 310 | B316: =IF(INT(A316/$D$4)<$D$3,1+INT(A316/$D$4),"")
A317: =A316+1 -> 311 | B317: =IF(INT(A317/$D$4)<$D$3,1+INT(A317/$D$4),"")
A318: =A317+1 -> 312 | B318: =IF(INT(A318/$D$4)<$D$3,1+INT(A318/$D$4),"")
... A473: =A472+1 -> 467 | B473: =IF(INT(A473/$D$4)<$D$3,1+INT(A473/$D$4),"")

Sheet Analysis11
G1: Repeated opposing teams | H1: =I39 -> FALSE | K1: =_xlfn.ARRAYTOTEXT(_xlfn._xlws.FILTER(G1:G9,H1:H9,"OK"),0) -> OK
G2: Play team-mate | H2: =MAX(OFFSET($N$78,0,0,players,1))>$M$78 -> FALSE
G3: Opposing team distrib violation | H3: =OR(OFFSET($I$52,0,0,teams)) -> FALSE
G4: Repeated up-floats | H4: {=COUNTA(_xlfn._xlws.FILTER(OFFSET($F$11,0,0,rounds*gamesPerRound,1),LEN(OFFSET($F$11,0,0,rounds*gamesPerRound,1))>0))<>COUNTA(_xlfn.UNIQUE(_xlfn._xlws.FILTER(OFFSET($F$11,0,0,rounds*gamesPerRound,1),LEN(OFFSET($F$11,0,0,rounds*gamesPerRound,1))>0)))} -> FALSE
G5: Repeated down-floats | H5: {=COUNTA(_xlfn._xlws.FILTER(OFFSET($G$11,0,0,rounds*gamesPerRound,1),LEN(OFFSET($G$11,0,0,rounds*gamesPerRound,1))>0))<>COUNTA(_xlfn.UNIQUE(_xlfn._xlws.FILTER(OFFSET($G$11,0,0,rounds*gamesPerRound,1),LEN(OFFSET($G$11,0,0,rounds*gamesPerRound,1))>0)))} -> FALSE
G6: Board colours violation | H6: =OR(OFFSET($I$27,0,0,players+1)) -> FALSE | J6: 11 | K6: teams
G7: Float number violation | H7: =OR(I17:I18) -> FALSE | J7: 10 | K7: players per team
G8: Float balance violation | H8: =I19 -> FALSE | J8: 3 | K8: rounds
G9: Float colour violation | H9: =OR(_xlfn.ANCHORARRAY(H11)) -> FALSE | I9: violations? | J9: =J6*J7/2 -> 55 | K9: games per round
A10: Round | B10: White | C10: H | D10: Black | E10: H | F10: Upfloat | G10: Downfloat | I10: =OR(H1:H9) -> FALSE | J10: Q | K10: total | M10: =SUM(M11:M14) -> 0.090909091 | AN10: All upfloats | AO10: All downfloats | AP10: teams up | AQ10: teams down
A11: {=Pairings11!B6:B473} -> 1 | B11: {=LEFT(TRIM(Pairings11!C6:C473),1)} -> K | C11: {=RIGHT(TRIM(Pairings11!C6:C473),2)} -> 01 | D11: {=LEFT(TRIM(Pairings11!D6:D473),1)} -> A | E11: {=RIGHT(TRIM(Pairings11!D6:D473),2)} -> 01 | F11: =IF(E11<C11,B11&"."&C11,IF(C11<E11,D11&"."&E11,"")) | G11: =IF(E11>C11,B11&"."&C11,IF(C11>E11,D11&"."&E11,"")) | H11: {=C11:C478<E11:E478} -> FALSE | J11: QX | K11: round colours | M11: =SUM(OFFSET(M11,0,1,1,teams)) -> 0 | N11: =IF(N$15>teams,"",SUM(N23:N25)) -> 0 | O11: =IF(O$15>teams,"",SUM(O23:O25)) -> 0 | P11: =IF(P$15>teams,"",SUM(P23:P25)) -> 0 | Q11: =IF(Q$15>teams,"",SUM(Q23:Q25)) -> 0 | R11: =IF(R$15>teams,"",SUM(R23:R25)) -> 0 | S11: =IF(S$15>teams,"",SUM(S23:S25)) -> 0 | T11: =IF(T$15>teams,"",SUM(T23:T25)) -> 0 | U11: =IF(U$15>teams,"",SUM(U23:U25)) -> 0 | ... AM11: =IF(AM$15>teams,"",SUM(AM23:AM25)) | AN11: {=_xlfn._xlws.FILTER(F11:F478,LEN(F11:F478)>0)} -> A.02 | AO11: {=_xlfn._xlws.FILTER(G11:G478,LEN(G11:G478)>0)} -> B.01 | AP11: {=LEFT(_xlfn.ANCHORARRAY(AN11),1)} -> A | AQ11: {=LEFT(_xlfn.ANCHORARRAY(AO11),1)} -> B
A12: 1 | B12: H | C12: 01 | D12: I | E12: 01 | F12: =IF(E12<C12,B12&"."&C12,IF(C12<E12,D12&"."&E12,"")) | G12: =IF(E12>C12,B12&"."&C12,IF(C12>E12,D12&"."&E12,"")) | H12: FALSE | J12: QY | K12: total floats | M12: =SUM(OFFSET(M12,0,1,1,teams)) -> 0 | N12: =IF(N$15>teams,"",ABS(N19)) -> 0 | O12: =IF(O$15>teams,"",ABS(O19)) -> 0 | P12: =IF(P$15>teams,"",ABS(P19)) -> 0 | Q12: =IF(Q$15>teams,"",ABS(Q19)) -> 0 | R12: =IF(R$15>teams,"",ABS(R19)) -> 0 | S12: =IF(S$15>teams,"",ABS(S19)) -> 0 | T12: =IF(T$15>teams,"",ABS(T19)) -> 0 | U12: =IF(U$15>teams,"",ABS(U19)) -> 0 | ... AM12: =IF(AM$15>teams,"",ABS(AM19)) | AN12: B.04 | AO12: H.03 | AP12: B | AQ12: H
A13: 1 | B13: J | C13: 01 | D13: F | E13: 01 | F13: =IF(E13<C13,B13&"."&C13,IF(C13<E13,D13&"."&E13,"")) | G13: =IF(E13>C13,B13&"."&C13,IF(C13>E13,D13&"."&E13,"")) | H13: FALSE | J13: QZ | K13: board whites | M13: {=SUM(ABS(OFFSET(M13,0,1,1,teams)))} -> 0.090909091 | N13: =IF(N$15>teams,"",1-(4/(rounds*players*(players+1))*SUMPRODUCT(OFFSET($J$27,0,0,players,1),OFFSET(N$27,0,0,players,1)))) -> -0.0060606061 | O13: =IF(O$15>teams,"",1-(4/(rounds*players*(players+1))*SUMPRODUCT(OFFSET($J$27,0,0,players,1),OFFSET(O$27,0,0,players,1)))) -> -0.0060606061 | P13: =IF(P$15>teams,"",1-(4/(rounds*players*(players+1))*SUMPRODUCT(OFFSET($J$27,0,0,players,1),OFFSET(P$27,0,0,players,1)))) -> -0.0060606061 | Q13: =IF(Q$15>teams,"",1-(4/(rounds*players*(players+1))*SUMPRODUCT(OFFSET($J$27,0,0,players,1),OFFSET(Q$27,0,0,players,1)))) -> -0.0060606061 | R13: =IF(R$15>teams,"",1-(4/(rounds*players*(players+1))*SUMPRODUCT(OFFSET($J$27,0,0,players,1),OFFSET(R$27,0,0,players,1)))) -> -0.018181818 | S13: =IF(S$15>teams,"",1-(4/(rounds*players*(players+1))*SUMPRODUCT(OFFSET($J$27,0,0,players,1),OFFSET(S$27,0,0,players,1)))) -> -0.0060606061 | T13: =IF(T$15>teams,"",1-(4/(rounds*players*(players+1))*SUMPRODUCT(OFFSET($J$27,0,0,players,1),OFFSET(T$27,0,0,players,1)))) -> -0.0060606061 | U13: =IF(U$15>teams,"",1-(4/(rounds*players*(players+1))*SUMPRODUCT(OFFSET($J$27,0,0,players,1),OFFSET(U$27,0,0,players,1)))) -> -0.0060606061 | ... AM13: =IF(AM$15>teams,"",1-(4/(rounds*players*(players+1))*SUMPRODUCT(OFFSET($J$27,0,0,players,1),OFFSET(AM$27,0,0,players,1)))) | AN13: H.06 | AO13: A.05 | AP13: H | AQ13: A
A14: 1 | B14: E | C14: 01 | D14: D | E14: 01 | F14: =IF(E14<C14,B14&"."&C14,IF(C14<E14,D14&"."&E14,"")) | G14: =IF(E14>C14,B14&"."&C14,IF(C14>E14,D14&"."&E14,"")) | H14: FALSE | AN14: C.08 | AO14: E.07 | AP14: C | AQ14: E
A15: 1 | B15: C | C15: 01 | D15: G | E15: 01 | F15: =IF(E15<C15,B15&"."&C15,IF(C15<E15,D15&"."&E15,"")) | G15: =IF(E15>C15,B15&"."&C15,IF(C15>E15,D15&"."&E15,"")) | H15: FALSE | K15: =teams -> 11 | L15: permitted | N15: 1 | O15: 2 | P15: 3 | Q15: 4 | R15: 5 | S15: 6 | T15: 7 | U15: 8 | V15: 9 | W15: 10 | X15: 11 | Y15: 12 | Z15: 13 | AA15: 14 | AB15: 15 | AC15: 16 | AD15: 17 | AE15: 18 | AF15: 19 | AG15: 20 | AH15: 21 | AI15: 22 | AJ15: 23 | AK15: 24 | AL15: 25 | AM15: 26 | AN15: F.10 | AO15: C.09 | AP15: F | AQ15: C
A16: 1 | B16: A | C16: 02 | D16: B | E16: 01 | F16: =IF(E16<C16,B16&"."&C16,IF(C16<E16,D16&"."&E16,"")) -> A.02 | G16: =IF(E16>C16,B16&"."&C16,IF(C16>E16,D16&"."&E16,"")) -> B.01 | H16: FALSE | I16: violation | K16: teams | L16: min | M16: max | N16: =IF(N$15>teams,"",INDEX(teamsList,Analysis11!N$15)) -> A | O16: =IF(O$15>teams,"",INDEX(teamsList,Analysis11!O$15)) -> B | P16: =IF(P$15>teams,"",INDEX(teamsList,Analysis11!P$15)) -> C | Q16: =IF(Q$15>teams,"",INDEX(teamsList,Analysis11!Q$15)) -> D | R16: =IF(R$15>teams,"",INDEX(teamsList,Analysis11!R$15)) -> E | S16: =IF(S$15>teams,"",INDEX(teamsList,Analysis11!S$15)) -> F | T16: =IF(T$15>teams,"",INDEX(teamsList,Analysis11!T$15)) -> G | U16: =IF(U$15>teams,"",INDEX(teamsList,Analysis11!U$15)) -> H | ... AM16: =IF(AM$15>teams,"",INDEX(teamsList,Analysis11!AM$15)) | AN16: C.02 | AO16: D.01 | AP16: C | AQ16: D
A17: 1 | B17: E | C17: 02 | D17: J | E17: 02 | F17: =IF(E17<C17,B17&"."&C17,IF(C17<E17,D17&"."&E17,"")) | G17: =IF(E17>C17,B17&"."&C17,IF(C17>E17,D17&"."&E17,"")) | H17: FALSE | I17: =OR(MAX(OFFSET($N17,0,0,1,teams))>$M17,MIN(OFFSET($N17,0,0,1,teams))<$L17) -> FALSE | K17: upfloats | L17: 0 | M17: =MOD(teams,2)*(INT(rounds*(players/2)/teams)+2) -> 3 | N17: =IF(N$15>teams,"",COUNTIF(_xlfn.ANCHORARRAY($AP$11),N$16)) -> 2 | O17: =IF(O$15>teams,"",COUNTIF(_xlfn.ANCHORARRAY($AP$11),O$16)) -> 2 | P17: =IF(P$15>teams,"",COUNTIF(_xlfn.ANCHORARRAY($AP$11),P$16)) -> 2 | Q17: =IF(Q$15>teams,"",COUNTIF(_xlfn.ANCHORARRAY($AP$11),Q$16)) -> 2 | R17: =IF(R$15>teams,"",COUNTIF(_xlfn.ANCHORARRAY($AP$11),R$16)) -> 1 | S17: =IF(S$15>teams,"",COUNTIF(_xlfn.ANCHORARRAY($AP$11),S$16)) -> 1 | T17: =IF(T$15>teams,"",COUNTIF(_xlfn.ANCHORARRAY($AP$11),T$16)) -> 1 | U17: =IF(U$15>teams,"",COUNTIF(_xlfn.ANCHORARRAY($AP$11),U$16)) -> 1 | ... AM17: =IF(AM$15>teams,"",COUNTIF(_xlfn.ANCHORARRAY($AP$11),AM$16)) | AN17: D.04 | AO17: C.03 | AP17: D | AQ17: C
A18: 1 | B18: G | C18: 02 | D18: F | E18: 02 | F18: =IF(E18<C18,B18&"."&C18,IF(C18<E18,D18&"."&E18,"")) | G18: =IF(E18>C18,B18&"."&C18,IF(C18>E18,D18&"."&E18,"")) | H18: FALSE | I18: =OR(MAX(OFFSET($N18,0,0,1,teams))>$M18,MIN(OFFSET($N18,0,0,1,teams))<$L18) -> FALSE | K18: downfloats | L18: 0 | M18: =MOD(teams,2)*(INT(rounds*(players/2)/teams)+2) -> 3 | N18: =IF(N$15>teams,"",COUNTIF(_xlfn.ANCHORARRAY($AQ$11),N$16)) -> 2 | O18: =IF(O$15>teams,"",COUNTIF(_xlfn.ANCHORARRAY($AQ$11),O$16)) -> 2 | P18: =IF(P$15>teams,"",COUNTIF(_xlfn.ANCHORARRAY($AQ$11),P$16)) -> 2 | Q18: =IF(Q$15>teams,"",COUNTIF(_xlfn.ANCHORARRAY($AQ$11),Q$16)) -> 2 | R18: =IF(R$15>teams,"",COUNTIF(_xlfn.ANCHORARRAY($AQ$11),R$16)) -> 1 | S18: =IF(S$15>teams,"",COUNTIF(_xlfn.ANCHORARRAY($AQ$11),S$16)) -> 1 | T18: =IF(T$15>teams,"",COUNTIF(_xlfn.ANCHORARRAY($AQ$11),T$16)) -> 1 | U18: =IF(U$15>teams,"",COUNTIF(_xlfn.ANCHORARRAY($AQ$11),U$16)) -> 1 | ... AM18: =IF(AM$15>teams,"",COUNTIF(_xlfn.ANCHORARRAY($AQ$11),AM$16)) | AN18: I.06 | AO18: J.05 | AP18: I | AQ18: J
A19: 1 | B19: D | C19: 02 | D19: I | E19: 02 | F19: =IF(E19<C19,B19&"."&C19,IF(C19<E19,D19&"."&E19,"")) | G19: =IF(E19>C19,B19&"."&C19,IF(C19>E19,D19&"."&E19,"")) | H19: FALSE | I19: =OR(MAX(OFFSET($N19,0,0,1,teams))>$M19,MIN(OFFSET($N19,0,0,1,teams))<$L19) -> FALSE | K19: balance | L19: -1 | M19: 1 | N19: =IF(N$15>teams,"",N17-N18) -> 0 | O19: =IF(O$15>teams,"",O17-O18) -> 0 | P19: =IF(P$15>teams,"",P17-P18) -> 0 | Q19: =IF(Q$15>teams,"",Q17-Q18) -> 0 | R19: =IF(R$15>teams,"",R17-R18) -> 0 | S19: =IF(S$15>teams,"",S17-S18) -> 0 | T19: =IF(T$15>teams,"",T17-T18) -> 0 | U19: =IF(U$15>teams,"",U17-U18) -> 0 | ... AM19: =IF(AM$15>teams,"",AM17-AM18) | AN19: J.08 | AO19: K.07 | AP19: J | AQ19: K
A20: 1 | B20: B | C20: 02 | D20: H | E20: 02 | F20: =IF(E20<C20,B20&"."&C20,IF(C20<E20,D20&"."&E20,"")) | G20: =IF(E20>C20,B20&"."&C20,IF(C20>E20,D20&"."&E20,"")) | H20: FALSE | J20: 1 | K20: r1 white | L20: =INT(players/2) -> 5 | M20: =L20+MOD(players,2) -> 5 | N20: =IF(N$15>teams,"",COUNTIFS($B:$B,N$16,$A:$A,$J20)) -> 5 | O20: =IF(O$15>teams,"",COUNTIFS($B:$B,O$16,$A:$A,$J20)) -> 5 | P20: =IF(P$15>teams,"",COUNTIFS($B:$B,P$16,$A:$A,$J20)) -> 5 | Q20: =IF(Q$15>teams,"",COUNTIFS($B:$B,Q$16,$A:$A,$J20)) -> 5 | R20: =IF(R$15>teams,"",COUNTIFS($B:$B,R$16,$A:$A,$J20)) -> 5 | S20: =IF(S$15>teams,"",COUNTIFS($B:$B,S$16,$A:$A,$J20)) -> 5 | T20: =IF(T$15>teams,"",COUNTIFS($B:$B,T$16,$A:$A,$J20)) -> 5 | U20: =IF(U$15>teams,"",COUNTIFS($B:$B,U$16,$A:$A,$J20)) -> 5 | ... AM20: =IF(AM$15>teams,"",COUNTIFS($B:$B,AM$16,$A:$A,$J20)) | AN20: K.10 | AO20: I.09 | AP20: K | AQ20: I
A21: 1 | B21: K | C21: 02 | D21: C | E21: 02 | F21: =IF(E21<C21,B21&"."&C21,IF(C21<E21,D21&"."&E21,"")) | G21: =IF(E21>C21,B21&"."&C21,IF(C21>E21,D21&"."&E21,"")) | H21: FALSE | J21: 2 | K21: r2 white | L21: =IF(rounds<$J21,"",L20) -> 5 | M21: =IF(rounds<$J21,"",M20) -> 5 | N21: =IF(N$15>teams,"",COUNTIFS($B:$B,N$16,$A:$A,$J21)) -> 5 | O21: =IF(O$15>teams,"",COUNTIFS($B:$B,O$16,$A:$A,$J21)) -> 5 | P21: =IF(P$15>teams,"",COUNTIFS($B:$B,P$16,$A:$A,$J21)) -> 5 | Q21: =IF(Q$15>teams,"",COUNTIFS($B:$B,Q$16,$A:$A,$J21)) -> 5 | R21: =IF(R$15>teams,"",COUNTIFS($B:$B,R$16,$A:$A,$J21)) -> 5 | S21: =IF(S$15>teams,"",COUNTIFS($B:$B,S$16,$A:$A,$J21)) -> 5 | T21: =IF(T$15>teams,"",COUNTIFS($B:$B,T$16,$A:$A,$J21)) -> 5 | U21: =IF(U$15>teams,"",COUNTIFS($B:$B,U$16,$A:$A,$J21)) -> 5 | ... AM21: =IF(AM$15>teams,"",COUNTIFS($B:$B,AM$16,$A:$A,$J21)) | AN21: B.02 | AO21: A.01 | AP21: B | AQ21: A
A22: 1 | B22: A | C22: 03 | D22: F | E22: 03 | F22: =IF(E22<C22,B22&"."&C22,IF(C22<E22,D22&"."&E22,"")) | G22: =IF(E22>C22,B22&"."&C22,IF(C22>E22,D22&"."&E22,"")) | H22: FALSE | J22: 3 | K22: r3 white | L22: =IF(rounds<$J22,"",L21) -> 5 | M22: =IF(rounds<$J22,"",M21) -> 5 | N22: =IF(N$15>teams,"",COUNTIFS($B:$B,N$16,$A:$A,$J22)) -> 5 | O22: =IF(O$15>teams,"",COUNTIFS($B:$B,O$16,$A:$A,$J22)) -> 5 | P22: =IF(P$15>teams,"",COUNTIFS($B:$B,P$16,$A:$A,$J22)) -> 5 | Q22: =IF(Q$15>teams,"",COUNTIFS($B:$B,Q$16,$A:$A,$J22)) -> 5 | R22: =IF(R$15>teams,"",COUNTIFS($B:$B,R$16,$A:$A,$J22)) -> 5 | S22: =IF(S$15>teams,"",COUNTIFS($B:$B,S$16,$A:$A,$J22)) -> 5 | T22: =IF(T$15>teams,"",COUNTIFS($B:$B,T$16,$A:$A,$J22)) -> 5 | U22: =IF(U$15>teams,"",COUNTIFS($B:$B,U$16,$A:$A,$J22)) -> 5 | ... AM22: =IF(AM$15>teams,"",COUNTIFS($B:$B,AM$16,$A:$A,$J22)) | AN22: A.04 | AO22: G.03 | AP22: A | AQ22: G
A23: 1 | B23: B | C23: 03 | D23: C | E23: 03 | F23: =IF(E23<C23,B23&"."&C23,IF(C23<E23,D23&"."&E23,"")) | G23: =IF(E23>C23,B23&"."&C23,IF(C23>E23,D23&"."&E23,"")) | H23: FALSE | J23: 1 | K23: r1 col diff | N23: =IF(N$15>teams,"",ABS(N20-(players-N20))) -> 0 | O23: =IF(O$15>teams,"",ABS(O20-(players-O20))) -> 0 | P23: =IF(P$15>teams,"",ABS(P20-(players-P20))) -> 0 | Q23: =IF(Q$15>teams,"",ABS(Q20-(players-Q20))) -> 0 | R23: =IF(R$15>teams,"",ABS(R20-(players-R20))) -> 0 | S23: =IF(S$15>teams,"",ABS(S20-(players-S20))) -> 0 | T23: =IF(T$15>teams,"",ABS(T20-(players-T20))) -> 0 | U23: =IF(U$15>teams,"",ABS(U20-(players-U20))) -> 0 | ... AM23: =IF(AM$15>teams,"",ABS(AM20-(players-AM20))) | AN23: G.06 | AO23: B.05 | AP23: G | AQ23: B
A24: 1 | B24: D | C24: 03 | D24: G | E24: 03 | F24: =IF(E24<C24,B24&"."&C24,IF(C24<E24,D24&"."&E24,"")) | G24: =IF(E24>C24,B24&"."&C24,IF(C24>E24,D24&"."&E24,"")) | H24: FALSE | J24: 2 | K24: r2 col diff | N24: =IF(N$15>teams,"",ABS(N21-(players-N21))) -> 0 | O24: =IF(O$15>teams,"",ABS(O21-(players-O21))) -> 0 | P24: =IF(P$15>teams,"",ABS(P21-(players-P21))) -> 0 | Q24: =IF(Q$15>teams,"",ABS(Q21-(players-Q21))) -> 0 | R24: =IF(R$15>teams,"",ABS(R21-(players-R21))) -> 0 | S24: =IF(S$15>teams,"",ABS(S21-(players-S21))) -> 0 | T24: =IF(T$15>teams,"",ABS(T21-(players-T21))) -> 0 | U24: =IF(U$15>teams,"",ABS(U21-(players-U21))) -> 0 | ... AM24: =IF(AM$15>teams,"",ABS(AM21-(players-AM21))) | AN24: E.08 | AO24: D.07 | AP24: E | AQ24: D
A25: 1 | B25: I | C25: 03 | D25: J | E25: 03 | F25: =IF(E25<C25,B25&"."&C25,IF(C25<E25,D25&"."&E25,"")) | G25: =IF(E25>C25,B25&"."&C25,IF(C25>E25,D25&"."&E25,"")) | H25: FALSE | J25: 3 | K25: r3 col diff | N25: =IF(N$15>teams,"",ABS(N22-(players-N22))) -> 0 | O25: =IF(O$15>teams,"",ABS(O22-(players-O22))) -> 0 | P25: =IF(P$15>teams,"",ABS(P22-(players-P22))) -> 0 | Q25: =IF(Q$15>teams,"",ABS(Q22-(players-Q22))) -> 0 | R25: =IF(R$15>teams,"",ABS(R22-(players-R22))) -> 0 | S25: =IF(S$15>teams,"",ABS(S22-(players-S22))) -> 0 | T25: =IF(T$15>teams,"",ABS(T22-(players-T22))) -> 0 | U25: =IF(U$15>teams,"",ABS(U22-(players-U22))) -> 0 | ... AM25: =IF(AM$15>teams,"",ABS(AM22-(players-AM22))) | AN25: D.10 | AO25: F.09 | AP25: D | AQ25: F
A26: 1 | B26: E | C26: 03 | D26: K | E26: 03 | F26: =IF(E26<C26,B26&"."&C26,IF(C26<E26,D26&"."&E26,"")) | G26: =IF(E26>C26,B26&"."&C26,IF(C26>E26,D26&"."&E26,"")) | H26: FALSE
A27: 1 | B27: B | C27: 04 | D27: H | E27: 03 | F27: =IF(E27<C27,B27&"."&C27,IF(C27<E27,D27&"."&E27,"")) -> B.04 | G27: =IF(E27>C27,B27&"."&C27,IF(C27>E27,D27&"."&E27,"")) -> H.03 | H27: FALSE | I27: =OR(MAX(OFFSET($N27,0,0,1,teams))>$M27,MIN(OFFSET($N27,0,0,1,teams))<$L27) -> FALSE | J27: 1 | K27: board white | L27: =INT(rounds/2) -> 1 | M27: =L27+MOD(rounds,2) -> 2 | N27: =IF(N$15>teams,"",COUNTIFS($B:$B,N$16,$C:$C,TEXT($J27,"00"))) -> 1 | O27: =IF(O$15>teams,"",COUNTIFS($B:$B,O$16,$C:$C,TEXT($J27,"00"))) -> 1 | P27: =IF(P$15>teams,"",COUNTIFS($B:$B,P$16,$C:$C,TEXT($J27,"00"))) -> 1 | Q27: =IF(Q$15>teams,"",COUNTIFS($B:$B,Q$16,$C:$C,TEXT($J27,"00"))) -> 1 | R27: =IF(R$15>teams,"",COUNTIFS($B:$B,R$16,$C:$C,TEXT($J27,"00"))) -> 2 | S27: =IF(S$15>teams,"",COUNTIFS($B:$B,S$16,$C:$C,TEXT($J27,"00"))) -> 2 | T27: =IF(T$15>teams,"",COUNTIFS($B:$B,T$16,$C:$C,TEXT($J27,"00"))) -> 1 | U27: =IF(U$15>teams,"",COUNTIFS($B:$B,U$16,$C:$C,TEXT($J27,"00"))) -> 1 | ... AM27: =IF(AM$15>teams,"",COUNTIFS($B:$B,AM$16,$C:$C,TEXT($J27,"00")))
A28: 1 | B28: A | C28: 04 | D28: C | E28: 04 | F28: =IF(E28<C28,B28&"."&C28,IF(C28<E28,D28&"."&E28,"")) | G28: =IF(E28>C28,B28&"."&C28,IF(C28>E28,D28&"."&E28,"")) | H28: FALSE | I28: =OR(MAX(OFFSET($N28,0,0,1,teams))>$M28,MIN(OFFSET($N28,0,0,1,teams))<$L28) -> FALSE | J28: 2 | K28: board white | L28: =L27 -> 1 | M28: =M27 -> 2 | N28: =IF(N$15>teams,"",COUNTIFS($B:$B,N$16,$C:$C,TEXT($J28,"00"))) -> 2 | O28: =IF(O$15>teams,"",COUNTIFS($B:$B,O$16,$C:$C,TEXT($J28,"00"))) -> 2 | P28: =IF(P$15>teams,"",COUNTIFS($B:$B,P$16,$C:$C,TEXT($J28,"00"))) -> 2 | Q28: =IF(Q$15>teams,"",COUNTIFS($B:$B,Q$16,$C:$C,TEXT($J28,"00"))) -> 2 | R28: =IF(R$15>teams,"",COUNTIFS($B:$B,R$16,$C:$C,TEXT($J28,"00"))) -> 1 | S28: =IF(S$15>teams,"",COUNTIFS($B:$B,S$16,$C:$C,TEXT($J28,"00"))) -> 1 | T28: =IF(T$15>teams,"",COUNTIFS($B:$B,T$16,$C:$C,TEXT($J28,"00"))) -> 2 | U28: =IF(U$15>teams,"",COUNTIFS($B:$B,U$16,$C:$C,TEXT($J28,"00"))) -> 2 | ... AM28: =IF(AM$15>teams,"",COUNTIFS($B:$B,AM$16,$C:$C,TEXT($J28,"00")))
A29: 1 | B29: H | C29: 04 | D29: K | E29: 04 | F29: =IF(E29<C29,B29&"."&C29,IF(C29<E29,D29&"."&E29,"")) | G29: =IF(E29>C29,B29&"."&C29,IF(C29>E29,D29&"."&E29,"")) | H29: FALSE | I29: =OR(MAX(OFFSET($N29,0,0,1,teams))>$M29,MIN(OFFSET($N29,0,0,1,teams))<$L29) -> FALSE | J29: 3 | K29: board white | L29: =L28 -> 1 | M29: =M28 -> 2 | N29: =IF(N$15>teams,"",COUNTIFS($B:$B,N$16,$C:$C,TEXT($J29,"00"))) -> 2 | O29: =IF(O$15>teams,"",COUNTIFS($B:$B,O$16,$C:$C,TEXT($J29,"00"))) -> 2 | P29: =IF(P$15>teams,"",COUNTIFS($B:$B,P$16,$C:$C,TEXT($J29,"00"))) -> 1 | Q29: =IF(Q$15>teams,"",COUNTIFS($B:$B,Q$16,$C:$C,TEXT($J29,"00"))) -> 2 | R29: =IF(R$15>teams,"",COUNTIFS($B:$B,R$16,$C:$C,TEXT($J29,"00"))) -> 1 | S29: =IF(S$15>teams,"",COUNTIFS($B:$B,S$16,$C:$C,TEXT($J29,"00"))) -> 1 | T29: =IF(T$15>teams,"",COUNTIFS($B:$B,T$16,$C:$C,TEXT($J29,"00"))) -> 1 | U29: =IF(U$15>teams,"",COUNTIFS($B:$B,U$16,$C:$C,TEXT($J29,"00"))) -> 1 | ... AM29: =IF(AM$15>teams,"",COUNTIFS($B:$B,AM$16,$C:$C,TEXT($J29,"00")))
A30: 1 | B30: F | C30: 04 | D30: D | E30: 04 | F30: =IF(E30<C30,B30&"."&C30,IF(C30<E30,D30&"."&E30,"")) | G30: =IF(E30>C30,B30&"."&C30,IF(C30>E30,D30&"."&E30,"")) | H30: FALSE | I30: =OR(MAX(OFFSET($N30,0,0,1,teams))>$M30,MIN(OFFSET($N30,0,0,1,teams))<$L30) -> FALSE | J30: 4 | K30: board white | L30: =L29 -> 1 | M30: =M29 -> 2 | N30: =IF(N$15>teams,"",COUNTIFS($B:$B,N$16,$C:$C,TEXT($J30,"00"))) -> 2 | O30: =IF(O$15>teams,"",COUNTIFS($B:$B,O$16,$C:$C,TEXT($J30,"00"))) -> 2 | P30: =IF(P$15>teams,"",COUNTIFS($B:$B,P$16,$C:$C,TEXT($J30,"00"))) -> 1 | Q30: =IF(Q$15>teams,"",COUNTIFS($B:$B,Q$16,$C:$C,TEXT($J30,"00"))) -> 1 | R30: =IF(R$15>teams,"",COUNTIFS($B:$B,R$16,$C:$C,TEXT($J30,"00"))) -> 2 | S30: =IF(S$15>teams,"",COUNTIFS($B:$B,S$16,$C:$C,TEXT($J30,"00"))) -> 2 | T30: =IF(T$15>teams,"",COUNTIFS($B:$B,T$16,$C:$C,TEXT($J30,"00"))) -> 1 | U30: =IF(U$15>teams,"",COUNTIFS($B:$B,U$16,$C:$C,TEXT($J30,"00"))) -> 2 | ... AM30: =IF(AM$15>teams,"",COUNTIFS($B:$B,AM$16,$C:$C,TEXT($J30,"00")))
A31: 1 | B31: I | C31: 04 | D31: G | E31: 04 | F31: =IF(E31<C31,B31&"."&C31,IF(C31<E31,D31&"."&E31,"")) | G31: =IF(E31>C31,B31&"."&C31,IF(C31>E31,D31&"."&E31,"")) | H31: FALSE | I31: =OR(MAX(OFFSET($N31,0,0,1,teams))>$M31,MIN(OFFSET($N31,0,0,1,teams))<$L31) -> FALSE | J31: 5 | K31: board white | L31: =L30 -> 1 | M31: =M30 -> 2 | N31: =IF(N$15>teams,"",COUNTIFS($B:$B,N$16,$C:$C,TEXT($J31,"00"))) -> 1 | O31: =IF(O$15>teams,"",COUNTIFS($B:$B,O$16,$C:$C,TEXT($J31,"00"))) -> 1 | P31: =IF(P$15>teams,"",COUNTIFS($B:$B,P$16,$C:$C,TEXT($J31,"00"))) -> 2 | Q31: =IF(Q$15>teams,"",COUNTIFS($B:$B,Q$16,$C:$C,TEXT($J31,"00"))) -> 2 | R31: =IF(R$15>teams,"",COUNTIFS($B:$B,R$16,$C:$C,TEXT($J31,"00"))) -> 1 | S31: =IF(S$15>teams,"",COUNTIFS($B:$B,S$16,$C:$C,TEXT($J31,"00"))) -> 2 | T31: =IF(T$15>teams,"",COUNTIFS($B:$B,T$16,$C:$C,TEXT($J31,"00"))) -> 2 | U31: =IF(U$15>teams,"",COUNTIFS($B:$B,U$16,$C:$C,TEXT($J31,"00"))) -> 1 | ... AM31: =IF(AM$15>teams,"",COUNTIFS($B:$B,AM$16,$C:$C,TEXT($J31,"00")))
A32: 1 | B32: J | C32: 04 | D32: E | E32: 04 | F32: =IF(E32<C32,B32&"."&C32,IF(C32<E32,D32&"."&E32,"")) | G32: =IF(E32>C32,B32&"."&C32,IF(C32>E32,D32&"."&E32,"")) | H32: FALSE | I32: =OR(MAX(OFFSET($N32,0,0,1,teams))>$M32,MIN(OFFSET($N32,0,0,1,teams))<$L32) -> FALSE | J32: 6 | K32: board white | L32: =L31 -> 1 | M32: =M31 -> 2 | N32: =IF(N$15>teams,"",COUNTIFS($B:$B,N$16,$C:$C,TEXT($J32,"00"))) -> 1 | O32: =IF(O$15>teams,"",COUNTIFS($B:$B,O$16,$C:$C,TEXT($J32,"00"))) -> 1 | P32: =IF(P$15>teams,"",COUNTIFS($B:$B,P$16,$C:$C,TEXT($J32,"00"))) -> 2 | Q32: =IF(Q$15>teams,"",COUNTIFS($B:$B,Q$16,$C:$C,TEXT($J32,"00"))) -> 1 | R32: =IF(R$15>teams,"",COUNTIFS($B:$B,R$16,$C:$C,TEXT($J32,"00"))) -> 2 | S32: =IF(S$15>teams,"",COUNTIFS($B:$B,S$16,$C:$C,TEXT($J32,"00"))) -> 1 | T32: =IF(T$15>teams,"",COUNTIFS($B:$B,T$16,$C:$C,TEXT($J32,"00"))) -> 2 | U32: =IF(U$15>teams,"",COUNTIFS($B:$B,U$16,$C:$C,TEXT($J32,"00"))) -> 2 | ... AM32: =IF(AM$15>teams,"",COUNTIFS($B:$B,AM$16,$C:$C,TEXT($J32,"00")))
A33: 1 | B33: C | C33: 05 | D33: H | E33: 05 | F33: =IF(E33<C33,B33&"."&C33,IF(C33<E33,D33&"."&E33,"")) | G33: =IF(E33>C33,B33&"."&C33,IF(C33>E33,D33&"."&E33,"")) | H33: FALSE | I33: =OR(MAX(OFFSET($N33,0,0,1,teams))>$M33,MIN(OFFSET($N33,0,0,1,teams))<$L33) -> FALSE | J33: 7 | K33: board white | L33: =L32 -> 1 | M33: =M32 -> 2 | N33: =IF(N$15>teams,"",COUNTIFS($B:$B,N$16,$C:$C,TEXT($J33,"00"))) -> 1 | O33: =IF(O$15>teams,"",COUNTIFS($B:$B,O$16,$C:$C,TEXT($J33,"00"))) -> 1 | P33: =IF(P$15>teams,"",COUNTIFS($B:$B,P$16,$C:$C,TEXT($J33,"00"))) -> 2 | Q33: =IF(Q$15>teams,"",COUNTIFS($B:$B,Q$16,$C:$C,TEXT($J33,"00"))) -> 1 | R33: =IF(R$15>teams,"",COUNTIFS($B:$B,R$16,$C:$C,TEXT($J33,"00"))) -> 1 | S33: =IF(S$15>teams,"",COUNTIFS($B:$B,S$16,$C:$C,TEXT($J33,"00"))) -> 1 | T33: =IF(T$15>teams,"",COUNTIFS($B:$B,T$16,$C:$C,TEXT($J33,"00"))) -> 2 | U33: =IF(U$15>teams,"",COUNTIFS($B:$B,U$16,$C:$C,TEXT($J33,"00"))) -> 2 | ... AM33: =IF(AM$15>teams,"",COUNTIFS($B:$B,AM$16,$C:$C,TEXT($J33,"00")))
A34: 1 | B34: G | C34: 05 | D34: K | E34: 05 | F34: =IF(E34<C34,B34&"."&C34,IF(C34<E34,D34&"."&E34,"")) | G34: =IF(E34>C34,B34&"."&C34,IF(C34>E34,D34&"."&E34,"")) | H34: FALSE | I34: =OR(MAX(OFFSET($N34,0,0,1,teams))>$M34,MIN(OFFSET($N34,0,0,1,teams))<$L34) -> FALSE | J34: 8 | K34: board white | L34: =L33 -> 1 | M34: =M33 -> 2 | N34: =IF(N$15>teams,"",COUNTIFS($B:$B,N$16,$C:$C,TEXT($J34,"00"))) -> 1 | O34: =IF(O$15>teams,"",COUNTIFS($B:$B,O$16,$C:$C,TEXT($J34,"00"))) -> 1 | P34: =IF(P$15>teams,"",COUNTIFS($B:$B,P$16,$C:$C,TEXT($J34,"00"))) -> 2 | Q34: =IF(Q$15>teams,"",COUNTIFS($B:$B,Q$16,$C:$C,TEXT($J34,"00"))) -> 2 | R34: =IF(R$15>teams,"",COUNTIFS($B:$B,R$16,$C:$C,TEXT($J34,"00"))) -> 2 | S34: =IF(S$15>teams,"",COUNTIFS($B:$B,S$16,$C:$C,TEXT($J34,"00"))) -> 2 | T34: =IF(T$15>teams,"",COUNTIFS($B:$B,T$16,$C:$C,TEXT($J34,"00"))) -> 2 | U34: =IF(U$15>teams,"",COUNTIFS($B:$B,U$16,$C:$C,TEXT($J34,"00"))) -> 1 | ... AM34: =IF(AM$15>teams,"",COUNTIFS($B:$B,AM$16,$C:$C,TEXT($J34,"00")))
A35: 1 | B35: D | C35: 05 | D35: J | E35: 05 | F35: =IF(E35<C35,B35&"."&C35,IF(C35<E35,D35&"."&E35,"")) | G35: =IF(E35>C35,B35&"."&C35,IF(C35>E35,D35&"."&E35,"")) | H35: FALSE | I35: =OR(MAX(OFFSET($N35,0,0,1,teams))>$M35,MIN(OFFSET($N35,0,0,1,teams))<$L35) -> FALSE | J35: 9 | K35: board white | L35: =L34 -> 1 | M35: =M34 -> 2 | N35: =IF(N$15>teams,"",COUNTIFS($B:$B,N$16,$C:$C,TEXT($J35,"00"))) -> 2 | O35: =IF(O$15>teams,"",COUNTIFS($B:$B,O$16,$C:$C,TEXT($J35,"00"))) -> 2 | P35: =IF(P$15>teams,"",COUNTIFS($B:$B,P$16,$C:$C,TEXT($J35,"00"))) -> 1 | Q35: =IF(Q$15>teams,"",COUNTIFS($B:$B,Q$16,$C:$C,TEXT($J35,"00"))) -> 1 | R35: =IF(R$15>teams,"",COUNTIFS($B:$B,R$16,$C:$C,TEXT($J35,"00"))) -> 1 | S35: =IF(S$15>teams,"",COUNTIFS($B:$B,S$16,$C:$C,TEXT($J35,"00"))) -> 1 | T35: =IF(T$15>teams,"",COUNTIFS($B:$B,T$16,$C:$C,TEXT($J35,"00"))) -> 1 | U35: =IF(U$15>teams,"",COUNTIFS($B:$B,U$16,$C:$C,TEXT($J35,"00"))) -> 2 | ... AM35: =IF(AM$15>teams,"",COUNTIFS($B:$B,AM$16,$C:$C,TEXT($J35,"00")))
A36: 1 | B36: E | C36: 05 | D36: I | E36: 05 | F36: =IF(E36<C36,B36&"."&C36,IF(C36<E36,D36&"."&E36,"")) | G36: =IF(E36>C36,B36&"."&C36,IF(C36>E36,D36&"."&E36,"")) | H36: FALSE | I36: =OR(MAX(OFFSET($N36,0,0,1,teams))>$M36,MIN(OFFSET($N36,0,0,1,teams))<$L36) -> FALSE | J36: 10 | K36: board white | L36: =L35 -> 1 | M36: =M35 -> 2 | N36: =IF(N$15>teams,"",COUNTIFS($B:$B,N$16,$C:$C,TEXT($J36,"00"))) -> 2 | O36: =IF(O$15>teams,"",COUNTIFS($B:$B,O$16,$C:$C,TEXT($J36,"00"))) -> 2 | P36: =IF(P$15>teams,"",COUNTIFS($B:$B,P$16,$C:$C,TEXT($J36,"00"))) -> 1 | Q36: =IF(Q$15>teams,"",COUNTIFS($B:$B,Q$16,$C:$C,TEXT($J36,"00"))) -> 2 | R36: =IF(R$15>teams,"",COUNTIFS($B:$B,R$16,$C:$C,TEXT($J36,"00"))) -> 2 | S36: =IF(S$15>teams,"",COUNTIFS($B:$B,S$16,$C:$C,TEXT($J36,"00"))) -> 2 | T36: =IF(T$15>teams,"",COUNTIFS($B:$B,T$16,$C:$C,TEXT($J36,"00"))) -> 1 | U36: =IF(U$15>teams,"",COUNTIFS($B:$B,U$16,$C:$C,TEXT($J36,"00"))) -> 1 | ... AM36: =IF(AM$15>teams,"",COUNTIFS($B:$B,AM$16,$C:$C,TEXT($J36,"00")))
A37: 1 | B37: F | C37: 05 | D37: B | E37: 05 | F37: =IF(E37<C37,B37&"."&C37,IF(C37<E37,D37&"."&E37,"")) | G37: =IF(E37>C37,B37&"."&C37,IF(C37>E37,D37&"."&E37,"")) | H37: FALSE | I37: =OR(MAX(OFFSET($N37,0,0,1,teams))>$M37,MIN(OFFSET($N37,0,0,1,teams))<$L37) -> FALSE | K37: total white | L37: =INT(rounds*players/2) -> 15 | M37: =L37+MOD(players,2) -> 15 | N37: =IF(N$15>teams,"",SUM(N20:N22)) -> 15 | O37: =IF(O$15>teams,"",SUM(O20:O22)) -> 15 | P37: =IF(P$15>teams,"",SUM(P20:P22)) -> 15 | Q37: =IF(Q$15>teams,"",SUM(Q20:Q22)) -> 15 | R37: =IF(R$15>teams,"",SUM(R20:R22)) -> 15 | S37: =IF(S$15>teams,"",SUM(S20:S22)) -> 15 | T37: =IF(T$15>teams,"",SUM(T20:T22)) -> 15 | U37: =IF(U$15>teams,"",SUM(U20:U22)) -> 15 | ... AM37: =IF(AM$15>teams,"",SUM(AM20:AM22))
A38: 1 | B38: H | C38: 06 | D38: A | E38: 05 | F38: =IF(E38<C38,B38&"."&C38,IF(C38<E38,D38&"."&E38,"")) -> H.06 | G38: =IF(E38>C38,B38&"."&C38,IF(C38>E38,D38&"."&E38,"")) -> A.05 | H38: FALSE
A39: 1 | B39: C | C39: 06 | D39: B | E39: 06 | F39: =IF(E39<C39,B39&"."&C39,IF(C39<E39,D39&"."&E39,"")) | G39: =IF(E39>C39,B39&"."&C39,IF(C39>E39,D39&"."&E39,"")) | H39: FALSE | I39: =OR(MAX(OFFSET($N39,0,0,1,teams))>$M39,MIN(OFFSET($N39,0,0,1,teams))<$L39) -> FALSE | K39: opponents | L39: 0 | M39: 0 | N39: =IF(N$15>teams,"",SUM(OFFSET(N$41,0,0,players,1))) -> 0 | O39: =IF(O$15>teams,"",SUM(OFFSET(O$41,0,0,players,1))) -> 0 | P39: =IF(P$15>teams,"",SUM(OFFSET(P$41,0,0,players,1))) -> 0 | Q39: =IF(Q$15>teams,"",SUM(OFFSET(Q$41,0,0,players,1))) -> 0 | R39: =IF(R$15>teams,"",SUM(OFFSET(R$41,0,0,players,1))) -> 0 | S39: =IF(S$15>teams,"",SUM(OFFSET(S$41,0,0,players,1))) -> 0 | T39: =IF(T$15>teams,"",SUM(OFFSET(T$41,0,0,players,1))) -> 0 | U39: =IF(U$15>teams,"",SUM(OFFSET(U$41,0,0,players,1))) -> 0 | ... Y39: =IF(Y$15>teams,"",SUM(OFFSET(Y$41,0,0,players,1))) | Z39: =IF(Z$15>teams,"",SUM(OFFSET(#REF!,0,3*(Z$15-1),players,1))) | AA39: =IF(AA$15>teams,"",SUM(OFFSET(#REF!,0,3*(AA$15-1),players,1))) | AB39: =IF(AB$15>teams,"",SUM(OFFSET(#REF!,0,3*(AB$15-1),players,1))) | AC39: =IF(AC$15>teams,"",SUM(OFFSET(#REF!,0,3*(AC$15-1),players,1))) | AD39: =IF(AD$15>teams,"",SUM(OFFSET(#REF!,0,3*(AD$15-1),players,1))) | AE39: =IF(AE$15>teams,"",SUM(OFFSET(#REF!,0,3*(AE$15-1),players,1))) | AF39: =IF(AF$15>teams,"",SUM(OFFSET(#REF!,0,3*(AF$15-1),players,1))) | AG39: =IF(AG$15>teams,"",SUM(OFFSET(#REF!,0,3*(AG$15-1),players,1))) | ... AM39: =IF(AM$15>teams,"",SUM(OFFSET(#REF!,0,3*(AM$15-1),players,1)))
A40: 1 | B40: I | C40: 06 | D40: D | E40: 06 | F40: =IF(E40<C40,B40&"."&C40,IF(C40<E40,D40&"."&E40,"")) | G40: =IF(E40>C40,B40&"."&C40,IF(C40>E40,D40&"."&E40,"")) | H40: FALSE | K40: repeated opposing teams
A41: 1 | B41: J | C41: 06 | D41: F | E41: 06 | F41: =IF(E41<C41,B41&"."&C41,IF(C41<E41,D41&"."&E41,"")) | G41: =IF(E41>C41,B41&"."&C41,IF(C41>E41,D41&"."&E41,"")) | H41: FALSE | J41: 1 | K41: board | L41: 0 | M41: =INT(rounds/(teams-1)) -> 0 | N41: =IF(N$15>teams,"",(N81=N92)+(N81=N103)+(N92=N103)) -> 0 | O41: =IF(O$15>teams,"",(O81=O92)+(O81=O103)+(O92=O103)) -> 0 | P41: =IF(P$15>teams,"",(P81=P92)+(P81=P103)+(P92=P103)) -> 0 | Q41: =IF(Q$15>teams,"",(Q81=Q92)+(Q81=Q103)+(Q92=Q103)) -> 0 | R41: =IF(R$15>teams,"",(R81=R92)+(R81=R103)+(R92=R103)) -> 0 | S41: =IF(S$15>teams,"",(S81=S92)+(S81=S103)+(S92=S103)) -> 0 | T41: =IF(T$15>teams,"",(T81=T92)+(T81=T103)+(T92=T103)) -> 0 | U41: =IF(U$15>teams,"",(U81=U92)+(U81=U103)+(U92=U103)) -> 0 | ... Y41: =IF(Y$15>teams,"",(Y81=Y92)+(Y81=Y103)+(Y92=Y103)) | Z41: =IF(Z$15>teams,"",OFFSET(#REF!,$J41,3*(Z$15-1))) | AA41: =IF(AA$15>teams,"",OFFSET(#REF!,$J41,3*(AA$15-1))) | AB41: =IF(AB$15>teams,"",OFFSET(#REF!,$J41,3*(AB$15-1))) | AC41: =IF(AC$15>teams,"",OFFSET(#REF!,$J41,3*(AC$15-1))) | AD41: =IF(AD$15>teams,"",OFFSET(#REF!,$J41,3*(AD$15-1))) | AE41: =IF(AE$15>teams,"",OFFSET(#REF!,$J41,3*(AE$15-1))) | AF41: =IF(AF$15>teams,"",OFFSET(#REF!,$J41,3*(AF$15-1))) | AG41: =IF(AG$15>teams,"",OFFSET(#REF!,$J41,3*(AG$15-1))) | ... AM41: =IF(AM$15>teams,"",OFFSET(#REF!,$J41,3*(AM$15-1)))
A42: 1 | B42: G | C42: 06 | D42: A | E42: 06 | F42: =IF(E42<C42,B42&"."&C42,IF(C42<E42,D42&"."&E42,"")) | G42: =IF(E42>C42,B42&"."&C42,IF(C42>E42,D42&"."&E42,"")) | H42: FALSE | J42: 2 | K42: board | L42: 0 | M42: =INT(rounds/(teams-1)) -> 0 | N42: =IF(N$15>teams,"",(N82=N93)+(N82=N104)+(N93=N104)) -> 0 | O42: =IF(O$15>teams,"",(O82=O93)+(O82=O104)+(O93=O104)) -> 0 | P42: =IF(P$15>teams,"",(P82=P93)+(P82=P104)+(P93=P104)) -> 0 | Q42: =IF(Q$15>teams,"",(Q82=Q93)+(Q82=Q104)+(Q93=Q104)) -> 0 | R42: =IF(R$15>teams,"",(R82=R93)+(R82=R104)+(R93=R104)) -> 0 | S42: =IF(S$15>teams,"",(S82=S93)+(S82=S104)+(S93=S104)) -> 0 | T42: =IF(T$15>teams,"",(T82=T93)+(T82=T104)+(T93=T104)) -> 0 | U42: =IF(U$15>teams,"",(U82=U93)+(U82=U104)+(U93=U104)) -> 0 | ... Y42: =IF(Y$15>teams,"",(Y82=Y93)+(Y82=Y104)+(Y93=Y104)) | Z42: =IF(Z$15>teams,"",OFFSET(#REF!,$J42,3*(Z$15-1))) | AA42: =IF(AA$15>teams,"",OFFSET(#REF!,$J42,3*(AA$15-1))) | AB42: =IF(AB$15>teams,"",OFFSET(#REF!,$J42,3*(AB$15-1))) | AC42: =IF(AC$15>teams,"",OFFSET(#REF!,$J42,3*(AC$15-1))) | AD42: =IF(AD$15>teams,"",OFFSET(#REF!,$J42,3*(AD$15-1))) | AE42: =IF(AE$15>teams,"",OFFSET(#REF!,$J42,3*(AE$15-1))) | AF42: =IF(AF$15>teams,"",OFFSET(#REF!,$J42,3*(AF$15-1))) | AG42: =IF(AG$15>teams,"",OFFSET(#REF!,$J42,3*(AG$15-1))) | ... AM42: =IF(AM$15>teams,"",OFFSET(#REF!,$J42,3*(AM$15-1)))
A43: 1 | B43: K | C43: 06 | D43: E | E43: 06 | F43: =IF(E43<C43,B43&"."&C43,IF(C43<E43,D43&"."&E43,"")) | G43: =IF(E43>C43,B43&"."&C43,IF(C43>E43,D43&"."&E43,"")) | H43: FALSE | J43: 3 | K43: board | L43: 0 | M43: =INT(rounds/(teams-1)) -> 0 | N43: =IF(N$15>teams,"",(N83=N94)+(N83=N105)+(N94=N105)) -> 0 | O43: =IF(O$15>teams,"",(O83=O94)+(O83=O105)+(O94=O105)) -> 0 | P43: =IF(P$15>teams,"",(P83=P94)+(P83=P105)+(P94=P105)) -> 0 | Q43: =IF(Q$15>teams,"",(Q83=Q94)+(Q83=Q105)+(Q94=Q105)) -> 0 | R43: =IF(R$15>teams,"",(R83=R94)+(R83=R105)+(R94=R105)) -> 0 | S43: =IF(S$15>teams,"",(S83=S94)+(S83=S105)+(S94=S105)) -> 0 | T43: =IF(T$15>teams,"",(T83=T94)+(T83=T105)+(T94=T105)) -> 0 | U43: =IF(U$15>teams,"",(U83=U94)+(U83=U105)+(U94=U105)) -> 0 | ... Y43: =IF(Y$15>teams,"",(Y83=Y94)+(Y83=Y105)+(Y94=Y105)) | Z43: =IF(Z$15>teams,"",OFFSET(#REF!,$J43,3*(Z$15-1))) | AA43: =IF(AA$15>teams,"",OFFSET(#REF!,$J43,3*(AA$15-1))) | AB43: =IF(AB$15>teams,"",OFFSET(#REF!,$J43,3*(AB$15-1))) | AC43: =IF(AC$15>teams,"",OFFSET(#REF!,$J43,3*(AC$15-1))) | AD43: =IF(AD$15>teams,"",OFFSET(#REF!,$J43,3*(AD$15-1))) | AE43: =IF(AE$15>teams,"",OFFSET(#REF!,$J43,3*(AE$15-1))) | AF43: =IF(AF$15>teams,"",OFFSET(#REF!,$J43,3*(AF$15-1))) | AG43: =IF(AG$15>teams,"",OFFSET(#REF!,$J43,3*(AG$15-1))) | ... AM43: =IF(AM$15>teams,"",OFFSET(#REF!,$J43,3*(AM$15-1)))
A44: 1 | B44: C | C44: 07 | D44: B | E44: 07 | F44: =IF(E44<C44,B44&"."&C44,IF(C44<E44,D44&"."&E44,"")) | G44: =IF(E44>C44,B44&"."&C44,IF(C44>E44,D44&"."&E44,"")) | H44: FALSE | J44: 4 | K44: board | L44: 0 | M44: =INT(rounds/(teams-1)) -> 0 | N44: =IF(N$15>teams,"",(N84=N95)+(N84=N106)+(N95=N106)) -> 0 | O44: =IF(O$15>teams,"",(O84=O95)+(O84=O106)+(O95=O106)) -> 0 | P44: =IF(P$15>teams,"",(P84=P95)+(P84=P106)+(P95=P106)) -> 0 | Q44: =IF(Q$15>teams,"",(Q84=Q95)+(Q84=Q106)+(Q95=Q106)) -> 0 | R44: =IF(R$15>teams,"",(R84=R95)+(R84=R106)+(R95=R106)) -> 0 | S44: =IF(S$15>teams,"",(S84=S95)+(S84=S106)+(S95=S106)) -> 0 | T44: =IF(T$15>teams,"",(T84=T95)+(T84=T106)+(T95=T106)) -> 0 | U44: =IF(U$15>teams,"",(U84=U95)+(U84=U106)+(U95=U106)) -> 0 | ... Y44: =IF(Y$15>teams,"",(Y84=Y95)+(Y84=Y106)+(Y95=Y106)) | Z44: =IF(Z$15>teams,"",OFFSET(#REF!,$J44,3*(Z$15-1))) | AA44: =IF(AA$15>teams,"",OFFSET(#REF!,$J44,3*(AA$15-1))) | AB44: =IF(AB$15>teams,"",OFFSET(#REF!,$J44,3*(AB$15-1))) | AC44: =IF(AC$15>teams,"",OFFSET(#REF!,$J44,3*(AC$15-1))) | AD44: =IF(AD$15>teams,"",OFFSET(#REF!,$J44,3*(AD$15-1))) | AE44: =IF(AE$15>teams,"",OFFSET(#REF!,$J44,3*(AE$15-1))) | AF44: =IF(AF$15>teams,"",OFFSET(#REF!,$J44,3*(AF$15-1))) | AG44: =IF(AG$15>teams,"",OFFSET(#REF!,$J44,3*(AG$15-1))) | ... AM44: =IF(AM$15>teams,"",OFFSET(#REF!,$J44,3*(AM$15-1)))
A45: 1 | B45: G | C45: 07 | D45: D | E45: 07 | F45: =IF(E45<C45,B45&"."&C45,IF(C45<E45,D45&"."&E45,"")) | G45: =IF(E45>C45,B45&"."&C45,IF(C45>E45,D45&"."&E45,"")) | H45: FALSE | J45: 5 | K45: board | L45: 0 | M45: =INT(rounds/(teams-1)) -> 0 | N45: =IF(N$15>teams,"",(N85=N96)+(N85=N107)+(N96=N107)) -> 0 | O45: =IF(O$15>teams,"",(O85=O96)+(O85=O107)+(O96=O107)) -> 0 | P45: =IF(P$15>teams,"",(P85=P96)+(P85=P107)+(P96=P107)) -> 0 | Q45: =IF(Q$15>teams,"",(Q85=Q96)+(Q85=Q107)+(Q96=Q107)) -> 0 | R45: =IF(R$15>teams,"",(R85=R96)+(R85=R107)+(R96=R107)) -> 0 | S45: =IF(S$15>teams,"",(S85=S96)+(S85=S107)+(S96=S107)) -> 0 | T45: =IF(T$15>teams,"",(T85=T96)+(T85=T107)+(T96=T107)) -> 0 | U45: =IF(U$15>teams,"",(U85=U96)+(U85=U107)+(U96=U107)) -> 0 | ... Y45: =IF(Y$15>teams,"",(Y85=Y96)+(Y85=Y107)+(Y96=Y107))
A46: 1 | B46: H | C46: 07 | D46: J | E46: 07 | F46: =IF(E46<C46,B46&"."&C46,IF(C46<E46,D46&"."&E46,"")) | G46: =IF(E46>C46,B46&"."&C46,IF(C46>E46,D46&"."&E46,"")) | H46: FALSE | J46: 6 | K46: board | L46: 0 | M46: =INT(rounds/(teams-1)) -> 0 | N46: =IF(N$15>teams,"",(N86=N97)+(N86=N108)+(N97=N108)) -> 0 | O46: =IF(O$15>teams,"",(O86=O97)+(O86=O108)+(O97=O108)) -> 0 | P46: =IF(P$15>teams,"",(P86=P97)+(P86=P108)+(P97=P108)) -> 0 | Q46: =IF(Q$15>teams,"",(Q86=Q97)+(Q86=Q108)+(Q97=Q108)) -> 0 | R46: =IF(R$15>teams,"",(R86=R97)+(R86=R108)+(R97=R108)) -> 0 | S46: =IF(S$15>teams,"",(S86=S97)+(S86=S108)+(S97=S108)) -> 0 | T46: =IF(T$15>teams,"",(T86=T97)+(T86=T108)+(T97=T108)) -> 0 | U46: =IF(U$15>teams,"",(U86=U97)+(U86=U108)+(U97=U108)) -> 0 | ... Y46: =IF(Y$15>teams,"",(Y86=Y97)+(Y86=Y108)+(Y97=Y108))
A47: 1 | B47: F | C47: 07 | D47: K | E47: 07 | F47: =IF(E47<C47,B47&"."&C47,IF(C47<E47,D47&"."&E47,"")) | G47: =IF(E47>C47,B47&"."&C47,IF(C47>E47,D47&"."&E47,"")) | H47: FALSE | J47: 7 | K47: board | L47: 0 | M47: =INT(rounds/(teams-1)) -> 0 | N47: =IF(N$15>teams,"",(N87=N98)+(N87=N109)+(N98=N109)) -> 0 | O47: =IF(O$15>teams,"",(O87=O98)+(O87=O109)+(O98=O109)) -> 0 | P47: =IF(P$15>teams,"",(P87=P98)+(P87=P109)+(P98=P109)) -> 0 | Q47: =IF(Q$15>teams,"",(Q87=Q98)+(Q87=Q109)+(Q98=Q109)) -> 0 | R47: =IF(R$15>teams,"",(R87=R98)+(R87=R109)+(R98=R109)) -> 0 | S47: =IF(S$15>teams,"",(S87=S98)+(S87=S109)+(S98=S109)) -> 0 | T47: =IF(T$15>teams,"",(T87=T98)+(T87=T109)+(T98=T109)) -> 0 | U47: =IF(U$15>teams,"",(U87=U98)+(U87=U109)+(U98=U109)) -> 0 | ... Y47: =IF(Y$15>teams,"",(Y87=Y98)+(Y87=Y109)+(Y98=Y109))
A48: 1 | B48: I | C48: 07 | D48: A | E48: 07 | F48: =IF(E48<C48,B48&"."&C48,IF(C48<E48,D48&"."&E48,"")) | G48: =IF(E48>C48,B48&"."&C48,IF(C48>E48,D48&"."&E48,"")) | H48: FALSE | J48: 8 | K48: board | L48: 0 | M48: =INT(rounds/(teams-1)) -> 0 | N48: =IF(N$15>teams,"",(N88=N99)+(N88=N110)+(N99=N110)) -> 0 | O48: =IF(O$15>teams,"",(O88=O99)+(O88=O110)+(O99=O110)) -> 0 | P48: =IF(P$15>teams,"",(P88=P99)+(P88=P110)+(P99=P110)) -> 0 | Q48: =IF(Q$15>teams,"",(Q88=Q99)+(Q88=Q110)+(Q99=Q110)) -> 0 | R48: =IF(R$15>teams,"",(R88=R99)+(R88=R110)+(R99=R110)) -> 0 | S48: =IF(S$15>teams,"",(S88=S99)+(S88=S110)+(S99=S110)) -> 0 | T48: =IF(T$15>teams,"",(T88=T99)+(T88=T110)+(T99=T110)) -> 0 | U48: =IF(U$15>teams,"",(U88=U99)+(U88=U110)+(U99=U110)) -> 0 | ... Y48: =IF(Y$15>teams,"",(Y88=Y99)+(Y88=Y110)+(Y99=Y110))
A49: 1 | B49: C | C49: 08 | D49: E | E49: 07 | F49: =IF(E49<C49,B49&"."&C49,IF(C49<E49,D49&"."&E49,"")) -> C.08 | G49: =IF(E49>C49,B49&"."&C49,IF(C49>E49,D49&"."&E49,"")) -> E.07 | H49: FALSE | J49: 9 | K49: board | L49: 0 | M49: =INT(rounds/(teams-1)) -> 0 | N49: =IF(N$15>teams,"",(N89=N100)+(N89=N111)+(N100=N111)) -> 0 | O49: =IF(O$15>teams,"",(O89=O100)+(O89=O111)+(O100=O111)) -> 0 | P49: =IF(P$15>teams,"",(P89=P100)+(P89=P111)+(P100=P111)) -> 0 | Q49: =IF(Q$15>teams,"",(Q89=Q100)+(Q89=Q111)+(Q100=Q111)) -> 0 | R49: =IF(R$15>teams,"",(R89=R100)+(R89=R111)+(R100=R111)) -> 0 | S49: =IF(S$15>teams,"",(S89=S100)+(S89=S111)+(S100=S111)) -> 0 | T49: =IF(T$15>teams,"",(T89=T100)+(T89=T111)+(T100=T111)) -> 0 | U49: =IF(U$15>teams,"",(U89=U100)+(U89=U111)+(U100=U111)) -> 0 | ... Y49: =IF(Y$15>teams,"",(Y89=Y100)+(Y89=Y111)+(Y100=Y111))
A50: 1 | B50: J | C50: 08 | D50: A | E50: 08 | F50: =IF(E50<C50,B50&"."&C50,IF(C50<E50,D50&"."&E50,"")) | G50: =IF(E50>C50,B50&"."&C50,IF(C50>E50,D50&"."&E50,"")) | H50: FALSE | J50: 10 | K50: board | L50: 0 | M50: =INT(rounds/(teams-1)) -> 0 | N50: =IF(N$15>teams,"",(N90=N101)+(N90=N112)+(N101=N112)) -> 0 | O50: =IF(O$15>teams,"",(O90=O101)+(O90=O112)+(O101=O112)) -> 0 | P50: =IF(P$15>teams,"",(P90=P101)+(P90=P112)+(P101=P112)) -> 0 | Q50: =IF(Q$15>teams,"",(Q90=Q101)+(Q90=Q112)+(Q101=Q112)) -> 0 | R50: =IF(R$15>teams,"",(R90=R101)+(R90=R112)+(R101=R112)) -> 0 | S50: =IF(S$15>teams,"",(S90=S101)+(S90=S112)+(S101=S112)) -> 0 | T50: =IF(T$15>teams,"",(T90=T101)+(T90=T112)+(T101=T112)) -> 0 | U50: =IF(U$15>teams,"",(U90=U101)+(U90=U112)+(U101=U112)) -> 0 | ... Y50: =IF(Y$15>teams,"",(Y90=Y101)+(Y90=Y112)+(Y101=Y112))
A51: 1 | B51: D | C51: 08 | D51: K | E51: 08 | F51: =IF(E51<C51,B51&"."&C51,IF(C51<E51,D51&"."&E51,"")) | G51: =IF(E51>C51,B51&"."&C51,IF(C51>E51,D51&"."&E51,"")) | H51: FALSE | K51: opponents | N51: =IF(N$15>teams,"",INDEX(teamsList,Analysis11!N$15)) -> A | O51: =IF(O$15>teams,"",INDEX(teamsList,Analysis11!O$15)) -> B | P51: =IF(P$15>teams,"",INDEX(teamsList,Analysis11!P$15)) -> C | Q51: =IF(Q$15>teams,"",INDEX(teamsList,Analysis11!Q$15)) -> D | R51: =IF(R$15>teams,"",INDEX(teamsList,Analysis11!R$15)) -> E | S51: =IF(S$15>teams,"",INDEX(teamsList,Analysis11!S$15)) -> F | T51: =IF(T$15>teams,"",INDEX(teamsList,Analysis11!T$15)) -> G | U51: =IF(U$15>teams,"",INDEX(teamsList,Analysis11!U$15)) -> H | ... AM51: =IF(AM$15>teams,"",INDEX(teamsList,Analysis11!AM$15))
A52: 1 | B52: G | C52: 08 | D52: H | E52: 08 | F52: =IF(E52<C52,B52&"."&C52,IF(C52<E52,D52&"."&E52,"")) | G52: =IF(E52>C52,B52&"."&C52,IF(C52>E52,D52&"."&E52,"")) | H52: FALSE | I52: =IF($J52>teams,"",OR(MAX(OFFSET($N52,0,0,1,teams))>$M52,MIN(OFFSET($N52,0,0,1,teams))<$L52)) -> FALSE | J52: 1 | K52: A | L52: =INT(players*rounds/(teams-1)) -> 3 | M52: =L52+IF(MOD(players*rounds,teams-1)=0,0,1) -> 3 | N52: =IF(OR($J52>teams,N$15>teams,$K52=N$16),"",COUNTIFS($B:$B,$K52,$D:$D,N$16)+COUNTIFS($D:$D,$K52,$B:$B,N$16)) | O52: =IF(OR($J52>teams,O$15>teams,$K52=O$16),"",COUNTIFS($B:$B,$K52,$D:$D,O$16)+COUNTIFS($D:$D,$K52,$B:$B,O$16)) -> 3 | P52: =IF(OR($J52>teams,P$15>teams,$K52=P$16),"",COUNTIFS($B:$B,$K52,$D:$D,P$16)+COUNTIFS($D:$D,$K52,$B:$B,P$16)) -> 3 | Q52: =IF(OR($J52>teams,Q$15>teams,$K52=Q$16),"",COUNTIFS($B:$B,$K52,$D:$D,Q$16)+COUNTIFS($D:$D,$K52,$B:$B,Q$16)) -> 3 | R52: =IF(OR($J52>teams,R$15>teams,$K52=R$16),"",COUNTIFS($B:$B,$K52,$D:$D,R$16)+COUNTIFS($D:$D,$K52,$B:$B,R$16)) -> 3 | S52: =IF(OR($J52>teams,S$15>teams,$K52=S$16),"",COUNTIFS($B:$B,$K52,$D:$D,S$16)+COUNTIFS($D:$D,$K52,$B:$B,S$16)) -> 3 | T52: =IF(OR($J52>teams,T$15>teams,$K52=T$16),"",COUNTIFS($B:$B,$K52,$D:$D,T$16)+COUNTIFS($D:$D,$K52,$B:$B,T$16)) -> 3 | U52: =IF(OR($J52>teams,U$15>teams,$K52=U$16),"",COUNTIFS($B:$B,$K52,$D:$D,U$16)+COUNTIFS($D:$D,$K52,$B:$B,U$16)) -> 3 | ... AM52: =IF(OR($J52>teams,AM$15>teams,$K52=AM$16),"",COUNTIFS($B:$B,$K52,$D:$D,AM$16)+COUNTIFS($D:$D,$K52,$B:$B,AM$16))
A53: 1 | B53: I | C53: 08 | D53: B | E53: 08 | F53: =IF(E53<C53,B53&"."&C53,IF(C53<E53,D53&"."&E53,"")) | G53: =IF(E53>C53,B53&"."&C53,IF(C53>E53,D53&"."&E53,"")) | H53: FALSE | I53: =IF($J53>teams,"",OR(MAX(OFFSET($N53,0,0,1,teams))>$M53,MIN(OFFSET($N53,0,0,1,teams))<$L53)) -> FALSE | J53: 2 | K53: B | L53: =INT(players*rounds/(teams-1)) -> 3 | M53: =L53+IF(MOD(players*rounds,teams-1)=0,0,1) -> 3 | N53: =IF(OR($J53>teams,N$15>teams,$K53=N$16),"",COUNTIFS($B:$B,$K53,$D:$D,N$16)+COUNTIFS($D:$D,$K53,$B:$B,N$16)) -> 3 | O53: =IF(OR($J53>teams,O$15>teams,$K53=O$16),"",COUNTIFS($B:$B,$K53,$D:$D,O$16)+COUNTIFS($D:$D,$K53,$B:$B,O$16)) | P53: =IF(OR($J53>teams,P$15>teams,$K53=P$16),"",COUNTIFS($B:$B,$K53,$D:$D,P$16)+COUNTIFS($D:$D,$K53,$B:$B,P$16)) -> 3 | Q53: =IF(OR($J53>teams,Q$15>teams,$K53=Q$16),"",COUNTIFS($B:$B,$K53,$D:$D,Q$16)+COUNTIFS($D:$D,$K53,$B:$B,Q$16)) -> 3 | R53: =IF(OR($J53>teams,R$15>teams,$K53=R$16),"",COUNTIFS($B:$B,$K53,$D:$D,R$16)+COUNTIFS($D:$D,$K53,$B:$B,R$16)) -> 3 | S53: =IF(OR($J53>teams,S$15>teams,$K53=S$16),"",COUNTIFS($B:$B,$K53,$D:$D,S$16)+COUNTIFS($D:$D,$K53,$B:$B,S$16)) -> 3 | T53: =IF(OR($J53>teams,T$15>teams,$K53=T$16),"",COUNTIFS($B:$B,$K53,$D:$D,T$16)+COUNTIFS($D:$D,$K53,$B:$B,T$16)) -> 3 | U53: =IF(OR($J53>teams,U$15>teams,$K53=U$16),"",COUNTIFS($B:$B,$K53,$D:$D,U$16)+COUNTIFS($D:$D,$K53,$B:$B,U$16)) -> 3 | ... AM53: =IF(OR($J53>teams,AM$15>teams,$K53=AM$16),"",COUNTIFS($B:$B,$K53,$D:$D,AM$16)+COUNTIFS($D:$D,$K53,$B:$B,AM$16))
A54: 1 | B54: F | C54: 08 | D54: E | E54: 08 | F54: =IF(E54<C54,B54&"."&C54,IF(C54<E54,D54&"."&E54,"")) | G54: =IF(E54>C54,B54&"."&C54,IF(C54>E54,D54&"."&E54,"")) | H54: FALSE | I54: =IF($J54>teams,"",OR(MAX(OFFSET($N54,0,0,1,teams))>$M54,MIN(OFFSET($N54,0,0,1,teams))<$L54)) -> FALSE | J54: 3 | K54: C | L54: =INT(players*rounds/(teams-1)) -> 3 | M54: =L54+IF(MOD(players*rounds,teams-1)=0,0,1) -> 3 | N54: =IF(OR($J54>teams,N$15>teams,$K54=N$16),"",COUNTIFS($B:$B,$K54,$D:$D,N$16)+COUNTIFS($D:$D,$K54,$B:$B,N$16)) -> 3 | O54: =IF(OR($J54>teams,O$15>teams,$K54=O$16),"",COUNTIFS($B:$B,$K54,$D:$D,O$16)+COUNTIFS($D:$D,$K54,$B:$B,O$16)) -> 3 | P54: =IF(OR($J54>teams,P$15>teams,$K54=P$16),"",COUNTIFS($B:$B,$K54,$D:$D,P$16)+COUNTIFS($D:$D,$K54,$B:$B,P$16)) | Q54: =IF(OR($J54>teams,Q$15>teams,$K54=Q$16),"",COUNTIFS($B:$B,$K54,$D:$D,Q$16)+COUNTIFS($D:$D,$K54,$B:$B,Q$16)) -> 3 | R54: =IF(OR($J54>teams,R$15>teams,$K54=R$16),"",COUNTIFS($B:$B,$K54,$D:$D,R$16)+COUNTIFS($D:$D,$K54,$B:$B,R$16)) -> 3 | S54: =IF(OR($J54>teams,S$15>teams,$K54=S$16),"",COUNTIFS($B:$B,$K54,$D:$D,S$16)+COUNTIFS($D:$D,$K54,$B:$B,S$16)) -> 3 | T54: =IF(OR($J54>teams,T$15>teams,$K54=T$16),"",COUNTIFS($B:$B,$K54,$D:$D,T$16)+COUNTIFS($D:$D,$K54,$B:$B,T$16)) -> 3 | U54: =IF(OR($J54>teams,U$15>teams,$K54=U$16),"",COUNTIFS($B:$B,$K54,$D:$D,U$16)+COUNTIFS($D:$D,$K54,$B:$B,U$16)) -> 3 | ... AM54: =IF(OR($J54>teams,AM$15>teams,$K54=AM$16),"",COUNTIFS($B:$B,$K54,$D:$D,AM$16)+COUNTIFS($D:$D,$K54,$B:$B,AM$16))
A55: 1 | B55: A | C55: 09 | D55: D | E55: 09 | F55: =IF(E55<C55,B55&"."&C55,IF(C55<E55,D55&"."&E55,"")) | G55: =IF(E55>C55,B55&"."&C55,IF(C55>E55,D55&"."&E55,"")) | H55: FALSE | I55: =IF($J55>teams,"",OR(MAX(OFFSET($N55,0,0,1,teams))>$M55,MIN(OFFSET($N55,0,0,1,teams))<$L55)) -> FALSE | J55: 4 | K55: D | L55: =INT(players*rounds/(teams-1)) -> 3 | M55: =L55+IF(MOD(players*rounds,teams-1)=0,0,1) -> 3 | N55: =IF(OR($J55>teams,N$15>teams,$K55=N$16),"",COUNTIFS($B:$B,$K55,$D:$D,N$16)+COUNTIFS($D:$D,$K55,$B:$B,N$16)) -> 3 | O55: =IF(OR($J55>teams,O$15>teams,$K55=O$16),"",COUNTIFS($B:$B,$K55,$D:$D,O$16)+COUNTIFS($D:$D,$K55,$B:$B,O$16)) -> 3 | P55: =IF(OR($J55>teams,P$15>teams,$K55=P$16),"",COUNTIFS($B:$B,$K55,$D:$D,P$16)+COUNTIFS($D:$D,$K55,$B:$B,P$16)) -> 3 | Q55: =IF(OR($J55>teams,Q$15>teams,$K55=Q$16),"",COUNTIFS($B:$B,$K55,$D:$D,Q$16)+COUNTIFS($D:$D,$K55,$B:$B,Q$16)) | R55: =IF(OR($J55>teams,R$15>teams,$K55=R$16),"",COUNTIFS($B:$B,$K55,$D:$D,R$16)+COUNTIFS($D:$D,$K55,$B:$B,R$16)) -> 3 | S55: =IF(OR($J55>teams,S$15>teams,$K55=S$16),"",COUNTIFS($B:$B,$K55,$D:$D,S$16)+COUNTIFS($D:$D,$K55,$B:$B,S$16)) -> 3 | T55: =IF(OR($J55>teams,T$15>teams,$K55=T$16),"",COUNTIFS($B:$B,$K55,$D:$D,T$16)+COUNTIFS($D:$D,$K55,$B:$B,T$16)) -> 3 | U55: =IF(OR($J55>teams,U$15>teams,$K55=U$16),"",COUNTIFS($B:$B,$K55,$D:$D,U$16)+COUNTIFS($D:$D,$K55,$B:$B,U$16)) -> 3 | ... AM55: =IF(OR($J55>teams,AM$15>teams,$K55=AM$16),"",COUNTIFS($B:$B,$K55,$D:$D,AM$16)+COUNTIFS($D:$D,$K55,$B:$B,AM$16))
A56: 1 | B56: B | C56: 09 | D56: F | E56: 09 | F56: =IF(E56<C56,B56&"."&C56,IF(C56<E56,D56&"."&E56,"")) | G56: =IF(E56>C56,B56&"."&C56,IF(C56>E56,D56&"."&E56,"")) | H56: FALSE | I56: =IF($J56>teams,"",OR(MAX(OFFSET($N56,0,0,1,teams))>$M56,MIN(OFFSET($N56,0,0,1,teams))<$L56)) -> FALSE | J56: 5 | K56: E | L56: =INT(players*rounds/(teams-1)) -> 3 | M56: =L56+IF(MOD(players*rounds,teams-1)=0,0,1) -> 3 | N56: =IF(OR($J56>teams,N$15>teams,$K56=N$16),"",COUNTIFS($B:$B,$K56,$D:$D,N$16)+COUNTIFS($D:$D,$K56,$B:$B,N$16)) -> 3 | O56: =IF(OR($J56>teams,O$15>teams,$K56=O$16),"",COUNTIFS($B:$B,$K56,$D:$D,O$16)+COUNTIFS($D:$D,$K56,$B:$B,O$16)) -> 3 | P56: =IF(OR($J56>teams,P$15>teams,$K56=P$16),"",COUNTIFS($B:$B,$K56,$D:$D,P$16)+COUNTIFS($D:$D,$K56,$B:$B,P$16)) -> 3 | Q56: =IF(OR($J56>teams,Q$15>teams,$K56=Q$16),"",COUNTIFS($B:$B,$K56,$D:$D,Q$16)+COUNTIFS($D:$D,$K56,$B:$B,Q$16)) -> 3 | R56: =IF(OR($J56>teams,R$15>teams,$K56=R$16),"",COUNTIFS($B:$B,$K56,$D:$D,R$16)+COUNTIFS($D:$D,$K56,$B:$B,R$16)) | S56: =IF(OR($J56>teams,S$15>teams,$K56=S$16),"",COUNTIFS($B:$B,$K56,$D:$D,S$16)+COUNTIFS($D:$D,$K56,$B:$B,S$16)) -> 3 | T56: =IF(OR($J56>teams,T$15>teams,$K56=T$16),"",COUNTIFS($B:$B,$K56,$D:$D,T$16)+COUNTIFS($D:$D,$K56,$B:$B,T$16)) -> 3 | U56: =IF(OR($J56>teams,U$15>teams,$K56=U$16),"",COUNTIFS($B:$B,$K56,$D:$D,U$16)+COUNTIFS($D:$D,$K56,$B:$B,U$16)) -> 3 | ... AM56: =IF(OR($J56>teams,AM$15>teams,$K56=AM$16),"",COUNTIFS($B:$B,$K56,$D:$D,AM$16)+COUNTIFS($D:$D,$K56,$B:$B,AM$16))
A57: 1 | B57: H | C57: 09 | D57: I | E57: 09 | F57: =IF(E57<C57,B57&"."&C57,IF(C57<E57,D57&"."&E57,"")) | G57: =IF(E57>C57,B57&"."&C57,IF(C57>E57,D57&"."&E57,"")) | H57: FALSE | I57: =IF($J57>teams,"",OR(MAX(OFFSET($N57,0,0,1,teams))>$M57,MIN(OFFSET($N57,0,0,1,teams))<$L57)) -> FALSE | J57: 6 | K57: F | L57: =INT(players*rounds/(teams-1)) -> 3 | M57: =L57+IF(MOD(players*rounds,teams-1)=0,0,1) -> 3 | N57: =IF(OR($J57>teams,N$15>teams,$K57=N$16),"",COUNTIFS($B:$B,$K57,$D:$D,N$16)+COUNTIFS($D:$D,$K57,$B:$B,N$16)) -> 3 | O57: =IF(OR($J57>teams,O$15>teams,$K57=O$16),"",COUNTIFS($B:$B,$K57,$D:$D,O$16)+COUNTIFS($D:$D,$K57,$B:$B,O$16)) -> 3 | P57: =IF(OR($J57>teams,P$15>teams,$K57=P$16),"",COUNTIFS($B:$B,$K57,$D:$D,P$16)+COUNTIFS($D:$D,$K57,$B:$B,P$16)) -> 3 | Q57: =IF(OR($J57>teams,Q$15>teams,$K57=Q$16),"",COUNTIFS($B:$B,$K57,$D:$D,Q$16)+COUNTIFS($D:$D,$K57,$B:$B,Q$16)) -> 3 | R57: =IF(OR($J57>teams,R$15>teams,$K57=R$16),"",COUNTIFS($B:$B,$K57,$D:$D,R$16)+COUNTIFS($D:$D,$K57,$B:$B,R$16)) -> 3 | S57: =IF(OR($J57>teams,S$15>teams,$K57=S$16),"",COUNTIFS($B:$B,$K57,$D:$D,S$16)+COUNTIFS($D:$D,$K57,$B:$B,S$16)) | T57: =IF(OR($J57>teams,T$15>teams,$K57=T$16),"",COUNTIFS($B:$B,$K57,$D:$D,T$16)+COUNTIFS($D:$D,$K57,$B:$B,T$16)) -> 3 | U57: =IF(OR($J57>teams,U$15>teams,$K57=U$16),"",COUNTIFS($B:$B,$K57,$D:$D,U$16)+COUNTIFS($D:$D,$K57,$B:$B,U$16)) -> 3 | ... AM57: =IF(OR($J57>teams,AM$15>teams,$K57=AM$16),"",COUNTIFS($B:$B,$K57,$D:$D,AM$16)+COUNTIFS($D:$D,$K57,$B:$B,AM$16))
A58: 1 | B58: K | C58: 09 | D58: G | E58: 09 | F58: =IF(E58<C58,B58&"."&C58,IF(C58<E58,D58&"."&E58,"")) | G58: =IF(E58>C58,B58&"."&C58,IF(C58>E58,D58&"."&E58,"")) | H58: FALSE | I58: =IF($J58>teams,"",OR(MAX(OFFSET($N58,0,0,1,teams))>$M58,MIN(OFFSET($N58,0,0,1,teams))<$L58)) -> FALSE | J58: 7 | K58: G | L58: =INT(players*rounds/(teams-1)) -> 3 | M58: =L58+IF(MOD(players*rounds,teams-1)=0,0,1) -> 3 | N58: =IF(OR($J58>teams,N$15>teams,$K58=N$16),"",COUNTIFS($B:$B,$K58,$D:$D,N$16)+COUNTIFS($D:$D,$K58,$B:$B,N$16)) -> 3 | O58: =IF(OR($J58>teams,O$15>teams,$K58=O$16),"",COUNTIFS($B:$B,$K58,$D:$D,O$16)+COUNTIFS($D:$D,$K58,$B:$B,O$16)) -> 3 | P58: =IF(OR($J58>teams,P$15>teams,$K58=P$16),"",COUNTIFS($B:$B,$K58,$D:$D,P$16)+COUNTIFS($D:$D,$K58,$B:$B,P$16)) -> 3 | Q58: =IF(OR($J58>teams,Q$15>teams,$K58=Q$16),"",COUNTIFS($B:$B,$K58,$D:$D,Q$16)+COUNTIFS($D:$D,$K58,$B:$B,Q$16)) -> 3 | R58: =IF(OR($J58>teams,R$15>teams,$K58=R$16),"",COUNTIFS($B:$B,$K58,$D:$D,R$16)+COUNTIFS($D:$D,$K58,$B:$B,R$16)) -> 3 | S58: =IF(OR($J58>teams,S$15>teams,$K58=S$16),"",COUNTIFS($B:$B,$K58,$D:$D,S$16)+COUNTIFS($D:$D,$K58,$B:$B,S$16)) -> 3 | T58: =IF(OR($J58>teams,T$15>teams,$K58=T$16),"",COUNTIFS($B:$B,$K58,$D:$D,T$16)+COUNTIFS($D:$D,$K58,$B:$B,T$16)) | U58: =IF(OR($J58>teams,U$15>teams,$K58=U$16),"",COUNTIFS($B:$B,$K58,$D:$D,U$16)+COUNTIFS($D:$D,$K58,$B:$B,U$16)) -> 3 | ... AM58: =IF(OR($J58>teams,AM$15>teams,$K58=AM$16),"",COUNTIFS($B:$B,$K58,$D:$D,AM$16)+COUNTIFS($D:$D,$K58,$B:$B,AM$16))
A59: 1 | B59: E | C59: 09 | D59: J | E59: 09 | F59: =IF(E59<C59,B59&"."&C59,IF(C59<E59,D59&"."&E59,"")) | G59: =IF(E59>C59,B59&"."&C59,IF(C59>E59,D59&"."&E59,"")) | H59: FALSE | I59: =IF($J59>teams,"",OR(MAX(OFFSET($N59,0,0,1,teams))>$M59,MIN(OFFSET($N59,0,0,1,teams))<$L59)) -> FALSE | J59: 8 | K59: H | L59: =INT(players*rounds/(teams-1)) -> 3 | M59: =L59+IF(MOD(players*rounds,teams-1)=0,0,1) -> 3 | N59: =IF(OR($J59>teams,N$15>teams,$K59=N$16),"",COUNTIFS($B:$B,$K59,$D:$D,N$16)+COUNTIFS($D:$D,$K59,$B:$B,N$16)) -> 3 | O59: =IF(OR($J59>teams,O$15>teams,$K59=O$16),"",COUNTIFS($B:$B,$K59,$D:$D,O$16)+COUNTIFS($D:$D,$K59,$B:$B,O$16)) -> 3 | P59: =IF(OR($J59>teams,P$15>teams,$K59=P$16),"",COUNTIFS($B:$B,$K59,$D:$D,P$16)+COUNTIFS($D:$D,$K59,$B:$B,P$16)) -> 3 | Q59: =IF(OR($J59>teams,Q$15>teams,$K59=Q$16),"",COUNTIFS($B:$B,$K59,$D:$D,Q$16)+COUNTIFS($D:$D,$K59,$B:$B,Q$16)) -> 3 | R59: =IF(OR($J59>teams,R$15>teams,$K59=R$16),"",COUNTIFS($B:$B,$K59,$D:$D,R$16)+COUNTIFS($D:$D,$K59,$B:$B,R$16)) -> 3 | S59: =IF(OR($J59>teams,S$15>teams,$K59=S$16),"",COUNTIFS($B:$B,$K59,$D:$D,S$16)+COUNTIFS($D:$D,$K59,$B:$B,S$16)) -> 3 | T59: =IF(OR($J59>teams,T$15>teams,$K59=T$16),"",COUNTIFS($B:$B,$K59,$D:$D,T$16)+COUNTIFS($D:$D,$K59,$B:$B,T$16)) -> 3 | U59: =IF(OR($J59>teams,U$15>teams,$K59=U$16),"",COUNTIFS($B:$B,$K59,$D:$D,U$16)+COUNTIFS($D:$D,$K59,$B:$B,U$16)) | ... AM59: =IF(OR($J59>teams,AM$15>teams,$K59=AM$16),"",COUNTIFS($B:$B,$K59,$D:$D,AM$16)+COUNTIFS($D:$D,$K59,$B:$B,AM$16))
A60: 1 | B60: F | C60: 10 | D60: C | E60: 09 | F60: =IF(E60<C60,B60&"."&C60,IF(C60<E60,D60&"."&E60,"")) -> F.10 | G60: =IF(E60>C60,B60&"."&C60,IF(C60>E60,D60&"."&E60,"")) -> C.09 | H60: FALSE | I60: =IF($J60>teams,"",OR(MAX(OFFSET($N60,0,0,1,teams))>$M60,MIN(OFFSET($N60,0,0,1,teams))<$L60)) -> FALSE | J60: 9 | K60: I | L60: =INT(players*rounds/(teams-1)) -> 3 | M60: =L60+IF(MOD(players*rounds,teams-1)=0,0,1) -> 3 | N60: =IF(OR($J60>teams,N$15>teams,$K60=N$16),"",COUNTIFS($B:$B,$K60,$D:$D,N$16)+COUNTIFS($D:$D,$K60,$B:$B,N$16)) -> 3 | O60: =IF(OR($J60>teams,O$15>teams,$K60=O$16),"",COUNTIFS($B:$B,$K60,$D:$D,O$16)+COUNTIFS($D:$D,$K60,$B:$B,O$16)) -> 3 | P60: =IF(OR($J60>teams,P$15>teams,$K60=P$16),"",COUNTIFS($B:$B,$K60,$D:$D,P$16)+COUNTIFS($D:$D,$K60,$B:$B,P$16)) -> 3 | Q60: =IF(OR($J60>teams,Q$15>teams,$K60=Q$16),"",COUNTIFS($B:$B,$K60,$D:$D,Q$16)+COUNTIFS($D:$D,$K60,$B:$B,Q$16)) -> 3 | R60: =IF(OR($J60>teams,R$15>teams,$K60=R$16),"",COUNTIFS($B:$B,$K60,$D:$D,R$16)+COUNTIFS($D:$D,$K60,$B:$B,R$16)) -> 3 | S60: =IF(OR($J60>teams,S$15>teams,$K60=S$16),"",COUNTIFS($B:$B,$K60,$D:$D,S$16)+COUNTIFS($D:$D,$K60,$B:$B,S$16)) -> 3 | T60: =IF(OR($J60>teams,T$15>teams,$K60=T$16),"",COUNTIFS($B:$B,$K60,$D:$D,T$16)+COUNTIFS($D:$D,$K60,$B:$B,T$16)) -> 3 | U60: =IF(OR($J60>teams,U$15>teams,$K60=U$16),"",COUNTIFS($B:$B,$K60,$D:$D,U$16)+COUNTIFS($D:$D,$K60,$B:$B,U$16)) -> 3 | ... AM60: =IF(OR($J60>teams,AM$15>teams,$K60=AM$16),"",COUNTIFS($B:$B,$K60,$D:$D,AM$16)+COUNTIFS($D:$D,$K60,$B:$B,AM$16))
A61: 1 | B61: A | C61: 10 | D61: E | E61: 10 | F61: =IF(E61<C61,B61&"."&C61,IF(C61<E61,D61&"."&E61,"")) | G61: =IF(E61>C61,B61&"."&C61,IF(C61>E61,D61&"."&E61,"")) | H61: FALSE | I61: =IF($J61>teams,"",OR(MAX(OFFSET($N61,0,0,1,teams))>$M61,MIN(OFFSET($N61,0,0,1,teams))<$L61)) -> FALSE | J61: 10 | K61: J | L61: =INT(players*rounds/(teams-1)) -> 3 | M61: =L61+IF(MOD(players*rounds,teams-1)=0,0,1) -> 3 | N61: =IF(OR($J61>teams,N$15>teams,$K61=N$16),"",COUNTIFS($B:$B,$K61,$D:$D,N$16)+COUNTIFS($D:$D,$K61,$B:$B,N$16)) -> 3 | O61: =IF(OR($J61>teams,O$15>teams,$K61=O$16),"",COUNTIFS($B:$B,$K61,$D:$D,O$16)+COUNTIFS($D:$D,$K61,$B:$B,O$16)) -> 3 | P61: =IF(OR($J61>teams,P$15>teams,$K61=P$16),"",COUNTIFS($B:$B,$K61,$D:$D,P$16)+COUNTIFS($D:$D,$K61,$B:$B,P$16)) -> 3 | Q61: =IF(OR($J61>teams,Q$15>teams,$K61=Q$16),"",COUNTIFS($B:$B,$K61,$D:$D,Q$16)+COUNTIFS($D:$D,$K61,$B:$B,Q$16)) -> 3 | R61: =IF(OR($J61>teams,R$15>teams,$K61=R$16),"",COUNTIFS($B:$B,$K61,$D:$D,R$16)+COUNTIFS($D:$D,$K61,$B:$B,R$16)) -> 3 | S61: =IF(OR($J61>teams,S$15>teams,$K61=S$16),"",COUNTIFS($B:$B,$K61,$D:$D,S$16)+COUNTIFS($D:$D,$K61,$B:$B,S$16)) -> 3 | T61: =IF(OR($J61>teams,T$15>teams,$K61=T$16),"",COUNTIFS($B:$B,$K61,$D:$D,T$16)+COUNTIFS($D:$D,$K61,$B:$B,T$16)) -> 3 | U61: =IF(OR($J61>teams,U$15>teams,$K61=U$16),"",COUNTIFS($B:$B,$K61,$D:$D,U$16)+COUNTIFS($D:$D,$K61,$B:$B,U$16)) -> 3 | ... AM61: =IF(OR($J61>teams,AM$15>teams,$K61=AM$16),"",COUNTIFS($B:$B,$K61,$D:$D,AM$16)+COUNTIFS($D:$D,$K61,$B:$B,AM$16))
A62: 1 | B62: B | C62: 10 | D62: H | E62: 10 | F62: =IF(E62<C62,B62&"."&C62,IF(C62<E62,D62&"."&E62,"")) | G62: =IF(E62>C62,B62&"."&C62,IF(C62>E62,D62&"."&E62,"")) | H62: FALSE | I62: =IF($J62>teams,"",OR(MAX(OFFSET($N62,0,0,1,teams))>$M62,MIN(OFFSET($N62,0,0,1,teams))<$L62)) -> FALSE | J62: 11 | K62: K | L62: =INT(players*rounds/(teams-1)) -> 3 | M62: =L62+IF(MOD(players*rounds,teams-1)=0,0,1) -> 3 | N62: =IF(OR($J62>teams,N$15>teams,$K62=N$16),"",COUNTIFS($B:$B,$K62,$D:$D,N$16)+COUNTIFS($D:$D,$K62,$B:$B,N$16)) -> 3 | O62: =IF(OR($J62>teams,O$15>teams,$K62=O$16),"",COUNTIFS($B:$B,$K62,$D:$D,O$16)+COUNTIFS($D:$D,$K62,$B:$B,O$16)) -> 3 | P62: =IF(OR($J62>teams,P$15>teams,$K62=P$16),"",COUNTIFS($B:$B,$K62,$D:$D,P$16)+COUNTIFS($D:$D,$K62,$B:$B,P$16)) -> 3 | Q62: =IF(OR($J62>teams,Q$15>teams,$K62=Q$16),"",COUNTIFS($B:$B,$K62,$D:$D,Q$16)+COUNTIFS($D:$D,$K62,$B:$B,Q$16)) -> 3 | R62: =IF(OR($J62>teams,R$15>teams,$K62=R$16),"",COUNTIFS($B:$B,$K62,$D:$D,R$16)+COUNTIFS($D:$D,$K62,$B:$B,R$16)) -> 3 | S62: =IF(OR($J62>teams,S$15>teams,$K62=S$16),"",COUNTIFS($B:$B,$K62,$D:$D,S$16)+COUNTIFS($D:$D,$K62,$B:$B,S$16)) -> 3 | T62: =IF(OR($J62>teams,T$15>teams,$K62=T$16),"",COUNTIFS($B:$B,$K62,$D:$D,T$16)+COUNTIFS($D:$D,$K62,$B:$B,T$16)) -> 3 | U62: =IF(OR($J62>teams,U$15>teams,$K62=U$16),"",COUNTIFS($B:$B,$K62,$D:$D,U$16)+COUNTIFS($D:$D,$K62,$B:$B,U$16)) -> 3 | ... AM62: =IF(OR($J62>teams,AM$15>teams,$K62=AM$16),"",COUNTIFS($B:$B,$K62,$D:$D,AM$16)+COUNTIFS($D:$D,$K62,$B:$B,AM$16))
A63: 1 | B63: D | C63: 10 | D63: I | E63: 10 | F63: =IF(E63<C63,B63&"."&C63,IF(C63<E63,D63&"."&E63,"")) | G63: =IF(E63>C63,B63&"."&C63,IF(C63>E63,D63&"."&E63,"")) | H63: FALSE | I63: =IF($J63>teams,"",OR(MAX(OFFSET($N63,0,0,1,teams))>$M63,MIN(OFFSET($N63,0,0,1,teams))<$L63)) | J63: 12 | K63: L | L63: =INT(players*rounds/(teams-1)) -> 3 | M63: =L63+IF(MOD(players*rounds,teams-1)=0,0,1) -> 3 | N63: =IF(OR($J63>teams,N$15>teams,$K63=N$16),"",COUNTIFS($B:$B,$K63,$D:$D,N$16)+COUNTIFS($D:$D,$K63,$B:$B,N$16)) | O63: =IF(OR($J63>teams,O$15>teams,$K63=O$16),"",COUNTIFS($B:$B,$K63,$D:$D,O$16)+COUNTIFS($D:$D,$K63,$B:$B,O$16)) | P63: =IF(OR($J63>teams,P$15>teams,$K63=P$16),"",COUNTIFS($B:$B,$K63,$D:$D,P$16)+COUNTIFS($D:$D,$K63,$B:$B,P$16)) | Q63: =IF(OR($J63>teams,Q$15>teams,$K63=Q$16),"",COUNTIFS($B:$B,$K63,$D:$D,Q$16)+COUNTIFS($D:$D,$K63,$B:$B,Q$16)) | R63: =IF(OR($J63>teams,R$15>teams,$K63=R$16),"",COUNTIFS($B:$B,$K63,$D:$D,R$16)+COUNTIFS($D:$D,$K63,$B:$B,R$16)) | S63: =IF(OR($J63>teams,S$15>teams,$K63=S$16),"",COUNTIFS($B:$B,$K63,$D:$D,S$16)+COUNTIFS($D:$D,$K63,$B:$B,S$16)) | T63: =IF(OR($J63>teams,T$15>teams,$K63=T$16),"",COUNTIFS($B:$B,$K63,$D:$D,T$16)+COUNTIFS($D:$D,$K63,$B:$B,T$16)) | U63: =IF(OR($J63>teams,U$15>teams,$K63=U$16),"",COUNTIFS($B:$B,$K63,$D:$D,U$16)+COUNTIFS($D:$D,$K63,$B:$B,U$16)) | ... AM63: =IF(OR($J63>teams,AM$15>teams,$K63=AM$16),"",COUNTIFS($B:$B,$K63,$D:$D,AM$16)+COUNTIFS($D:$D,$K63,$B:$B,AM$16))
... A77: 2 | B77: A | C77: 03 | D77: E | E77: 03 | F77: =IF(E77<C77,B77&"."&C77,IF(C77<E77,D77&"."&E77,"")) | G77: =IF(E77>C77,B77&"."&C77,IF(C77>E77,D77&"."&E77,"")) | H77: FALSE | I77: =IF($J77>teams,"",OR(MAX(OFFSET($N77,0,0,1,teams))>$M77,MIN(OFFSET($N77,0,0,1,teams))<$L77)) | J77: 26 | K77: Z | L77: =INT(players*rounds/(teams-1)) -> 3 | M77: =L77+IF(MOD(players*rounds,teams-1)=0,0,1) -> 3 | N77: =IF(OR($J77>teams,N$15>teams,$K77=N$16),"",COUNTIFS($B:$B,$K77,$D:$D,N$16)+COUNTIFS($D:$D,$K77,$B:$B,N$16)) | O77: =IF(OR($J77>teams,O$15>teams,$K77=O$16),"",COUNTIFS($B:$B,$K77,$D:$D,O$16)+COUNTIFS($D:$D,$K77,$B:$B,O$16)) | P77: =IF(OR($J77>teams,P$15>teams,$K77=P$16),"",COUNTIFS($B:$B,$K77,$D:$D,P$16)+COUNTIFS($D:$D,$K77,$B:$B,P$16)) | Q77: =IF(OR($J77>teams,Q$15>teams,$K77=Q$16),"",COUNTIFS($B:$B,$K77,$D:$D,Q$16)+COUNTIFS($D:$D,$K77,$B:$B,Q$16)) | R77: =IF(OR($J77>teams,R$15>teams,$K77=R$16),"",COUNTIFS($B:$B,$K77,$D:$D,R$16)+COUNTIFS($D:$D,$K77,$B:$B,R$16)) | S77: =IF(OR($J77>teams,S$15>teams,$K77=S$16),"",COUNTIFS($B:$B,$K77,$D:$D,S$16)+COUNTIFS($D:$D,$K77,$B:$B,S$16)) | T77: =IF(OR($J77>teams,T$15>teams,$K77=T$16),"",COUNTIFS($B:$B,$K77,$D:$D,T$16)+COUNTIFS($D:$D,$K77,$B:$B,T$16)) | U77: =IF(OR($J77>teams,U$15>teams,$K77=U$16),"",COUNTIFS($B:$B,$K77,$D:$D,U$16)+COUNTIFS($D:$D,$K77,$B:$B,U$16)) | ... AM77: =IF(OR($J77>teams,AM$15>teams,$K77=AM$16),"",COUNTIFS($B:$B,$K77,$D:$D,AM$16)+COUNTIFS($D:$D,$K77,$B:$B,AM$16))
A78: 2 | B78: B | C78: 03 | D78: K | E78: 03 | F78: =IF(E78<C78,B78&"."&C78,IF(C78<E78,D78&"."&E78,"")) | G78: =IF(E78>C78,B78&"."&C78,IF(C78>E78,D78&"."&E78,"")) | H78: FALSE | I78: =OR(MAX(OFFSET($N78,0,0,1,teams))>$M78,MIN(OFFSET($N78,0,0,1,teams))<$L78) -> FALSE | K78: Play team-mate | L78: 0 | M78: 0 | N78: =IF(N$15>teams,"",COUNTIF(N81:N112,N80)) -> 0 | O78: =IF(O$15>teams,"",COUNTIF(O81:O112,O80)) -> 0 | P78: =IF(P$15>teams,"",COUNTIF(P81:P112,P80)) -> 0 | Q78: =IF(Q$15>teams,"",COUNTIF(Q81:Q112,Q80)) -> 0 | R78: =IF(R$15>teams,"",COUNTIF(R81:R112,R80)) -> 0 | S78: =IF(S$15>teams,"",COUNTIF(S81:S112,S80)) -> 0 | T78: =IF(T$15>teams,"",COUNTIF(T81:T112,T80)) -> 0 | U78: =IF(U$15>teams,"",COUNTIF(U81:U112,U80)) -> 0 | ... AM78: =IF(AM$15>teams,"",COUNTIF(AM81:AM112,AM80))
A79: 2 | B79: D | C79: 03 | D79: J | E79: 03 | F79: =IF(E79<C79,B79&"."&C79,IF(C79<E79,D79&"."&E79,"")) | G79: =IF(E79>C79,B79&"."&C79,IF(C79>E79,D79&"."&E79,"")) | H79: FALSE | K79: opp teams
A80: 2 | B80: I | C80: 03 | D80: F | E80: 03 | F80: =IF(E80<C80,B80&"."&C80,IF(C80<E80,D80&"."&E80,"")) | G80: =IF(E80>C80,B80&"."&C80,IF(C80>E80,D80&"."&E80,"")) | H80: FALSE | K80: board | L80: Round | M80: 1 | N80: =IF(N$15>teams,"",INDEX(teamsList,Analysis11!N$15)) -> A | O80: =IF(O$15>teams,"",INDEX(teamsList,Analysis11!O$15)) -> B | P80: =IF(P$15>teams,"",INDEX(teamsList,Analysis11!P$15)) -> C | Q80: =IF(Q$15>teams,"",INDEX(teamsList,Analysis11!Q$15)) -> D | R80: =IF(R$15>teams,"",INDEX(teamsList,Analysis11!R$15)) -> E | S80: =IF(S$15>teams,"",INDEX(teamsList,Analysis11!S$15)) -> F | T80: =IF(T$15>teams,"",INDEX(teamsList,Analysis11!T$15)) -> G | U80: =IF(U$15>teams,"",INDEX(teamsList,Analysis11!U$15)) -> H | ... AM80: =IF(AM$15>teams,"",INDEX(teamsList,Analysis11!AM$15))
A81: 2 | B81: G | C81: 03 | D81: H | E81: 03 | F81: =IF(E81<C81,B81&"."&C81,IF(C81<E81,D81&"."&E81,"")) | G81: =IF(E81>C81,B81&"."&C81,IF(C81>E81,D81&"."&E81,"")) | H81: FALSE | K81: .01 | N81: {=LEFT(_xlfn.XLOOKUP(N$80&$K81,OFFSET(Pairings11!$C$6,($M$80-1)*gamesPerRound,0,Analysis11!gamesPerRound,1),OFFSET(Pairings11!$D$6,($M$80-1)*gamesPerRound,0,Analysis11!gamesPerRound,1), _xlfn.XLOOKUP(N$80&$K81,OFFSET(Pairings11!$D$6,($M$80-1)*gamesPerRound,0,Analysis11!gamesPerRound,1),OFFSET(Pairings11!$C$6,($M$80-1)*gamesPerRound,0,Analysis11!gamesPerRound,1),"")),1)} -> K | O81: {=LEFT(_xlfn.XLOOKUP(O$80&$K81,OFFSET(Pairings11!$C$6,($M$80-1)*gamesPerRound,0,Analysis11!gamesPerRound,1),OFFSET(Pairings11!$D$6,($M$80-1)*gamesPerRound,0,Analysis11!gamesPerRound,1), _xlfn.XLOOKUP(O$80&$K81,OFFSET(Pairings11!$D$6,($M$80-1)*gamesPerRound,0,Analysis11!gamesPerRound,1),OFFSET(Pairings11!$C$6,($M$80-1)*gamesPerRound,0,Analysis11!gamesPerRound,1),"")),1)} -> A | P81: {=LEFT(_xlfn.XLOOKUP(P$80&$K81,OFFSET(Pairings11!$C$6,($M$80-1)*gamesPerRound,0,Analysis11!gamesPerRound,1),OFFSET(Pairings11!$D$6,($M$80-1)*gamesPerRound,0,Analysis11!gamesPerRound,1), _xlfn.XLOOKUP(P$80&$K81,OFFSET(Pairings11!$D$6,($M$80-1)*gamesPerRound,0,Analysis11!gamesPerRound,1),OFFSET(Pairings11!$C$6,($M$80-1)*gamesPerRound,0,Analysis11!gamesPerRound,1),"")),1)} -> G | Q81: {=LEFT(_xlfn.XLOOKUP(Q$80&$K81,OFFSET(Pairings11!$C$6,($M$80-1)*gamesPerRound,0,Analysis11!gamesPerRound,1),OFFSET(Pairings11!$D$6,($M$80-1)*gamesPerRound,0,Analysis11!gamesPerRound,1), _xlfn.XLOOKUP(Q$80&$K81,OFFSET(Pairings11!$D$6,($M$80-1)*gamesPerRound,0,Analysis11!gamesPerRound,1),OFFSET(Pairings11!$C$6,($M$80-1)*gamesPerRound,0,Analysis11!gamesPerRound,1),"")),1)} -> E | R81: {=LEFT(_xlfn.XLOOKUP(R$80&$K81,OFFSET(Pairings11!$C$6,($M$80-1)*gamesPerRound,0,Analysis11!gamesPerRound,1),OFFSET(Pairings11!$D$6,($M$80-1)*gamesPerRound,0,Analysis11!gamesPerRound,1), _xlfn.XLOOKUP(R$80&$K81,OFFSET(Pairings11!$D$6,($M$80-1)*gamesPerRound,0,Analysis11!gamesPerRound,1),OFFSET(Pairings11!$C$6,($M$80-1)*gamesPerRound,0,Analysis11!gamesPerRound,1),"")),1)} -> D | S81: {=LEFT(_xlfn.XLOOKUP(S$80&$K81,OFFSET(Pairings11!$C$6,($M$80-1)*gamesPerRound,0,Analysis11!gamesPerRound,1),OFFSET(Pairings11!$D$6,($M$80-1)*gamesPerRound,0,Analysis11!gamesPerRound,1), _xlfn.XLOOKUP(S$80&$K81,OFFSET(Pairings11!$D$6,($M$80-1)*gamesPerRound,0,Analysis11!gamesPerRound,1),OFFSET(Pairings11!$C$6,($M$80-1)*gamesPerRound,0,Analysis11!gamesPerRound,1),"")),1)} -> J | T81: {=LEFT(_xlfn.XLOOKUP(T$80&$K81,OFFSET(Pairings11!$C$6,($M$80-1)*gamesPerRound,0,Analysis11!gamesPerRound,1),OFFSET(Pairings11!$D$6,($M$80-1)*gamesPerRound,0,Analysis11!gamesPerRound,1), _xlfn.XLOOKUP(T$80&$K81,OFFSET(Pairings11!$D$6,($M$80-1)*gamesPerRound,0,Analysis11!gamesPerRound,1),OFFSET(Pairings11!$C$6,($M$80-1)*gamesPerRound,0,Analysis11!gamesPerRound,1),"")),1)} -> C | U81: {=LEFT(_xlfn.XLOOKUP(U$80&$K81,OFFSET(Pairings11!$C$6,($M$80-1)*gamesPerRound,0,Analysis11!gamesPerRound,1),OFFSET(Pairings11!$D$6,($M$80-1)*gamesPerRound,0,Analysis11!gamesPerRound,1), _xlfn.XLOOKUP(U$80&$K81,OFFSET(Pairings11!$D$6,($M$80-1)*gamesPerRound,0,Analysis11!gamesPerRound,1),OFFSET(Pairings11!$C$6,($M$80-1)*gamesPerRound,0,Analysis11!gamesPerRound,1),"")),1)} -> I | ... Y81: {=LEFT(_xlfn.XLOOKUP(Y$80&$K81,OFFSET(Pairings11!$C$6,($M$80-1)*gamesPerRound,0,Analysis11!gamesPerRound,1),OFFSET(Pairings11!$D$6,($M$80-1)*gamesPerRound,0,Analysis11!gamesPerRound,1), _xlfn.XLOOKUP(Y$80&$K81,OFFSET(Pairings11!$D$6,($M$80-1)*gamesPerRound,0,Analysis11!gamesPerRound,1),OFFSET(Pairings11!$C$6,($M$80-1)*gamesPerRound,0,Analysis11!gamesPerRound,1),"")),1)}
A82: 2 | B82: D | C82: 04 | D82: C | E82: 03 | F82: =IF(E82<C82,B82&"."&C82,IF(C82<E82,D82&"."&E82,"")) -> D.04 | G82: =IF(E82>C82,B82&"."&C82,IF(C82>E82,D82&"."&E82,"")) -> C.03 | H82: FALSE | K82: .02 | N82: {=LEFT(_xlfn.XLOOKUP(N$80&$K82,OFFSET(Pairings11!$C$6,($M$80-1)*gamesPerRound,0,Analysis11!gamesPerRound,1),OFFSET(Pairings11!$D$6,($M$80-1)*gamesPerRound,0,Analysis11!gamesPerRound,1), _xlfn.XLOOKUP(N$80&$K82,OFFSET(Pairings11!$D$6,($M$80-1)*gamesPerRound,0,Analysis11!gamesPerRound,1),OFFSET(Pairings11!$C$6,($M$80-1)*gamesPerRound,0,Analysis11!gamesPerRound,1),"")),1)} -> B | O82: {=LEFT(_xlfn.XLOOKUP(O$80&$K82,OFFSET(Pairings11!$C$6,($M$80-1)*gamesPerRound,0,Analysis11!gamesPerRound,1),OFFSET(Pairings11!$D$6,($M$80-1)*gamesPerRound,0,Analysis11!gamesPerRound,1), _xlfn.XLOOKUP(O$80&$K82,OFFSET(Pairings11!$D$6,($M$80-1)*gamesPerRound,0,Analysis11!gamesPerRound,1),OFFSET(Pairings11!$C$6,($M$80-1)*gamesPerRound,0,Analysis11!gamesPerRound,1),"")),1)} -> H | P82: {=LEFT(_xlfn.XLOOKUP(P$80&$K82,OFFSET(Pairings11!$C$6,($M$80-1)*gamesPerRound,0,Analysis11!gamesPerRound,1),OFFSET(Pairings11!$D$6,($M$80-1)*gamesPerRound,0,Analysis11!gamesPerRound,1), _xlfn.XLOOKUP(P$80&$K82,OFFSET(Pairings11!$D$6,($M$80-1)*gamesPerRound,0,Analysis11!gamesPerRound,1),OFFSET(Pairings11!$C$6,($M$80-1)*gamesPerRound,0,Analysis11!gamesPerRound,1),"")),1)} -> K | Q82: {=LEFT(_xlfn.XLOOKUP(Q$80&$K82,OFFSET(Pairings11!$C$6,($M$80-1)*gamesPerRound,0,Analysis11!gamesPerRound,1),OFFSET(Pairings11!$D$6,($M$80-1)*gamesPerRound,0,Analysis11!gamesPerRound,1), _xlfn.XLOOKUP(Q$80&$K82,OFFSET(Pairings11!$D$6,($M$80-1)*gamesPerRound,0,Analysis11!gamesPerRound,1),OFFSET(Pairings11!$C$6,($M$80-1)*gamesPerRound,0,Analysis11!gamesPerRound,1),"")),1)} -> I | R82: {=LEFT(_xlfn.XLOOKUP(R$80&$K82,OFFSET(Pairings11!$C$6,($M$80-1)*gamesPerRound,0,Analysis11!gamesPerRound,1),OFFSET(Pairings11!$D$6,($M$80-1)*gamesPerRound,0,Analysis11!gamesPerRound,1), _xlfn.XLOOKUP(R$80&$K82,OFFSET(Pairings11!$D$6,($M$80-1)*gamesPerRound,0,Analysis11!gamesPerRound,1),OFFSET(Pairings11!$C$6,($M$80-1)*gamesPerRound,0,Analysis11!gamesPerRound,1),"")),1)} -> J | S82: {=LEFT(_xlfn.XLOOKUP(S$80&$K82,OFFSET(Pairings11!$C$6,($M$80-1)*gamesPerRound,0,Analysis11!gamesPerRound,1),OFFSET(Pairings11!$D$6,($M$80-1)*gamesPerRound,0,Analysis11!gamesPerRound,1), _xlfn.XLOOKUP(S$80&$K82,OFFSET(Pairings11!$D$6,($M$80-1)*gamesPerRound,0,Analysis11!gamesPerRound,1),OFFSET(Pairings11!$C$6,($M$80-1)*gamesPerRound,0,Analysis11!gamesPerRound,1),"")),1)} -> G | T82: {=LEFT(_xlfn.XLOOKUP(T$80&$K82,OFFSET(Pairings11!$C$6,($M$80-1)*gamesPerRound,0,Analysis11!gamesPerRound,1),OFFSET(Pairings11!$D$6,($M$80-1)*gamesPerRound,0,Analysis11!gamesPerRound,1), _xlfn.XLOOKUP(T$80&$K82,OFFSET(Pairings11!$D$6,($M$80-1)*gamesPerRound,0,Analysis11!gamesPerRound,1),OFFSET(Pairings11!$C$6,($M$80-1)*gamesPerRound,0,Analysis11!gamesPerRound,1),"")),1)} -> F | U82: {=LEFT(_xlfn.XLOOKUP(U$80&$K82,OFFSET(Pairings11!$C$6,($M$80-1)*gamesPerRound,0,Analysis11!gamesPerRound,1),OFFSET(Pairings11!$D$6,($M$80-1)*gamesPerRound,0,Analysis11!gamesPerRound,1), _xlfn.XLOOKUP(U$80&$K82,OFFSET(Pairings11!$D$6,($M$80-1)*gamesPerRound,0,Analysis11!gamesPerRound,1),OFFSET(Pairings11!$C$6,($M$80-1)*gamesPerRound,0,Analysis11!gamesPerRound,1),"")),1)} -> B | ... Y82: {=LEFT(_xlfn.XLOOKUP(Y$80&$K82,OFFSET(Pairings11!$C$6,($M$80-1)*gamesPerRound,0,Analysis11!gamesPerRound,1),OFFSET(Pairings11!$D$6,($M$80-1)*gamesPerRound,0,Analysis11!gamesPerRound,1), _xlfn.XLOOKUP(Y$80&$K82,OFFSET(Pairings11!$D$6,($M$80-1)*gamesPerRound,0,Analysis11!gamesPerRound,1),OFFSET(Pairings11!$C$6,($M$80-1)*gamesPerRound,0,Analysis11!gamesPerRound,1),"")),1)}
A83: 2 | B83: B | C83: 04 | D83: A | E83: 04 | F83: =IF(E83<C83,B83&"."&C83,IF(C83<E83,D83&"."&E83,"")) | G83: =IF(E83>C83,B83&"."&C83,IF(C83>E83,D83&"."&E83,"")) | H83: FALSE | K83: .03 | N83: {=LEFT(_xlfn.XLOOKUP(N$80&$K83,OFFSET(Pairings11!$C$6,($M$80-1)*gamesPerRound,0,Analysis11!gamesPerRound,1),OFFSET(Pairings11!$D$6,($M$80-1)*gamesPerRound,0,Analysis11!gamesPerRound,1), _xlfn.XLOOKUP(N$80&$K83,OFFSET(Pairings11!$D$6,($M$80-1)*gamesPerRound,0,Analysis11!gamesPerRound,1),OFFSET(Pairings11!$C$6,($M$80-1)*gamesPerRound,0,Analysis11!gamesPerRound,1),"")),1)} -> F | O83: {=LEFT(_xlfn.XLOOKUP(O$80&$K83,OFFSET(Pairings11!$C$6,($M$80-1)*gamesPerRound,0,Analysis11!gamesPerRound,1),OFFSET(Pairings11!$D$6,($M$80-1)*gamesPerRound,0,Analysis11!gamesPerRound,1), _xlfn.XLOOKUP(O$80&$K83,OFFSET(Pairings11!$D$6,($M$80-1)*gamesPerRound,0,Analysis11!gamesPerRound,1),OFFSET(Pairings11!$C$6,($M$80-1)*gamesPerRound,0,Analysis11!gamesPerRound,1),"")),1)} -> C | P83: {=LEFT(_xlfn.XLOOKUP(P$80&$K83,OFFSET(Pairings11!$C$6,($M$80-1)*gamesPerRound,0,Analysis11!gamesPerRound,1),OFFSET(Pairings11!$D$6,($M$80-1)*gamesPerRound,0,Analysis11!gamesPerRound,1), _xlfn.XLOOKUP(P$80&$K83,OFFSET(Pairings11!$D$6,($M$80-1)*gamesPerRound,0,Analysis11!gamesPerRound,1),OFFSET(Pairings11!$C$6,($M$80-1)*gamesPerRound,0,Analysis11!gamesPerRound,1),"")),1)} -> B | Q83: {=LEFT(_xlfn.XLOOKUP(Q$80&$K83,OFFSET(Pairings11!$C$6,($M$80-1)*gamesPerRound,0,Analysis11!gamesPerRound,1),OFFSET(Pairings11!$D$6,($M$80-1)*gamesPerRound,0,Analysis11!gamesPerRound,1), _xlfn.XLOOKUP(Q$80&$K83,OFFSET(Pairings11!$D$6,($M$80-1)*gamesPerRound,0,Analysis11!gamesPerRound,1),OFFSET(Pairings11!$C$6,($M$80-1)*gamesPerRound,0,Analysis11!gamesPerRound,1),"")),1)} -> G | R83: {=LEFT(_xlfn.XLOOKUP(R$80&$K83,OFFSET(Pairings11!$C$6,($M$80-1)*gamesPerRound,0,Analysis11!gamesPerRound,1),OFFSET(Pairings11!$D$6,($M$80-1)*gamesPerRound,0,Analysis11!gamesPerRound,1), _xlfn.XLOOKUP(R$80&$K83,OFFSET(Pairings11!$D$6,($M$80-1)*gamesPerRound,0,Analysis11!gamesPerRound,1),OFFSET(Pairings11!$C$6,($M$80-1)*gamesPerRound,0,Analysis11!gamesPerRound,1),"")),1)} -> K | S83: {=LEFT(_xlfn.XLOOKUP(S$80&$K83,OFFSET(Pairings11!$C$6,($M$80-1)*gamesPerRound,0,Analysis11!gamesPerRound,1),OFFSET(Pairings11!$D$6,($M$80-1)*gamesPerRound,0,Analysis11!gamesPerRound,1), _xlfn.XLOOKUP(S$80&$K83,OFFSET(Pairings11!$D$6,($M$80-1)*gamesPerRound,0,Analysis11!gamesPerRound,1),OFFSET(Pairings11!$C$6,($M$80-1)*gamesPerRound,0,Analysis11!gamesPerRound,1),"")),1)} -> A | T83: {=LEFT(_xlfn.XLOOKUP(T$80&$K83,OFFSET(Pairings11!$C$6,($M$80-1)*gamesPerRound,0,Analysis11!gamesPerRound,1),OFFSET(Pairings11!$D$6,($M$80-1)*gamesPerRound,0,Analysis11!gamesPerRound,1), _xlfn.XLOOKUP(T$80&$K83,OFFSET(Pairings11!$D$6,($M$80-1)*gamesPerRound,0,Analysis11!gamesPerRound,1),OFFSET(Pairings11!$C$6,($M$80-1)*gamesPerRound,0,Analysis11!gamesPerRound,1),"")),1)} -> D | U83: {=LEFT(_xlfn.XLOOKUP(U$80&$K83,OFFSET(Pairings11!$C$6,($M$80-1)*gamesPerRound,0,Analysis11!gamesPerRound,1),OFFSET(Pairings11!$D$6,($M$80-1)*gamesPerRound,0,Analysis11!gamesPerRound,1), _xlfn.XLOOKUP(U$80&$K83,OFFSET(Pairings11!$D$6,($M$80-1)*gamesPerRound,0,Analysis11!gamesPerRound,1),OFFSET(Pairings11!$C$6,($M$80-1)*gamesPerRound,0,Analysis11!gamesPerRound,1),"")),1)} -> B | ... Y83: {=LEFT(_xlfn.XLOOKUP(Y$80&$K83,OFFSET(Pairings11!$C$6,($M$80-1)*gamesPerRound,0,Analysis11!gamesPerRound,1),OFFSET(Pairings11!$D$6,($M$80-1)*gamesPerRound,0,Analysis11!gamesPerRound,1), _xlfn.XLOOKUP(Y$80&$K83,OFFSET(Pairings11!$D$6,($M$80-1)*gamesPerRound,0,Analysis11!gamesPerRound,1),OFFSET(Pairings11!$C$6,($M$80-1)*gamesPerRound,0,Analysis11!gamesPerRound,1),"")),1)}
A84: 2 | B84: E | C84: 04 | D84: C | E84: 04 | F84: =IF(E84<C84,B84&"."&C84,IF(C84<E84,D84&"."&E84,"")) | G84: =IF(E84>C84,B84&"."&C84,IF(C84>E84,D84&"."&E84,"")) | H84: FALSE | K84: .04 | N84: {=LEFT(_xlfn.XLOOKUP(N$80&$K84,OFFSET(Pairings11!$C$6,($M$80-1)*gamesPerRound,0,Analysis11!gamesPerRound,1),OFFSET(Pairings11!$D$6,($M$80-1)*gamesPerRound,0,Analysis11!gamesPerRound,1), _xlfn.XLOOKUP(N$80&$K84,OFFSET(Pairings11!$D$6,($M$80-1)*gamesPerRound,0,Analysis11!gamesPerRound,1),OFFSET(Pairings11!$C$6,($M$80-1)*gamesPerRound,0,Analysis11!gamesPerRound,1),"")),1)} -> C | O84: {=LEFT(_xlfn.XLOOKUP(O$80&$K84,OFFSET(Pairings11!$C$6,($M$80-1)*gamesPerRound,0,Analysis11!gamesPerRound,1),OFFSET(Pairings11!$D$6,($M$80-1)*gamesPerRound,0,Analysis11!gamesPerRound,1), _xlfn.XLOOKUP(O$80&$K84,OFFSET(Pairings11!$D$6,($M$80-1)*gamesPerRound,0,Analysis11!gamesPerRound,1),OFFSET(Pairings11!$C$6,($M$80-1)*gamesPerRound,0,Analysis11!gamesPerRound,1),"")),1)} -> H | P84: {=LEFT(_xlfn.XLOOKUP(P$80&$K84,OFFSET(Pairings11!$C$6,($M$80-1)*gamesPerRound,0,Analysis11!gamesPerRound,1),OFFSET(Pairings11!$D$6,($M$80-1)*gamesPerRound,0,Analysis11!gamesPerRound,1), _xlfn.XLOOKUP(P$80&$K84,OFFSET(Pairings11!$D$6,($M$80-1)*gamesPerRound,0,Analysis11!gamesPerRound,1),OFFSET(Pairings11!$C$6,($M$80-1)*gamesPerRound,0,Analysis11!gamesPerRound,1),"")),1)} -> A | Q84: {=LEFT(_xlfn.XLOOKUP(Q$80&$K84,OFFSET(Pairings11!$C$6,($M$80-1)*gamesPerRound,0,Analysis11!gamesPerRound,1),OFFSET(Pairings11!$D$6,($M$80-1)*gamesPerRound,0,Analysis11!gamesPerRound,1), _xlfn.XLOOKUP(Q$80&$K84,OFFSET(Pairings11!$D$6,($M$80-1)*gamesPerRound,0,Analysis11!gamesPerRound,1),OFFSET(Pairings11!$C$6,($M$80-1)*gamesPerRound,0,Analysis11!gamesPerRound,1),"")),1)} -> F | R84: {=LEFT(_xlfn.XLOOKUP(R$80&$K84,OFFSET(Pairings11!$C$6,($M$80-1)*gamesPerRound,0,Analysis11!gamesPerRound,1),OFFSET(Pairings11!$D$6,($M$80-1)*gamesPerRound,0,Analysis11!gamesPerRound,1), _xlfn.XLOOKUP(R$80&$K84,OFFSET(Pairings11!$D$6,($M$80-1)*gamesPerRound,0,Analysis11!gamesPerRound,1),OFFSET(Pairings11!$C$6,($M$80-1)*gamesPerRound,0,Analysis11!gamesPerRound,1),"")),1)} -> J | S84: {=LEFT(_xlfn.XLOOKUP(S$80&$K84,OFFSET(Pairings11!$C$6,($M$80-1)*gamesPerRound,0,Analysis11!gamesPerRound,1),OFFSET(Pairings11!$D$6,($M$80-1)*gamesPerRound,0,Analysis11!gamesPerRound,1), _xlfn.XLOOKUP(S$80&$K84,OFFSET(Pairings11!$D$6,($M$80-1)*gamesPerRound,0,Analysis11!gamesPerRound,1),OFFSET(Pairings11!$C$6,($M$80-1)*gamesPerRound,0,Analysis11!gamesPerRound,1),"")),1)} -> D | T84: {=LEFT(_xlfn.XLOOKUP(T$80&$K84,OFFSET(Pairings11!$C$6,($M$80-1)*gamesPerRound,0,Analysis11!gamesPerRound,1),OFFSET(Pairings11!$D$6,($M$80-1)*gamesPerRound,0,Analysis11!gamesPerRound,1), _xlfn.XLOOKUP(T$80&$K84,OFFSET(Pairings11!$D$6,($M$80-1)*gamesPerRound,0,Analysis11!gamesPerRound,1),OFFSET(Pairings11!$C$6,($M$80-1)*gamesPerRound,0,Analysis11!gamesPerRound,1),"")),1)} -> I | U84: {=LEFT(_xlfn.XLOOKUP(U$80&$K84,OFFSET(Pairings11!$C$6,($M$80-1)*gamesPerRound,0,Analysis11!gamesPerRound,1),OFFSET(Pairings11!$D$6,($M$80-1)*gamesPerRound,0,Analysis11!gamesPerRound,1), _xlfn.XLOOKUP(U$80&$K84,OFFSET(Pairings11!$D$6,($M$80-1)*gamesPerRound,0,Analysis11!gamesPerRound,1),OFFSET(Pairings11!$C$6,($M$80-1)*gamesPerRound,0,Analysis11!gamesPerRound,1),"")),1)} -> K | ... Y84: {=LEFT(_xlfn.XLOOKUP(Y$80&$K84,OFFSET(Pairings11!$C$6,($M$80-1)*gamesPerRound,0,Analysis11!gamesPerRound,1),OFFSET(Pairings11!$D$6,($M$80-1)*gamesPerRound,0,Analysis11!gamesPerRound,1), _xlfn.XLOOKUP(Y$80&$K84,OFFSET(Pairings11!$D$6,($M$80-1)*gamesPerRound,0,Analysis11!gamesPerRound,1),OFFSET(Pairings11!$C$6,($M$80-1)*gamesPerRound,0,Analysis11!gamesPerRound,1),"")),1)}
A85: 2 | B85: F | C85: 04 | D85: K | E85: 04 | F85: =IF(E85<C85,B85&"."&C85,IF(C85<E85,D85&"."&E85,"")) | G85: =IF(E85>C85,B85&"."&C85,IF(C85>E85,D85&"."&E85,"")) | H85: FALSE | K85: .05 | N85: {=LEFT(_xlfn.XLOOKUP(N$80&$K85,OFFSET(Pairings11!$C$6,($M$80-1)*gamesPerRound,0,Analysis11!gamesPerRound,1),OFFSET(Pairings11!$D$6,($M$80-1)*gamesPerRound,0,Analysis11!gamesPerRound,1), _xlfn.XLOOKUP(N$80&$K85,OFFSET(Pairings11!$D$6,($M$80-1)*gamesPerRound,0,Analysis11!gamesPerRound,1),OFFSET(Pairings11!$C$6,($M$80-1)*gamesPerRound,0,Analysis11!gamesPerRound,1),"")),1)} -> H | O85: {=LEFT(_xlfn.XLOOKUP(O$80&$K85,OFFSET(Pairings11!$C$6,($M$80-1)*gamesPerRound,0,Analysis11!gamesPerRound,1),OFFSET(Pairings11!$D$6,($M$80-1)*gamesPerRound,0,Analysis11!gamesPerRound,1), _xlfn.XLOOKUP(O$80&$K85,OFFSET(Pairings11!$D$6,($M$80-1)*gamesPerRound,0,Analysis11!gamesPerRound,1),OFFSET(Pairings11!$C$6,($M$80-1)*gamesPerRound,0,Analysis11!gamesPerRound,1),"")),1)} -> F | P85: {=LEFT(_xlfn.XLOOKUP(P$80&$K85,OFFSET(Pairings11!$C$6,($M$80-1)*gamesPerRound,0,Analysis11!gamesPerRound,1),OFFSET(Pairings11!$D$6,($M$80-1)*gamesPerRound,0,Analysis11!gamesPerRound,1), _xlfn.XLOOKUP(P$80&$K85,OFFSET(Pairings11!$D$6,($M$80-1)*gamesPerRound,0,Analysis11!gamesPerRound,1),OFFSET(Pairings11!$C$6,($M$80-1)*gamesPerRound,0,Analysis11!gamesPerRound,1),"")),1)} -> H | Q85: {=LEFT(_xlfn.XLOOKUP(Q$80&$K85,OFFSET(Pairings11!$C$6,($M$80-1)*gamesPerRound,0,Analysis11!gamesPerRound,1),OFFSET(Pairings11!$D$6,($M$80-1)*gamesPerRound,0,Analysis11!gamesPerRound,1), _xlfn.XLOOKUP(Q$80&$K85,OFFSET(Pairings11!$D$6,($M$80-1)*gamesPerRound,0,Analysis11!gamesPerRound,1),OFFSET(Pairings11!$C$6,($M$80-1)*gamesPerRound,0,Analysis11!gamesPerRound,1),"")),1)} -> J | R85: {=LEFT(_xlfn.XLOOKUP(R$80&$K85,OFFSET(Pairings11!$C$6,($M$80-1)*gamesPerRound,0,Analysis11!gamesPerRound,1),OFFSET(Pairings11!$D$6,($M$80-1)*gamesPerRound,0,Analysis11!gamesPerRound,1), _xlfn.XLOOKUP(R$80&$K85,OFFSET(Pairings11!$D$6,($M$80-1)*gamesPerRound,0,Analysis11!gamesPerRound,1),OFFSET(Pairings11!$C$6,($M$80-1)*gamesPerRound,0,Analysis11!gamesPerRound,1),"")),1)} -> I | S85: {=LEFT(_xlfn.XLOOKUP(S$80&$K85,OFFSET(Pairings11!$C$6,($M$80-1)*gamesPerRound,0,Analysis11!gamesPerRound,1),OFFSET(Pairings11!$D$6,($M$80-1)*gamesPerRound,0,Analysis11!gamesPerRound,1), _xlfn.XLOOKUP(S$80&$K85,OFFSET(Pairings11!$D$6,($M$80-1)*gamesPerRound,0,Analysis11!gamesPerRound,1),OFFSET(Pairings11!$C$6,($M$80-1)*gamesPerRound,0,Analysis11!gamesPerRound,1),"")),1)} -> B | T85: {=LEFT(_xlfn.XLOOKUP(T$80&$K85,OFFSET(Pairings11!$C$6,($M$80-1)*gamesPerRound,0,Analysis11!gamesPerRound,1),OFFSET(Pairings11!$D$6,($M$80-1)*gamesPerRound,0,Analysis11!gamesPerRound,1), _xlfn.XLOOKUP(T$80&$K85,OFFSET(Pairings11!$D$6,($M$80-1)*gamesPerRound,0,Analysis11!gamesPerRound,1),OFFSET(Pairings11!$C$6,($M$80-1)*gamesPerRound,0,Analysis11!gamesPerRound,1),"")),1)} -> K | U85: {=LEFT(_xlfn.XLOOKUP(U$80&$K85,OFFSET(Pairings11!$C$6,($M$80-1)*gamesPerRound,0,Analysis11!gamesPerRound,1),OFFSET(Pairings11!$D$6,($M$80-1)*gamesPerRound,0,Analysis11!gamesPerRound,1), _xlfn.XLOOKUP(U$80&$K85,OFFSET(Pairings11!$D$6,($M$80-1)*gamesPerRound,0,Analysis11!gamesPerRound,1),OFFSET(Pairings11!$C$6,($M$80-1)*gamesPerRound,0,Analysis11!gamesPerRound,1),"")),1)} -> C | ... Y85: {=LEFT(_xlfn.XLOOKUP(Y$80&$K85,OFFSET(Pairings11!$C$6,($M$80-1)*gamesPerRound,0,Analysis11!gamesPerRound,1),OFFSET(Pairings11!$D$6,($M$80-1)*gamesPerRound,0,Analysis11!gamesPerRound,1), _xlfn.XLOOKUP(Y$80&$K85,OFFSET(Pairings11!$D$6,($M$80-1)*gamesPerRound,0,Analysis11!gamesPerRound,1),OFFSET(Pairings11!$C$6,($M$80-1)*gamesPerRound,0,Analysis11!gamesPerRound,1),"")),1)}
A86: 2 | B86: I | C86: 04 | D86: H | E86: 04 | F86: =IF(E86<C86,B86&"."&C86,IF(C86<E86,D86&"."&E86,"")) | G86: =IF(E86>C86,B86&"."&C86,IF(C86>E86,D86&"."&E86,"")) | H86: FALSE | K86: .06 | N86: {=LEFT(_xlfn.XLOOKUP(N$80&$K86,OFFSET(Pairings11!$C$6,($M$80-1)*gamesPerRound,0,Analysis11!gamesPerRound,1),OFFSET(Pairings11!$D$6,($M$80-1)*gamesPerRound,0,Analysis11!gamesPerRound,1), _xlfn.XLOOKUP(N$80&$K86,OFFSET(Pairings11!$D$6,($M$80-1)*gamesPerRound,0,Analysis11!gamesPerRound,1),OFFSET(Pairings11!$C$6,($M$80-1)*gamesPerRound,0,Analysis11!gamesPerRound,1),"")),1)} -> G | O86: {=LEFT(_xlfn.XLOOKUP(O$80&$K86,OFFSET(Pairings11!$C$6,($M$80-1)*gamesPerRound,0,Analysis11!gamesPerRound,1),OFFSET(Pairings11!$D$6,($M$80-1)*gamesPerRound,0,Analysis11!gamesPerRound,1), _xlfn.XLOOKUP(O$80&$K86,OFFSET(Pairings11!$D$6,($M$80-1)*gamesPerRound,0,Analysis11!gamesPerRound,1),OFFSET(Pairings11!$C$6,($M$80-1)*gamesPerRound,0,Analysis11!gamesPerRound,1),"")),1)} -> C | P86: {=LEFT(_xlfn.XLOOKUP(P$80&$K86,OFFSET(Pairings11!$C$6,($M$80-1)*gamesPerRound,0,Analysis11!gamesPerRound,1),OFFSET(Pairings11!$D$6,($M$80-1)*gamesPerRound,0,Analysis11!gamesPerRound,1), _xlfn.XLOOKUP(P$80&$K86,OFFSET(Pairings11!$D$6,($M$80-1)*gamesPerRound,0,Analysis11!gamesPerRound,1),OFFSET(Pairings11!$C$6,($M$80-1)*gamesPerRound,0,Analysis11!gamesPerRound,1),"")),1)} -> B | Q86: {=LEFT(_xlfn.XLOOKUP(Q$80&$K86,OFFSET(Pairings11!$C$6,($M$80-1)*gamesPerRound,0,Analysis11!gamesPerRound,1),OFFSET(Pairings11!$D$6,($M$80-1)*gamesPerRound,0,Analysis11!gamesPerRound,1), _xlfn.XLOOKUP(Q$80&$K86,OFFSET(Pairings11!$D$6,($M$80-1)*gamesPerRound,0,Analysis11!gamesPerRound,1),OFFSET(Pairings11!$C$6,($M$80-1)*gamesPerRound,0,Analysis11!gamesPerRound,1),"")),1)} -> I | R86: {=LEFT(_xlfn.XLOOKUP(R$80&$K86,OFFSET(Pairings11!$C$6,($M$80-1)*gamesPerRound,0,Analysis11!gamesPerRound,1),OFFSET(Pairings11!$D$6,($M$80-1)*gamesPerRound,0,Analysis11!gamesPerRound,1), _xlfn.XLOOKUP(R$80&$K86,OFFSET(Pairings11!$D$6,($M$80-1)*gamesPerRound,0,Analysis11!gamesPerRound,1),OFFSET(Pairings11!$C$6,($M$80-1)*gamesPerRound,0,Analysis11!gamesPerRound,1),"")),1)} -> K | S86: {=LEFT(_xlfn.XLOOKUP(S$80&$K86,OFFSET(Pairings11!$C$6,($M$80-1)*gamesPerRound,0,Analysis11!gamesPerRound,1),OFFSET(Pairings11!$D$6,($M$80-1)*gamesPerRound,0,Analysis11!gamesPerRound,1), _xlfn.XLOOKUP(S$80&$K86,OFFSET(Pairings11!$D$6,($M$80-1)*gamesPerRound,0,Analysis11!gamesPerRound,1),OFFSET(Pairings11!$C$6,($M$80-1)*gamesPerRound,0,Analysis11!gamesPerRound,1),"")),1)} -> J | T86: {=LEFT(_xlfn.XLOOKUP(T$80&$K86,OFFSET(Pairings11!$C$6,($M$80-1)*gamesPerRound,0,Analysis11!gamesPerRound,1),OFFSET(Pairings11!$D$6,($M$80-1)*gamesPerRound,0,Analysis11!gamesPerRound,1), _xlfn.XLOOKUP(T$80&$K86,OFFSET(Pairings11!$D$6,($M$80-1)*gamesPerRound,0,Analysis11!gamesPerRound,1),OFFSET(Pairings11!$C$6,($M$80-1)*gamesPerRound,0,Analysis11!gamesPerRound,1),"")),1)} -> A | U86: {=LEFT(_xlfn.XLOOKUP(U$80&$K86,OFFSET(Pairings11!$C$6,($M$80-1)*gamesPerRound,0,Analysis11!gamesPerRound,1),OFFSET(Pairings11!$D$6,($M$80-1)*gamesPerRound,0,Analysis11!gamesPerRound,1), _xlfn.XLOOKUP(U$80&$K86,OFFSET(Pairings11!$D$6,($M$80-1)*gamesPerRound,0,Analysis11!gamesPerRound,1),OFFSET(Pairings11!$C$6,($M$80-1)*gamesPerRound,0,Analysis11!gamesPerRound,1),"")),1)} -> A | ... Y86: {=LEFT(_xlfn.XLOOKUP(Y$80&$K86,OFFSET(Pairings11!$C$6,($M$80-1)*gamesPerRound,0,Analysis11!gamesPerRound,1),OFFSET(Pairings11!$D$6,($M$80-1)*gamesPerRound,0,Analysis11!gamesPerRound,1), _xlfn.XLOOKUP(Y$80&$K86,OFFSET(Pairings11!$D$6,($M$80-1)*gamesPerRound,0,Analysis11!gamesPerRound,1),OFFSET(Pairings11!$C$6,($M$80-1)*gamesPerRound,0,Analysis11!gamesPerRound,1),"")),1)}
A87: 2 | B87: J | C87: 04 | D87: G | E87: 04 | F87: =IF(E87<C87,B87&"."&C87,IF(C87<E87,D87&"."&E87,"")) | G87: =IF(E87>C87,B87&"."&C87,IF(C87>E87,D87&"."&E87,"")) | H87: FALSE | K87: .07 | N87: {=LEFT(_xlfn.XLOOKUP(N$80&$K87,OFFSET(Pairings11!$C$6,($M$80-1)*gamesPerRound,0,Analysis11!gamesPerRound,1),OFFSET(Pairings11!$D$6,($M$80-1)*gamesPerRound,0,Analysis11!gamesPerRound,1), _xlfn.XLOOKUP(N$80&$K87,OFFSET(Pairings11!$D$6,($M$80-1)*gamesPerRound,0,Analysis11!gamesPerRound,1),OFFSET(Pairings11!$C$6,($M$80-1)*gamesPerRound,0,Analysis11!gamesPerRound,1),"")),1)} -> I | O87: {=LEFT(_xlfn.XLOOKUP(O$80&$K87,OFFSET(Pairings11!$C$6,($M$80-1)*gamesPerRound,0,Analysis11!gamesPerRound,1),OFFSET(Pairings11!$D$6,($M$80-1)*gamesPerRound,0,Analysis11!gamesPerRound,1), _xlfn.XLOOKUP(O$80&$K87,OFFSET(Pairings11!$D$6,($M$80-1)*gamesPerRound,0,Analysis11!gamesPerRound,1),OFFSET(Pairings11!$C$6,($M$80-1)*gamesPerRound,0,Analysis11!gamesPerRound,1),"")),1)} -> C | P87: {=LEFT(_xlfn.XLOOKUP(P$80&$K87,OFFSET(Pairings11!$C$6,($M$80-1)*gamesPerRound,0,Analysis11!gamesPerRound,1),OFFSET(Pairings11!$D$6,($M$80-1)*gamesPerRound,0,Analysis11!gamesPerRound,1), _xlfn.XLOOKUP(P$80&$K87,OFFSET(Pairings11!$D$6,($M$80-1)*gamesPerRound,0,Analysis11!gamesPerRound,1),OFFSET(Pairings11!$C$6,($M$80-1)*gamesPerRound,0,Analysis11!gamesPerRound,1),"")),1)} -> B | Q87: {=LEFT(_xlfn.XLOOKUP(Q$80&$K87,OFFSET(Pairings11!$C$6,($M$80-1)*gamesPerRound,0,Analysis11!gamesPerRound,1),OFFSET(Pairings11!$D$6,($M$80-1)*gamesPerRound,0,Analysis11!gamesPerRound,1), _xlfn.XLOOKUP(Q$80&$K87,OFFSET(Pairings11!$D$6,($M$80-1)*gamesPerRound,0,Analysis11!gamesPerRound,1),OFFSET(Pairings11!$C$6,($M$80-1)*gamesPerRound,0,Analysis11!gamesPerRound,1),"")),1)} -> G | R87: {=LEFT(_xlfn.XLOOKUP(R$80&$K87,OFFSET(Pairings11!$C$6,($M$80-1)*gamesPerRound,0,Analysis11!gamesPerRound,1),OFFSET(Pairings11!$D$6,($M$80-1)*gamesPerRound,0,Analysis11!gamesPerRound,1), _xlfn.XLOOKUP(R$80&$K87,OFFSET(Pairings11!$D$6,($M$80-1)*gamesPerRound,0,Analysis11!gamesPerRound,1),OFFSET(Pairings11!$C$6,($M$80-1)*gamesPerRound,0,Analysis11!gamesPerRound,1),"")),1)} -> C | S87: {=LEFT(_xlfn.XLOOKUP(S$80&$K87,OFFSET(Pairings11!$C$6,($M$80-1)*gamesPerRound,0,Analysis11!gamesPerRound,1),OFFSET(Pairings11!$D$6,($M$80-1)*gamesPerRound,0,Analysis11!gamesPerRound,1), _xlfn.XLOOKUP(S$80&$K87,OFFSET(Pairings11!$D$6,($M$80-1)*gamesPerRound,0,Analysis11!gamesPerRound,1),OFFSET(Pairings11!$C$6,($M$80-1)*gamesPerRound,0,Analysis11!gamesPerRound,1),"")),1)} -> K | T87: {=LEFT(_xlfn.XLOOKUP(T$80&$K87,OFFSET(Pairings11!$C$6,($M$80-1)*gamesPerRound,0,Analysis11!gamesPerRound,1),OFFSET(Pairings11!$D$6,($M$80-1)*gamesPerRound,0,Analysis11!gamesPerRound,1), _xlfn.XLOOKUP(T$80&$K87,OFFSET(Pairings11!$D$6,($M$80-1)*gamesPerRound,0,Analysis11!gamesPerRound,1),OFFSET(Pairings11!$C$6,($M$80-1)*gamesPerRound,0,Analysis11!gamesPerRound,1),"")),1)} -> D | U87: {=LEFT(_xlfn.XLOOKUP(U$80&$K87,OFFSET(Pairings11!$C$6,($M$80-1)*gamesPerRound,0,Analysis11!gamesPerRound,1),OFFSET(Pairings11!$D$6,($M$80-1)*gamesPerRound,0,Analysis11!gamesPerRound,1), _xlfn.XLOOKUP(U$80&$K87,OFFSET(Pairings11!$D$6,($M$80-1)*gamesPerRound,0,Analysis11!gamesPerRound,1),OFFSET(Pairings11!$C$6,($M$80-1)*gamesPerRound,0,Analysis11!gamesPerRound,1),"")),1)} -> J | ... Y87: {=LEFT(_xlfn.XLOOKUP(Y$80&$K87,OFFSET(Pairings11!$C$6,($M$80-1)*gamesPerRound,0,Analysis11!gamesPerRound,1),OFFSET(Pairings11!$D$6,($M$80-1)*gamesPerRound,0,Analysis11!gamesPerRound,1), _xlfn.XLOOKUP(Y$80&$K87,OFFSET(Pairings11!$D$6,($M$80-1)*gamesPerRound,0,Analysis11!gamesPerRound,1),OFFSET(Pairings11!$C$6,($M$80-1)*gamesPerRound,0,Analysis11!gamesPerRound,1),"")),1)}
A88: 2 | B88: B | C88: 05 | D88: E | E88: 05 | F88: =IF(E88<C88,B88&"."&C88,IF(C88<E88,D88&"."&E88,"")) | G88: =IF(E88>C88,B88&"."&C88,IF(C88>E88,D88&"."&E88,"")) | H88: FALSE | K88: .08 | N88: {=LEFT(_xlfn.XLOOKUP(N$80&$K88,OFFSET(Pairings11!$C$6,($M$80-1)*gamesPerRound,0,Analysis11!gamesPerRound,1),OFFSET(Pairings11!$D$6,($M$80-1)*gamesPerRound,0,Analysis11!gamesPerRound,1), _xlfn.XLOOKUP(N$80&$K88,OFFSET(Pairings11!$D$6,($M$80-1)*gamesPerRound,0,Analysis11!gamesPerRound,1),OFFSET(Pairings11!$C$6,($M$80-1)*gamesPerRound,0,Analysis11!gamesPerRound,1),"")),1)} -> J | O88: {=LEFT(_xlfn.XLOOKUP(O$80&$K88,OFFSET(Pairings11!$C$6,($M$80-1)*gamesPerRound,0,Analysis11!gamesPerRound,1),OFFSET(Pairings11!$D$6,($M$80-1)*gamesPerRound,0,Analysis11!gamesPerRound,1), _xlfn.XLOOKUP(O$80&$K88,OFFSET(Pairings11!$D$6,($M$80-1)*gamesPerRound,0,Analysis11!gamesPerRound,1),OFFSET(Pairings11!$C$6,($M$80-1)*gamesPerRound,0,Analysis11!gamesPerRound,1),"")),1)} -> I | P88: {=LEFT(_xlfn.XLOOKUP(P$80&$K88,OFFSET(Pairings11!$C$6,($M$80-1)*gamesPerRound,0,Analysis11!gamesPerRound,1),OFFSET(Pairings11!$D$6,($M$80-1)*gamesPerRound,0,Analysis11!gamesPerRound,1), _xlfn.XLOOKUP(P$80&$K88,OFFSET(Pairings11!$D$6,($M$80-1)*gamesPerRound,0,Analysis11!gamesPerRound,1),OFFSET(Pairings11!$C$6,($M$80-1)*gamesPerRound,0,Analysis11!gamesPerRound,1),"")),1)} -> E | Q88: {=LEFT(_xlfn.XLOOKUP(Q$80&$K88,OFFSET(Pairings11!$C$6,($M$80-1)*gamesPerRound,0,Analysis11!gamesPerRound,1),OFFSET(Pairings11!$D$6,($M$80-1)*gamesPerRound,0,Analysis11!gamesPerRound,1), _xlfn.XLOOKUP(Q$80&$K88,OFFSET(Pairings11!$D$6,($M$80-1)*gamesPerRound,0,Analysis11!gamesPerRound,1),OFFSET(Pairings11!$C$6,($M$80-1)*gamesPerRound,0,Analysis11!gamesPerRound,1),"")),1)} -> K | R88: {=LEFT(_xlfn.XLOOKUP(R$80&$K88,OFFSET(Pairings11!$C$6,($M$80-1)*gamesPerRound,0,Analysis11!gamesPerRound,1),OFFSET(Pairings11!$D$6,($M$80-1)*gamesPerRound,0,Analysis11!gamesPerRound,1), _xlfn.XLOOKUP(R$80&$K88,OFFSET(Pairings11!$D$6,($M$80-1)*gamesPerRound,0,Analysis11!gamesPerRound,1),OFFSET(Pairings11!$C$6,($M$80-1)*gamesPerRound,0,Analysis11!gamesPerRound,1),"")),1)} -> F | S88: {=LEFT(_xlfn.XLOOKUP(S$80&$K88,OFFSET(Pairings11!$C$6,($M$80-1)*gamesPerRound,0,Analysis11!gamesPerRound,1),OFFSET(Pairings11!$D$6,($M$80-1)*gamesPerRound,0,Analysis11!gamesPerRound,1), _xlfn.XLOOKUP(S$80&$K88,OFFSET(Pairings11!$D$6,($M$80-1)*gamesPerRound,0,Analysis11!gamesPerRound,1),OFFSET(Pairings11!$C$6,($M$80-1)*gamesPerRound,0,Analysis11!gamesPerRound,1),"")),1)} -> E | T88: {=LEFT(_xlfn.XLOOKUP(T$80&$K88,OFFSET(Pairings11!$C$6,($M$80-1)*gamesPerRound,0,Analysis11!gamesPerRound,1),OFFSET(Pairings11!$D$6,($M$80-1)*gamesPerRound,0,Analysis11!gamesPerRound,1), _xlfn.XLOOKUP(T$80&$K88,OFFSET(Pairings11!$D$6,($M$80-1)*gamesPerRound,0,Analysis11!gamesPerRound,1),OFFSET(Pairings11!$C$6,($M$80-1)*gamesPerRound,0,Analysis11!gamesPerRound,1),"")),1)} -> H | U88: {=LEFT(_xlfn.XLOOKUP(U$80&$K88,OFFSET(Pairings11!$C$6,($M$80-1)*gamesPerRound,0,Analysis11!gamesPerRound,1),OFFSET(Pairings11!$D$6,($M$80-1)*gamesPerRound,0,Analysis11!gamesPerRound,1), _xlfn.XLOOKUP(U$80&$K88,OFFSET(Pairings11!$D$6,($M$80-1)*gamesPerRound,0,Analysis11!gamesPerRound,1),OFFSET(Pairings11!$C$6,($M$80-1)*gamesPerRound,0,Analysis11!gamesPerRound,1),"")),1)} -> G | ... Y88: {=LEFT(_xlfn.XLOOKUP(Y$80&$K88,OFFSET(Pairings11!$C$6,($M$80-1)*gamesPerRound,0,Analysis11!gamesPerRound,1),OFFSET(Pairings11!$D$6,($M$80-1)*gamesPerRound,0,Analysis11!gamesPerRound,1), _xlfn.XLOOKUP(Y$80&$K88,OFFSET(Pairings11!$D$6,($M$80-1)*gamesPerRound,0,Analysis11!gamesPerRound,1),OFFSET(Pairings11!$C$6,($M$80-1)*gamesPerRound,0,Analysis11!gamesPerRound,1),"")),1)}
A89: 2 | B89: F | C89: 05 | D89: A | E89: 05 | F89: =IF(E89<C89,B89&"."&C89,IF(C89<E89,D89&"."&E89,"")) | G89: =IF(E89>C89,B89&"."&C89,IF(C89>E89,D89&"."&E89,"")) | H89: FALSE | K89: .09 | N89: {=LEFT(_xlfn.XLOOKUP(N$80&$K89,OFFSET(Pairings11!$C$6,($M$80-1)*gamesPerRound,0,Analysis11!gamesPerRound,1),OFFSET(Pairings11!$D$6,($M$80-1)*gamesPerRound,0,Analysis11!gamesPerRound,1), _xlfn.XLOOKUP(N$80&$K89,OFFSET(Pairings11!$D$6,($M$80-1)*gamesPerRound,0,Analysis11!gamesPerRound,1),OFFSET(Pairings11!$C$6,($M$80-1)*gamesPerRound,0,Analysis11!gamesPerRound,1),"")),1)} -> D | O89: {=LEFT(_xlfn.XLOOKUP(O$80&$K89,OFFSET(Pairings11!$C$6,($M$80-1)*gamesPerRound,0,Analysis11!gamesPerRound,1),OFFSET(Pairings11!$D$6,($M$80-1)*gamesPerRound,0,Analysis11!gamesPerRound,1), _xlfn.XLOOKUP(O$80&$K89,OFFSET(Pairings11!$D$6,($M$80-1)*gamesPerRound,0,Analysis11!gamesPerRound,1),OFFSET(Pairings11!$C$6,($M$80-1)*gamesPerRound,0,Analysis11!gamesPerRound,1),"")),1)} -> F | P89: {=LEFT(_xlfn.XLOOKUP(P$80&$K89,OFFSET(Pairings11!$C$6,($M$80-1)*gamesPerRound,0,Analysis11!gamesPerRound,1),OFFSET(Pairings11!$D$6,($M$80-1)*gamesPerRound,0,Analysis11!gamesPerRound,1), _xlfn.XLOOKUP(P$80&$K89,OFFSET(Pairings11!$D$6,($M$80-1)*gamesPerRound,0,Analysis11!gamesPerRound,1),OFFSET(Pairings11!$C$6,($M$80-1)*gamesPerRound,0,Analysis11!gamesPerRound,1),"")),1)} -> F | Q89: {=LEFT(_xlfn.XLOOKUP(Q$80&$K89,OFFSET(Pairings11!$C$6,($M$80-1)*gamesPerRound,0,Analysis11!gamesPerRound,1),OFFSET(Pairings11!$D$6,($M$80-1)*gamesPerRound,0,Analysis11!gamesPerRound,1), _xlfn.XLOOKUP(Q$80&$K89,OFFSET(Pairings11!$D$6,($M$80-1)*gamesPerRound,0,Analysis11!gamesPerRound,1),OFFSET(Pairings11!$C$6,($M$80-1)*gamesPerRound,0,Analysis11!gamesPerRound,1),"")),1)} -> A | R89: {=LEFT(_xlfn.XLOOKUP(R$80&$K89,OFFSET(Pairings11!$C$6,($M$80-1)*gamesPerRound,0,Analysis11!gamesPerRound,1),OFFSET(Pairings11!$D$6,($M$80-1)*gamesPerRound,0,Analysis11!gamesPerRound,1), _xlfn.XLOOKUP(R$80&$K89,OFFSET(Pairings11!$D$6,($M$80-1)*gamesPerRound,0,Analysis11!gamesPerRound,1),OFFSET(Pairings11!$C$6,($M$80-1)*gamesPerRound,0,Analysis11!gamesPerRound,1),"")),1)} -> J | S89: {=LEFT(_xlfn.XLOOKUP(S$80&$K89,OFFSET(Pairings11!$C$6,($M$80-1)*gamesPerRound,0,Analysis11!gamesPerRound,1),OFFSET(Pairings11!$D$6,($M$80-1)*gamesPerRound,0,Analysis11!gamesPerRound,1), _xlfn.XLOOKUP(S$80&$K89,OFFSET(Pairings11!$D$6,($M$80-1)*gamesPerRound,0,Analysis11!gamesPerRound,1),OFFSET(Pairings11!$C$6,($M$80-1)*gamesPerRound,0,Analysis11!gamesPerRound,1),"")),1)} -> B | T89: {=LEFT(_xlfn.XLOOKUP(T$80&$K89,OFFSET(Pairings11!$C$6,($M$80-1)*gamesPerRound,0,Analysis11!gamesPerRound,1),OFFSET(Pairings11!$D$6,($M$80-1)*gamesPerRound,0,Analysis11!gamesPerRound,1), _xlfn.XLOOKUP(T$80&$K89,OFFSET(Pairings11!$D$6,($M$80-1)*gamesPerRound,0,Analysis11!gamesPerRound,1),OFFSET(Pairings11!$C$6,($M$80-1)*gamesPerRound,0,Analysis11!gamesPerRound,1),"")),1)} -> K | U89: {=LEFT(_xlfn.XLOOKUP(U$80&$K89,OFFSET(Pairings11!$C$6,($M$80-1)*gamesPerRound,0,Analysis11!gamesPerRound,1),OFFSET(Pairings11!$D$6,($M$80-1)*gamesPerRound,0,Analysis11!gamesPerRound,1), _xlfn.XLOOKUP(U$80&$K89,OFFSET(Pairings11!$D$6,($M$80-1)*gamesPerRound,0,Analysis11!gamesPerRound,1),OFFSET(Pairings11!$C$6,($M$80-1)*gamesPerRound,0,Analysis11!gamesPerRound,1),"")),1)} -> I | ... Y89: {=LEFT(_xlfn.XLOOKUP(Y$80&$K89,OFFSET(Pairings11!$C$6,($M$80-1)*gamesPerRound,0,Analysis11!gamesPerRound,1),OFFSET(Pairings11!$D$6,($M$80-1)*gamesPerRound,0,Analysis11!gamesPerRound,1), _xlfn.XLOOKUP(Y$80&$K89,OFFSET(Pairings11!$D$6,($M$80-1)*gamesPerRound,0,Analysis11!gamesPerRound,1),OFFSET(Pairings11!$C$6,($M$80-1)*gamesPerRound,0,Analysis11!gamesPerRound,1),"")),1)}
A90: 2 | B90: C | C90: 05 | D90: K | E90: 05 | F90: =IF(E90<C90,B90&"."&C90,IF(C90<E90,D90&"."&E90,"")) | G90: =IF(E90>C90,B90&"."&C90,IF(C90>E90,D90&"."&E90,"")) | H90: FALSE | K90: .10 | N90: {=LEFT(_xlfn.XLOOKUP(N$80&$K90,OFFSET(Pairings11!$C$6,($M$80-1)*gamesPerRound,0,Analysis11!gamesPerRound,1),OFFSET(Pairings11!$D$6,($M$80-1)*gamesPerRound,0,Analysis11!gamesPerRound,1), _xlfn.XLOOKUP(N$80&$K90,OFFSET(Pairings11!$D$6,($M$80-1)*gamesPerRound,0,Analysis11!gamesPerRound,1),OFFSET(Pairings11!$C$6,($M$80-1)*gamesPerRound,0,Analysis11!gamesPerRound,1),"")),1)} -> E | O90: {=LEFT(_xlfn.XLOOKUP(O$80&$K90,OFFSET(Pairings11!$C$6,($M$80-1)*gamesPerRound,0,Analysis11!gamesPerRound,1),OFFSET(Pairings11!$D$6,($M$80-1)*gamesPerRound,0,Analysis11!gamesPerRound,1), _xlfn.XLOOKUP(O$80&$K90,OFFSET(Pairings11!$D$6,($M$80-1)*gamesPerRound,0,Analysis11!gamesPerRound,1),OFFSET(Pairings11!$C$6,($M$80-1)*gamesPerRound,0,Analysis11!gamesPerRound,1),"")),1)} -> H | P90: {=LEFT(_xlfn.XLOOKUP(P$80&$K90,OFFSET(Pairings11!$C$6,($M$80-1)*gamesPerRound,0,Analysis11!gamesPerRound,1),OFFSET(Pairings11!$D$6,($M$80-1)*gamesPerRound,0,Analysis11!gamesPerRound,1), _xlfn.XLOOKUP(P$80&$K90,OFFSET(Pairings11!$D$6,($M$80-1)*gamesPerRound,0,Analysis11!gamesPerRound,1),OFFSET(Pairings11!$C$6,($M$80-1)*gamesPerRound,0,Analysis11!gamesPerRound,1),"")),1)} -> K | Q90: {=LEFT(_xlfn.XLOOKUP(Q$80&$K90,OFFSET(Pairings11!$C$6,($M$80-1)*gamesPerRound,0,Analysis11!gamesPerRound,1),OFFSET(Pairings11!$D$6,($M$80-1)*gamesPerRound,0,Analysis11!gamesPerRound,1), _xlfn.XLOOKUP(Q$80&$K90,OFFSET(Pairings11!$D$6,($M$80-1)*gamesPerRound,0,Analysis11!gamesPerRound,1),OFFSET(Pairings11!$C$6,($M$80-1)*gamesPerRound,0,Analysis11!gamesPerRound,1),"")),1)} -> I | R90: {=LEFT(_xlfn.XLOOKUP(R$80&$K90,OFFSET(Pairings11!$C$6,($M$80-1)*gamesPerRound,0,Analysis11!gamesPerRound,1),OFFSET(Pairings11!$D$6,($M$80-1)*gamesPerRound,0,Analysis11!gamesPerRound,1), _xlfn.XLOOKUP(R$80&$K90,OFFSET(Pairings11!$D$6,($M$80-1)*gamesPerRound,0,Analysis11!gamesPerRound,1),OFFSET(Pairings11!$C$6,($M$80-1)*gamesPerRound,0,Analysis11!gamesPerRound,1),"")),1)} -> A | S90: {=LEFT(_xlfn.XLOOKUP(S$80&$K90,OFFSET(Pairings11!$C$6,($M$80-1)*gamesPerRound,0,Analysis11!gamesPerRound,1),OFFSET(Pairings11!$D$6,($M$80-1)*gamesPerRound,0,Analysis11!gamesPerRound,1), _xlfn.XLOOKUP(S$80&$K90,OFFSET(Pairings11!$D$6,($M$80-1)*gamesPerRound,0,Analysis11!gamesPerRound,1),OFFSET(Pairings11!$C$6,($M$80-1)*gamesPerRound,0,Analysis11!gamesPerRound,1),"")),1)} -> C | T90: {=LEFT(_xlfn.XLOOKUP(T$80&$K90,OFFSET(Pairings11!$C$6,($M$80-1)*gamesPerRound,0,Analysis11!gamesPerRound,1),OFFSET(Pairings11!$D$6,($M$80-1)*gamesPerRound,0,Analysis11!gamesPerRound,1), _xlfn.XLOOKUP(T$80&$K90,OFFSET(Pairings11!$D$6,($M$80-1)*gamesPerRound,0,Analysis11!gamesPerRound,1),OFFSET(Pairings11!$C$6,($M$80-1)*gamesPerRound,0,Analysis11!gamesPerRound,1),"")),1)} -> J | U90: {=LEFT(_xlfn.XLOOKUP(U$80&$K90,OFFSET(Pairings11!$C$6,($M$80-1)*gamesPerRound,0,Analysis11!gamesPerRound,1),OFFSET(Pairings11!$D$6,($M$80-1)*gamesPerRound,0,Analysis11!gamesPerRound,1), _xlfn.XLOOKUP(U$80&$K90,OFFSET(Pairings11!$D$6,($M$80-1)*gamesPerRound,0,Analysis11!gamesPerRound,1),OFFSET(Pairings11!$C$6,($M$80-1)*gamesPerRound,0,Analysis11!gamesPerRound,1),"")),1)} -> B | ... Y90: {=LEFT(_xlfn.XLOOKUP(Y$80&$K90,OFFSET(Pairings11!$C$6,($M$80-1)*gamesPerRound,0,Analysis11!gamesPerRound,1),OFFSET(Pairings11!$D$6,($M$80-1)*gamesPerRound,0,Analysis11!gamesPerRound,1), _xlfn.XLOOKUP(Y$80&$K90,OFFSET(Pairings11!$D$6,($M$80-1)*gamesPerRound,0,Analysis11!gamesPerRound,1),OFFSET(Pairings11!$C$6,($M$80-1)*gamesPerRound,0,Analysis11!gamesPerRound,1),"")),1)}
A91: 2 | B91: G | C91: 05 | D91: I | E91: 05 | F91: =IF(E91<C91,B91&"."&C91,IF(C91<E91,D91&"."&E91,"")) | G91: =IF(E91>C91,B91&"."&C91,IF(C91>E91,D91&"."&E91,"")) | H91: FALSE | K91: board | L91: Round | M91: 2
A92: 2 | B92: H | C92: 05 | D92: D | E92: 05 | F92: =IF(E92<C92,B92&"."&C92,IF(C92<E92,D92&"."&E92,"")) | G92: =IF(E92>C92,B92&"."&C92,IF(C92>E92,D92&"."&E92,"")) | H92: FALSE | K92: .01 | N92: {=LEFT(_xlfn.XLOOKUP(N$80&$K92,OFFSET(Pairings11!$C$6,($M$91-1)*gamesPerRound,0,Analysis11!gamesPerRound,1),OFFSET(Pairings11!$D$6,($M$91-1)*gamesPerRound,0,Analysis11!gamesPerRound,1), _xlfn.XLOOKUP(N$80&$K92,OFFSET(Pairings11!$D$6,($M$91-1)*gamesPerRound,0,Analysis11!gamesPerRound,1),OFFSET(Pairings11!$C$6,($M$91-1)*gamesPerRound,0,Analysis11!gamesPerRound,1),"")),1)} -> G | O92: {=LEFT(_xlfn.XLOOKUP(O$80&$K92,OFFSET(Pairings11!$C$6,($M$91-1)*gamesPerRound,0,Analysis11!gamesPerRound,1),OFFSET(Pairings11!$D$6,($M$91-1)*gamesPerRound,0,Analysis11!gamesPerRound,1), _xlfn.XLOOKUP(O$80&$K92,OFFSET(Pairings11!$D$6,($M$91-1)*gamesPerRound,0,Analysis11!gamesPerRound,1),OFFSET(Pairings11!$C$6,($M$91-1)*gamesPerRound,0,Analysis11!gamesPerRound,1),"")),1)} -> K | P92: {=LEFT(_xlfn.XLOOKUP(P$80&$K92,OFFSET(Pairings11!$C$6,($M$91-1)*gamesPerRound,0,Analysis11!gamesPerRound,1),OFFSET(Pairings11!$D$6,($M$91-1)*gamesPerRound,0,Analysis11!gamesPerRound,1), _xlfn.XLOOKUP(P$80&$K92,OFFSET(Pairings11!$D$6,($M$91-1)*gamesPerRound,0,Analysis11!gamesPerRound,1),OFFSET(Pairings11!$C$6,($M$91-1)*gamesPerRound,0,Analysis11!gamesPerRound,1),"")),1)} -> J | Q92: {=LEFT(_xlfn.XLOOKUP(Q$80&$K92,OFFSET(Pairings11!$C$6,($M$91-1)*gamesPerRound,0,Analysis11!gamesPerRound,1),OFFSET(Pairings11!$D$6,($M$91-1)*gamesPerRound,0,Analysis11!gamesPerRound,1), _xlfn.XLOOKUP(Q$80&$K92,OFFSET(Pairings11!$D$6,($M$91-1)*gamesPerRound,0,Analysis11!gamesPerRound,1),OFFSET(Pairings11!$C$6,($M$91-1)*gamesPerRound,0,Analysis11!gamesPerRound,1),"")),1)} -> C | R92: {=LEFT(_xlfn.XLOOKUP(R$80&$K92,OFFSET(Pairings11!$C$6,($M$91-1)*gamesPerRound,0,Analysis11!gamesPerRound,1),OFFSET(Pairings11!$D$6,($M$91-1)*gamesPerRound,0,Analysis11!gamesPerRound,1), _xlfn.XLOOKUP(R$80&$K92,OFFSET(Pairings11!$D$6,($M$91-1)*gamesPerRound,0,Analysis11!gamesPerRound,1),OFFSET(Pairings11!$C$6,($M$91-1)*gamesPerRound,0,Analysis11!gamesPerRound,1),"")),1)} -> I | S92: {=LEFT(_xlfn.XLOOKUP(S$80&$K92,OFFSET(Pairings11!$C$6,($M$91-1)*gamesPerRound,0,Analysis11!gamesPerRound,1),OFFSET(Pairings11!$D$6,($M$91-1)*gamesPerRound,0,Analysis11!gamesPerRound,1), _xlfn.XLOOKUP(S$80&$K92,OFFSET(Pairings11!$D$6,($M$91-1)*gamesPerRound,0,Analysis11!gamesPerRound,1),OFFSET(Pairings11!$C$6,($M$91-1)*gamesPerRound,0,Analysis11!gamesPerRound,1),"")),1)} -> H | T92: {=LEFT(_xlfn.XLOOKUP(T$80&$K92,OFFSET(Pairings11!$C$6,($M$91-1)*gamesPerRound,0,Analysis11!gamesPerRound,1),OFFSET(Pairings11!$D$6,($M$91-1)*gamesPerRound,0,Analysis11!gamesPerRound,1), _xlfn.XLOOKUP(T$80&$K92,OFFSET(Pairings11!$D$6,($M$91-1)*gamesPerRound,0,Analysis11!gamesPerRound,1),OFFSET(Pairings11!$C$6,($M$91-1)*gamesPerRound,0,Analysis11!gamesPerRound,1),"")),1)} -> A | U92: {=LEFT(_xlfn.XLOOKUP(U$80&$K92,OFFSET(Pairings11!$C$6,($M$91-1)*gamesPerRound,0,Analysis11!gamesPerRound,1),OFFSET(Pairings11!$D$6,($M$91-1)*gamesPerRound,0,Analysis11!gamesPerRound,1), _xlfn.XLOOKUP(U$80&$K92,OFFSET(Pairings11!$D$6,($M$91-1)*gamesPerRound,0,Analysis11!gamesPerRound,1),OFFSET(Pairings11!$C$6,($M$91-1)*gamesPerRound,0,Analysis11!gamesPerRound,1),"")),1)} -> F | ... Y92: {=LEFT(_xlfn.XLOOKUP(Y$80&$K92,OFFSET(Pairings11!$C$6,($M$91-1)*gamesPerRound,0,Analysis11!gamesPerRound,1),OFFSET(Pairings11!$D$6,($M$91-1)*gamesPerRound,0,Analysis11!gamesPerRound,1), _xlfn.XLOOKUP(Y$80&$K92,OFFSET(Pairings11!$D$6,($M$91-1)*gamesPerRound,0,Analysis11!gamesPerRound,1),OFFSET(Pairings11!$C$6,($M$91-1)*gamesPerRound,0,Analysis11!gamesPerRound,1),"")),1)}
A93: 2 | B93: I | C93: 06 | D93: J | E93: 05 | F93: =IF(E93<C93,B93&"."&C93,IF(C93<E93,D93&"."&E93,"")) -> I.06 | G93: =IF(E93>C93,B93&"."&C93,IF(C93>E93,D93&"."&E93,"")) -> J.05 | H93: FALSE | K93: .02 | N93: {=LEFT(_xlfn.XLOOKUP(N$80&$K93,OFFSET(Pairings11!$C$6,($M$91-1)*gamesPerRound,0,Analysis11!gamesPerRound,1),OFFSET(Pairings11!$D$6,($M$91-1)*gamesPerRound,0,Analysis11!gamesPerRound,1), _xlfn.XLOOKUP(N$80&$K93,OFFSET(Pairings11!$D$6,($M$91-1)*gamesPerRound,0,Analysis11!gamesPerRound,1),OFFSET(Pairings11!$C$6,($M$91-1)*gamesPerRound,0,Analysis11!gamesPerRound,1),"")),1)} -> F | O93: {=LEFT(_xlfn.XLOOKUP(O$80&$K93,OFFSET(Pairings11!$C$6,($M$91-1)*gamesPerRound,0,Analysis11!gamesPerRound,1),OFFSET(Pairings11!$D$6,($M$91-1)*gamesPerRound,0,Analysis11!gamesPerRound,1), _xlfn.XLOOKUP(O$80&$K93,OFFSET(Pairings11!$D$6,($M$91-1)*gamesPerRound,0,Analysis11!gamesPerRound,1),OFFSET(Pairings11!$C$6,($M$91-1)*gamesPerRound,0,Analysis11!gamesPerRound,1),"")),1)} -> D | P93: {=LEFT(_xlfn.XLOOKUP(P$80&$K93,OFFSET(Pairings11!$C$6,($M$91-1)*gamesPerRound,0,Analysis11!gamesPerRound,1),OFFSET(Pairings11!$D$6,($M$91-1)*gamesPerRound,0,Analysis11!gamesPerRound,1), _xlfn.XLOOKUP(P$80&$K93,OFFSET(Pairings11!$D$6,($M$91-1)*gamesPerRound,0,Analysis11!gamesPerRound,1),OFFSET(Pairings11!$C$6,($M$91-1)*gamesPerRound,0,Analysis11!gamesPerRound,1),"")),1)} -> D | Q93: {=LEFT(_xlfn.XLOOKUP(Q$80&$K93,OFFSET(Pairings11!$C$6,($M$91-1)*gamesPerRound,0,Analysis11!gamesPerRound,1),OFFSET(Pairings11!$D$6,($M$91-1)*gamesPerRound,0,Analysis11!gamesPerRound,1), _xlfn.XLOOKUP(Q$80&$K93,OFFSET(Pairings11!$D$6,($M$91-1)*gamesPerRound,0,Analysis11!gamesPerRound,1),OFFSET(Pairings11!$C$6,($M$91-1)*gamesPerRound,0,Analysis11!gamesPerRound,1),"")),1)} -> B | R93: {=LEFT(_xlfn.XLOOKUP(R$80&$K93,OFFSET(Pairings11!$C$6,($M$91-1)*gamesPerRound,0,Analysis11!gamesPerRound,1),OFFSET(Pairings11!$D$6,($M$91-1)*gamesPerRound,0,Analysis11!gamesPerRound,1), _xlfn.XLOOKUP(R$80&$K93,OFFSET(Pairings11!$D$6,($M$91-1)*gamesPerRound,0,Analysis11!gamesPerRound,1),OFFSET(Pairings11!$C$6,($M$91-1)*gamesPerRound,0,Analysis11!gamesPerRound,1),"")),1)} -> G | S93: {=LEFT(_xlfn.XLOOKUP(S$80&$K93,OFFSET(Pairings11!$C$6,($M$91-1)*gamesPerRound,0,Analysis11!gamesPerRound,1),OFFSET(Pairings11!$D$6,($M$91-1)*gamesPerRound,0,Analysis11!gamesPerRound,1), _xlfn.XLOOKUP(S$80&$K93,OFFSET(Pairings11!$D$6,($M$91-1)*gamesPerRound,0,Analysis11!gamesPerRound,1),OFFSET(Pairings11!$C$6,($M$91-1)*gamesPerRound,0,Analysis11!gamesPerRound,1),"")),1)} -> A | T93: {=LEFT(_xlfn.XLOOKUP(T$80&$K93,OFFSET(Pairings11!$C$6,($M$91-1)*gamesPerRound,0,Analysis11!gamesPerRound,1),OFFSET(Pairings11!$D$6,($M$91-1)*gamesPerRound,0,Analysis11!gamesPerRound,1), _xlfn.XLOOKUP(T$80&$K93,OFFSET(Pairings11!$D$6,($M$91-1)*gamesPerRound,0,Analysis11!gamesPerRound,1),OFFSET(Pairings11!$C$6,($M$91-1)*gamesPerRound,0,Analysis11!gamesPerRound,1),"")),1)} -> E | U93: {=LEFT(_xlfn.XLOOKUP(U$80&$K93,OFFSET(Pairings11!$C$6,($M$91-1)*gamesPerRound,0,Analysis11!gamesPerRound,1),OFFSET(Pairings11!$D$6,($M$91-1)*gamesPerRound,0,Analysis11!gamesPerRound,1), _xlfn.XLOOKUP(U$80&$K93,OFFSET(Pairings11!$D$6,($M$91-1)*gamesPerRound,0,Analysis11!gamesPerRound,1),OFFSET(Pairings11!$C$6,($M$91-1)*gamesPerRound,0,Analysis11!gamesPerRound,1),"")),1)} -> J | ... Y93: {=LEFT(_xlfn.XLOOKUP(Y$80&$K93,OFFSET(Pairings11!$C$6,($M$91-1)*gamesPerRound,0,Analysis11!gamesPerRound,1),OFFSET(Pairings11!$D$6,($M$91-1)*gamesPerRound,0,Analysis11!gamesPerRound,1), _xlfn.XLOOKUP(Y$80&$K93,OFFSET(Pairings11!$D$6,($M$91-1)*gamesPerRound,0,Analysis11!gamesPerRound,1),OFFSET(Pairings11!$C$6,($M$91-1)*gamesPerRound,0,Analysis11!gamesPerRound,1),"")),1)}
A94: 2 | B94: E | C94: 06 | D94: G | E94: 06 | F94: =IF(E94<C94,B94&"."&C94,IF(C94<E94,D94&"."&E94,"")) | G94: =IF(E94>C94,B94&"."&C94,IF(C94>E94,D94&"."&E94,"")) | H94: FALSE | K94: .03 | N94: {=LEFT(_xlfn.XLOOKUP(N$80&$K94,OFFSET(Pairings11!$C$6,($M$91-1)*gamesPerRound,0,Analysis11!gamesPerRound,1),OFFSET(Pairings11!$D$6,($M$91-1)*gamesPerRound,0,Analysis11!gamesPerRound,1), _xlfn.XLOOKUP(N$80&$K94,OFFSET(Pairings11!$D$6,($M$91-1)*gamesPerRound,0,Analysis11!gamesPerRound,1),OFFSET(Pairings11!$C$6,($M$91-1)*gamesPerRound,0,Analysis11!gamesPerRound,1),"")),1)} -> E | O94: {=LEFT(_xlfn.XLOOKUP(O$80&$K94,OFFSET(Pairings11!$C$6,($M$91-1)*gamesPerRound,0,Analysis11!gamesPerRound,1),OFFSET(Pairings11!$D$6,($M$91-1)*gamesPerRound,0,Analysis11!gamesPerRound,1), _xlfn.XLOOKUP(O$80&$K94,OFFSET(Pairings11!$D$6,($M$91-1)*gamesPerRound,0,Analysis11!gamesPerRound,1),OFFSET(Pairings11!$C$6,($M$91-1)*gamesPerRound,0,Analysis11!gamesPerRound,1),"")),1)} -> K | P94: {=LEFT(_xlfn.XLOOKUP(P$80&$K94,OFFSET(Pairings11!$C$6,($M$91-1)*gamesPerRound,0,Analysis11!gamesPerRound,1),OFFSET(Pairings11!$D$6,($M$91-1)*gamesPerRound,0,Analysis11!gamesPerRound,1), _xlfn.XLOOKUP(P$80&$K94,OFFSET(Pairings11!$D$6,($M$91-1)*gamesPerRound,0,Analysis11!gamesPerRound,1),OFFSET(Pairings11!$C$6,($M$91-1)*gamesPerRound,0,Analysis11!gamesPerRound,1),"")),1)} -> D | Q94: {=LEFT(_xlfn.XLOOKUP(Q$80&$K94,OFFSET(Pairings11!$C$6,($M$91-1)*gamesPerRound,0,Analysis11!gamesPerRound,1),OFFSET(Pairings11!$D$6,($M$91-1)*gamesPerRound,0,Analysis11!gamesPerRound,1), _xlfn.XLOOKUP(Q$80&$K94,OFFSET(Pairings11!$D$6,($M$91-1)*gamesPerRound,0,Analysis11!gamesPerRound,1),OFFSET(Pairings11!$C$6,($M$91-1)*gamesPerRound,0,Analysis11!gamesPerRound,1),"")),1)} -> J | R94: {=LEFT(_xlfn.XLOOKUP(R$80&$K94,OFFSET(Pairings11!$C$6,($M$91-1)*gamesPerRound,0,Analysis11!gamesPerRound,1),OFFSET(Pairings11!$D$6,($M$91-1)*gamesPerRound,0,Analysis11!gamesPerRound,1), _xlfn.XLOOKUP(R$80&$K94,OFFSET(Pairings11!$D$6,($M$91-1)*gamesPerRound,0,Analysis11!gamesPerRound,1),OFFSET(Pairings11!$C$6,($M$91-1)*gamesPerRound,0,Analysis11!gamesPerRound,1),"")),1)} -> A | S94: {=LEFT(_xlfn.XLOOKUP(S$80&$K94,OFFSET(Pairings11!$C$6,($M$91-1)*gamesPerRound,0,Analysis11!gamesPerRound,1),OFFSET(Pairings11!$D$6,($M$91-1)*gamesPerRound,0,Analysis11!gamesPerRound,1), _xlfn.XLOOKUP(S$80&$K94,OFFSET(Pairings11!$D$6,($M$91-1)*gamesPerRound,0,Analysis11!gamesPerRound,1),OFFSET(Pairings11!$C$6,($M$91-1)*gamesPerRound,0,Analysis11!gamesPerRound,1),"")),1)} -> I | T94: {=LEFT(_xlfn.XLOOKUP(T$80&$K94,OFFSET(Pairings11!$C$6,($M$91-1)*gamesPerRound,0,Analysis11!gamesPerRound,1),OFFSET(Pairings11!$D$6,($M$91-1)*gamesPerRound,0,Analysis11!gamesPerRound,1), _xlfn.XLOOKUP(T$80&$K94,OFFSET(Pairings11!$D$6,($M$91-1)*gamesPerRound,0,Analysis11!gamesPerRound,1),OFFSET(Pairings11!$C$6,($M$91-1)*gamesPerRound,0,Analysis11!gamesPerRound,1),"")),1)} -> H | U94: {=LEFT(_xlfn.XLOOKUP(U$80&$K94,OFFSET(Pairings11!$C$6,($M$91-1)*gamesPerRound,0,Analysis11!gamesPerRound,1),OFFSET(Pairings11!$D$6,($M$91-1)*gamesPerRound,0,Analysis11!gamesPerRound,1), _xlfn.XLOOKUP(U$80&$K94,OFFSET(Pairings11!$D$6,($M$91-1)*gamesPerRound,0,Analysis11!gamesPerRound,1),OFFSET(Pairings11!$C$6,($M$91-1)*gamesPerRound,0,Analysis11!gamesPerRound,1),"")),1)} -> G | ... Y94: {=LEFT(_xlfn.XLOOKUP(Y$80&$K94,OFFSET(Pairings11!$C$6,($M$91-1)*gamesPerRound,0,Analysis11!gamesPerRound,1),OFFSET(Pairings11!$D$6,($M$91-1)*gamesPerRound,0,Analysis11!gamesPerRound,1), _xlfn.XLOOKUP(Y$80&$K94,OFFSET(Pairings11!$D$6,($M$91-1)*gamesPerRound,0,Analysis11!gamesPerRound,1),OFFSET(Pairings11!$C$6,($M$91-1)*gamesPerRound,0,Analysis11!gamesPerRound,1),"")),1)}
A95: 2 | B95: K | C95: 06 | D95: A | E95: 06 | F95: =IF(E95<C95,B95&"."&C95,IF(C95<E95,D95&"."&E95,"")) | G95: =IF(E95>C95,B95&"."&C95,IF(C95>E95,D95&"."&E95,"")) | H95: FALSE | K95: .04 | N95: {=LEFT(_xlfn.XLOOKUP(N$80&$K95,OFFSET(Pairings11!$C$6,($M$91-1)*gamesPerRound,0,Analysis11!gamesPerRound,1),OFFSET(Pairings11!$D$6,($M$91-1)*gamesPerRound,0,Analysis11!gamesPerRound,1), _xlfn.XLOOKUP(N$80&$K95,OFFSET(Pairings11!$D$6,($M$91-1)*gamesPerRound,0,Analysis11!gamesPerRound,1),OFFSET(Pairings11!$C$6,($M$91-1)*gamesPerRound,0,Analysis11!gamesPerRound,1),"")),1)} -> B | O95: {=LEFT(_xlfn.XLOOKUP(O$80&$K95,OFFSET(Pairings11!$C$6,($M$91-1)*gamesPerRound,0,Analysis11!gamesPerRound,1),OFFSET(Pairings11!$D$6,($M$91-1)*gamesPerRound,0,Analysis11!gamesPerRound,1), _xlfn.XLOOKUP(O$80&$K95,OFFSET(Pairings11!$D$6,($M$91-1)*gamesPerRound,0,Analysis11!gamesPerRound,1),OFFSET(Pairings11!$C$6,($M$91-1)*gamesPerRound,0,Analysis11!gamesPerRound,1),"")),1)} -> A | P95: {=LEFT(_xlfn.XLOOKUP(P$80&$K95,OFFSET(Pairings11!$C$6,($M$91-1)*gamesPerRound,0,Analysis11!gamesPerRound,1),OFFSET(Pairings11!$D$6,($M$91-1)*gamesPerRound,0,Analysis11!gamesPerRound,1), _xlfn.XLOOKUP(P$80&$K95,OFFSET(Pairings11!$D$6,($M$91-1)*gamesPerRound,0,Analysis11!gamesPerRound,1),OFFSET(Pairings11!$C$6,($M$91-1)*gamesPerRound,0,Analysis11!gamesPerRound,1),"")),1)} -> E | Q95: {=LEFT(_xlfn.XLOOKUP(Q$80&$K95,OFFSET(Pairings11!$C$6,($M$91-1)*gamesPerRound,0,Analysis11!gamesPerRound,1),OFFSET(Pairings11!$D$6,($M$91-1)*gamesPerRound,0,Analysis11!gamesPerRound,1), _xlfn.XLOOKUP(Q$80&$K95,OFFSET(Pairings11!$D$6,($M$91-1)*gamesPerRound,0,Analysis11!gamesPerRound,1),OFFSET(Pairings11!$C$6,($M$91-1)*gamesPerRound,0,Analysis11!gamesPerRound,1),"")),1)} -> C | R95: {=LEFT(_xlfn.XLOOKUP(R$80&$K95,OFFSET(Pairings11!$C$6,($M$91-1)*gamesPerRound,0,Analysis11!gamesPerRound,1),OFFSET(Pairings11!$D$6,($M$91-1)*gamesPerRound,0,Analysis11!gamesPerRound,1), _xlfn.XLOOKUP(R$80&$K95,OFFSET(Pairings11!$D$6,($M$91-1)*gamesPerRound,0,Analysis11!gamesPerRound,1),OFFSET(Pairings11!$C$6,($M$91-1)*gamesPerRound,0,Analysis11!gamesPerRound,1),"")),1)} -> C | S95: {=LEFT(_xlfn.XLOOKUP(S$80&$K95,OFFSET(Pairings11!$C$6,($M$91-1)*gamesPerRound,0,Analysis11!gamesPerRound,1),OFFSET(Pairings11!$D$6,($M$91-1)*gamesPerRound,0,Analysis11!gamesPerRound,1), _xlfn.XLOOKUP(S$80&$K95,OFFSET(Pairings11!$D$6,($M$91-1)*gamesPerRound,0,Analysis11!gamesPerRound,1),OFFSET(Pairings11!$C$6,($M$91-1)*gamesPerRound,0,Analysis11!gamesPerRound,1),"")),1)} -> K | T95: {=LEFT(_xlfn.XLOOKUP(T$80&$K95,OFFSET(Pairings11!$C$6,($M$91-1)*gamesPerRound,0,Analysis11!gamesPerRound,1),OFFSET(Pairings11!$D$6,($M$91-1)*gamesPerRound,0,Analysis11!gamesPerRound,1), _xlfn.XLOOKUP(T$80&$K95,OFFSET(Pairings11!$D$6,($M$91-1)*gamesPerRound,0,Analysis11!gamesPerRound,1),OFFSET(Pairings11!$C$6,($M$91-1)*gamesPerRound,0,Analysis11!gamesPerRound,1),"")),1)} -> J | U95: {=LEFT(_xlfn.XLOOKUP(U$80&$K95,OFFSET(Pairings11!$C$6,($M$91-1)*gamesPerRound,0,Analysis11!gamesPerRound,1),OFFSET(Pairings11!$D$6,($M$91-1)*gamesPerRound,0,Analysis11!gamesPerRound,1), _xlfn.XLOOKUP(U$80&$K95,OFFSET(Pairings11!$D$6,($M$91-1)*gamesPerRound,0,Analysis11!gamesPerRound,1),OFFSET(Pairings11!$C$6,($M$91-1)*gamesPerRound,0,Analysis11!gamesPerRound,1),"")),1)} -> I | ... Y95: {=LEFT(_xlfn.XLOOKUP(Y$80&$K95,OFFSET(Pairings11!$C$6,($M$91-1)*gamesPerRound,0,Analysis11!gamesPerRound,1),OFFSET(Pairings11!$D$6,($M$91-1)*gamesPerRound,0,Analysis11!gamesPerRound,1), _xlfn.XLOOKUP(Y$80&$K95,OFFSET(Pairings11!$D$6,($M$91-1)*gamesPerRound,0,Analysis11!gamesPerRound,1),OFFSET(Pairings11!$C$6,($M$91-1)*gamesPerRound,0,Analysis11!gamesPerRound,1),"")),1)}
A96: 2 | B96: H | C96: 06 | D96: F | E96: 06 | F96: =IF(E96<C96,B96&"."&C96,IF(C96<E96,D96&"."&E96,"")) | G96: =IF(E96>C96,B96&"."&C96,IF(C96>E96,D96&"."&E96,"")) | H96: FALSE | K96: .05 | N96: {=LEFT(_xlfn.XLOOKUP(N$80&$K96,OFFSET(Pairings11!$C$6,($M$91-1)*gamesPerRound,0,Analysis11!gamesPerRound,1),OFFSET(Pairings11!$D$6,($M$91-1)*gamesPerRound,0,Analysis11!gamesPerRound,1), _xlfn.XLOOKUP(N$80&$K96,OFFSET(Pairings11!$D$6,($M$91-1)*gamesPerRound,0,Analysis11!gamesPerRound,1),OFFSET(Pairings11!$C$6,($M$91-1)*gamesPerRound,0,Analysis11!gamesPerRound,1),"")),1)} -> F | O96: {=LEFT(_xlfn.XLOOKUP(O$80&$K96,OFFSET(Pairings11!$C$6,($M$91-1)*gamesPerRound,0,Analysis11!gamesPerRound,1),OFFSET(Pairings11!$D$6,($M$91-1)*gamesPerRound,0,Analysis11!gamesPerRound,1), _xlfn.XLOOKUP(O$80&$K96,OFFSET(Pairings11!$D$6,($M$91-1)*gamesPerRound,0,Analysis11!gamesPerRound,1),OFFSET(Pairings11!$C$6,($M$91-1)*gamesPerRound,0,Analysis11!gamesPerRound,1),"")),1)} -> E | P96: {=LEFT(_xlfn.XLOOKUP(P$80&$K96,OFFSET(Pairings11!$C$6,($M$91-1)*gamesPerRound,0,Analysis11!gamesPerRound,1),OFFSET(Pairings11!$D$6,($M$91-1)*gamesPerRound,0,Analysis11!gamesPerRound,1), _xlfn.XLOOKUP(P$80&$K96,OFFSET(Pairings11!$D$6,($M$91-1)*gamesPerRound,0,Analysis11!gamesPerRound,1),OFFSET(Pairings11!$C$6,($M$91-1)*gamesPerRound,0,Analysis11!gamesPerRound,1),"")),1)} -> K | Q96: {=LEFT(_xlfn.XLOOKUP(Q$80&$K96,OFFSET(Pairings11!$C$6,($M$91-1)*gamesPerRound,0,Analysis11!gamesPerRound,1),OFFSET(Pairings11!$D$6,($M$91-1)*gamesPerRound,0,Analysis11!gamesPerRound,1), _xlfn.XLOOKUP(Q$80&$K96,OFFSET(Pairings11!$D$6,($M$91-1)*gamesPerRound,0,Analysis11!gamesPerRound,1),OFFSET(Pairings11!$C$6,($M$91-1)*gamesPerRound,0,Analysis11!gamesPerRound,1),"")),1)} -> H | R96: {=LEFT(_xlfn.XLOOKUP(R$80&$K96,OFFSET(Pairings11!$C$6,($M$91-1)*gamesPerRound,0,Analysis11!gamesPerRound,1),OFFSET(Pairings11!$D$6,($M$91-1)*gamesPerRound,0,Analysis11!gamesPerRound,1), _xlfn.XLOOKUP(R$80&$K96,OFFSET(Pairings11!$D$6,($M$91-1)*gamesPerRound,0,Analysis11!gamesPerRound,1),OFFSET(Pairings11!$C$6,($M$91-1)*gamesPerRound,0,Analysis11!gamesPerRound,1),"")),1)} -> B | S96: {=LEFT(_xlfn.XLOOKUP(S$80&$K96,OFFSET(Pairings11!$C$6,($M$91-1)*gamesPerRound,0,Analysis11!gamesPerRound,1),OFFSET(Pairings11!$D$6,($M$91-1)*gamesPerRound,0,Analysis11!gamesPerRound,1), _xlfn.XLOOKUP(S$80&$K96,OFFSET(Pairings11!$D$6,($M$91-1)*gamesPerRound,0,Analysis11!gamesPerRound,1),OFFSET(Pairings11!$C$6,($M$91-1)*gamesPerRound,0,Analysis11!gamesPerRound,1),"")),1)} -> A | T96: {=LEFT(_xlfn.XLOOKUP(T$80&$K96,OFFSET(Pairings11!$C$6,($M$91-1)*gamesPerRound,0,Analysis11!gamesPerRound,1),OFFSET(Pairings11!$D$6,($M$91-1)*gamesPerRound,0,Analysis11!gamesPerRound,1), _xlfn.XLOOKUP(T$80&$K96,OFFSET(Pairings11!$D$6,($M$91-1)*gamesPerRound,0,Analysis11!gamesPerRound,1),OFFSET(Pairings11!$C$6,($M$91-1)*gamesPerRound,0,Analysis11!gamesPerRound,1),"")),1)} -> I | U96: {=LEFT(_xlfn.XLOOKUP(U$80&$K96,OFFSET(Pairings11!$C$6,($M$91-1)*gamesPerRound,0,Analysis11!gamesPerRound,1),OFFSET(Pairings11!$D$6,($M$91-1)*gamesPerRound,0,Analysis11!gamesPerRound,1), _xlfn.XLOOKUP(U$80&$K96,OFFSET(Pairings11!$D$6,($M$91-1)*gamesPerRound,0,Analysis11!gamesPerRound,1),OFFSET(Pairings11!$C$6,($M$91-1)*gamesPerRound,0,Analysis11!gamesPerRound,1),"")),1)} -> D | ... Y96: {=LEFT(_xlfn.XLOOKUP(Y$80&$K96,OFFSET(Pairings11!$C$6,($M$91-1)*gamesPerRound,0,Analysis11!gamesPerRound,1),OFFSET(Pairings11!$D$6,($M$91-1)*gamesPerRound,0,Analysis11!gamesPerRound,1), _xlfn.XLOOKUP(Y$80&$K96,OFFSET(Pairings11!$D$6,($M$91-1)*gamesPerRound,0,Analysis11!gamesPerRound,1),OFFSET(Pairings11!$C$6,($M$91-1)*gamesPerRound,0,Analysis11!gamesPerRound,1),"")),1)}
A97: 2 | B97: J | C97: 06 | D97: B | E97: 06 | F97: =IF(E97<C97,B97&"."&C97,IF(C97<E97,D97&"."&E97,"")) | G97: =IF(E97>C97,B97&"."&C97,IF(C97>E97,D97&"."&E97,"")) | H97: FALSE | K97: .06 | N97: {=LEFT(_xlfn.XLOOKUP(N$80&$K97,OFFSET(Pairings11!$C$6,($M$91-1)*gamesPerRound,0,Analysis11!gamesPerRound,1),OFFSET(Pairings11!$D$6,($M$91-1)*gamesPerRound,0,Analysis11!gamesPerRound,1), _xlfn.XLOOKUP(N$80&$K97,OFFSET(Pairings11!$D$6,($M$91-1)*gamesPerRound,0,Analysis11!gamesPerRound,1),OFFSET(Pairings11!$C$6,($M$91-1)*gamesPerRound,0,Analysis11!gamesPerRound,1),"")),1)} -> K | O97: {=LEFT(_xlfn.XLOOKUP(O$80&$K97,OFFSET(Pairings11!$C$6,($M$91-1)*gamesPerRound,0,Analysis11!gamesPerRound,1),OFFSET(Pairings11!$D$6,($M$91-1)*gamesPerRound,0,Analysis11!gamesPerRound,1), _xlfn.XLOOKUP(O$80&$K97,OFFSET(Pairings11!$D$6,($M$91-1)*gamesPerRound,0,Analysis11!gamesPerRound,1),OFFSET(Pairings11!$C$6,($M$91-1)*gamesPerRound,0,Analysis11!gamesPerRound,1),"")),1)} -> J | P97: {=LEFT(_xlfn.XLOOKUP(P$80&$K97,OFFSET(Pairings11!$C$6,($M$91-1)*gamesPerRound,0,Analysis11!gamesPerRound,1),OFFSET(Pairings11!$D$6,($M$91-1)*gamesPerRound,0,Analysis11!gamesPerRound,1), _xlfn.XLOOKUP(P$80&$K97,OFFSET(Pairings11!$D$6,($M$91-1)*gamesPerRound,0,Analysis11!gamesPerRound,1),OFFSET(Pairings11!$C$6,($M$91-1)*gamesPerRound,0,Analysis11!gamesPerRound,1),"")),1)} -> D | Q97: {=LEFT(_xlfn.XLOOKUP(Q$80&$K97,OFFSET(Pairings11!$C$6,($M$91-1)*gamesPerRound,0,Analysis11!gamesPerRound,1),OFFSET(Pairings11!$D$6,($M$91-1)*gamesPerRound,0,Analysis11!gamesPerRound,1), _xlfn.XLOOKUP(Q$80&$K97,OFFSET(Pairings11!$D$6,($M$91-1)*gamesPerRound,0,Analysis11!gamesPerRound,1),OFFSET(Pairings11!$C$6,($M$91-1)*gamesPerRound,0,Analysis11!gamesPerRound,1),"")),1)} -> C | R97: {=LEFT(_xlfn.XLOOKUP(R$80&$K97,OFFSET(Pairings11!$C$6,($M$91-1)*gamesPerRound,0,Analysis11!gamesPerRound,1),OFFSET(Pairings11!$D$6,($M$91-1)*gamesPerRound,0,Analysis11!gamesPerRound,1), _xlfn.XLOOKUP(R$80&$K97,OFFSET(Pairings11!$D$6,($M$91-1)*gamesPerRound,0,Analysis11!gamesPerRound,1),OFFSET(Pairings11!$C$6,($M$91-1)*gamesPerRound,0,Analysis11!gamesPerRound,1),"")),1)} -> G | S97: {=LEFT(_xlfn.XLOOKUP(S$80&$K97,OFFSET(Pairings11!$C$6,($M$91-1)*gamesPerRound,0,Analysis11!gamesPerRound,1),OFFSET(Pairings11!$D$6,($M$91-1)*gamesPerRound,0,Analysis11!gamesPerRound,1), _xlfn.XLOOKUP(S$80&$K97,OFFSET(Pairings11!$D$6,($M$91-1)*gamesPerRound,0,Analysis11!gamesPerRound,1),OFFSET(Pairings11!$C$6,($M$91-1)*gamesPerRound,0,Analysis11!gamesPerRound,1),"")),1)} -> H | T97: {=LEFT(_xlfn.XLOOKUP(T$80&$K97,OFFSET(Pairings11!$C$6,($M$91-1)*gamesPerRound,0,Analysis11!gamesPerRound,1),OFFSET(Pairings11!$D$6,($M$91-1)*gamesPerRound,0,Analysis11!gamesPerRound,1), _xlfn.XLOOKUP(T$80&$K97,OFFSET(Pairings11!$D$6,($M$91-1)*gamesPerRound,0,Analysis11!gamesPerRound,1),OFFSET(Pairings11!$C$6,($M$91-1)*gamesPerRound,0,Analysis11!gamesPerRound,1),"")),1)} -> E | U97: {=LEFT(_xlfn.XLOOKUP(U$80&$K97,OFFSET(Pairings11!$C$6,($M$91-1)*gamesPerRound,0,Analysis11!gamesPerRound,1),OFFSET(Pairings11!$D$6,($M$91-1)*gamesPerRound,0,Analysis11!gamesPerRound,1), _xlfn.XLOOKUP(U$80&$K97,OFFSET(Pairings11!$D$6,($M$91-1)*gamesPerRound,0,Analysis11!gamesPerRound,1),OFFSET(Pairings11!$C$6,($M$91-1)*gamesPerRound,0,Analysis11!gamesPerRound,1),"")),1)} -> F | ... Y97: {=LEFT(_xlfn.XLOOKUP(Y$80&$K97,OFFSET(Pairings11!$C$6,($M$91-1)*gamesPerRound,0,Analysis11!gamesPerRound,1),OFFSET(Pairings11!$D$6,($M$91-1)*gamesPerRound,0,Analysis11!gamesPerRound,1), _xlfn.XLOOKUP(Y$80&$K97,OFFSET(Pairings11!$D$6,($M$91-1)*gamesPerRound,0,Analysis11!gamesPerRound,1),OFFSET(Pairings11!$C$6,($M$91-1)*gamesPerRound,0,Analysis11!gamesPerRound,1),"")),1)}
A98: 2 | B98: C | C98: 06 | D98: D | E98: 06 | F98: =IF(E98<C98,B98&"."&C98,IF(C98<E98,D98&"."&E98,"")) | G98: =IF(E98>C98,B98&"."&C98,IF(C98>E98,D98&"."&E98,"")) | H98: FALSE | K98: .07 | N98: {=LEFT(_xlfn.XLOOKUP(N$80&$K98,OFFSET(Pairings11!$C$6,($M$91-1)*gamesPerRound,0,Analysis11!gamesPerRound,1),OFFSET(Pairings11!$D$6,($M$91-1)*gamesPerRound,0,Analysis11!gamesPerRound,1), _xlfn.XLOOKUP(N$80&$K98,OFFSET(Pairings11!$D$6,($M$91-1)*gamesPerRound,0,Analysis11!gamesPerRound,1),OFFSET(Pairings11!$C$6,($M$91-1)*gamesPerRound,0,Analysis11!gamesPerRound,1),"")),1)} -> D | O98: {=LEFT(_xlfn.XLOOKUP(O$80&$K98,OFFSET(Pairings11!$C$6,($M$91-1)*gamesPerRound,0,Analysis11!gamesPerRound,1),OFFSET(Pairings11!$D$6,($M$91-1)*gamesPerRound,0,Analysis11!gamesPerRound,1), _xlfn.XLOOKUP(O$80&$K98,OFFSET(Pairings11!$D$6,($M$91-1)*gamesPerRound,0,Analysis11!gamesPerRound,1),OFFSET(Pairings11!$C$6,($M$91-1)*gamesPerRound,0,Analysis11!gamesPerRound,1),"")),1)} -> I | P98: {=LEFT(_xlfn.XLOOKUP(P$80&$K98,OFFSET(Pairings11!$C$6,($M$91-1)*gamesPerRound,0,Analysis11!gamesPerRound,1),OFFSET(Pairings11!$D$6,($M$91-1)*gamesPerRound,0,Analysis11!gamesPerRound,1), _xlfn.XLOOKUP(P$80&$K98,OFFSET(Pairings11!$D$6,($M$91-1)*gamesPerRound,0,Analysis11!gamesPerRound,1),OFFSET(Pairings11!$C$6,($M$91-1)*gamesPerRound,0,Analysis11!gamesPerRound,1),"")),1)} -> F | Q98: {=LEFT(_xlfn.XLOOKUP(Q$80&$K98,OFFSET(Pairings11!$C$6,($M$91-1)*gamesPerRound,0,Analysis11!gamesPerRound,1),OFFSET(Pairings11!$D$6,($M$91-1)*gamesPerRound,0,Analysis11!gamesPerRound,1), _xlfn.XLOOKUP(Q$80&$K98,OFFSET(Pairings11!$D$6,($M$91-1)*gamesPerRound,0,Analysis11!gamesPerRound,1),OFFSET(Pairings11!$C$6,($M$91-1)*gamesPerRound,0,Analysis11!gamesPerRound,1),"")),1)} -> A | R98: {=LEFT(_xlfn.XLOOKUP(R$80&$K98,OFFSET(Pairings11!$C$6,($M$91-1)*gamesPerRound,0,Analysis11!gamesPerRound,1),OFFSET(Pairings11!$D$6,($M$91-1)*gamesPerRound,0,Analysis11!gamesPerRound,1), _xlfn.XLOOKUP(R$80&$K98,OFFSET(Pairings11!$D$6,($M$91-1)*gamesPerRound,0,Analysis11!gamesPerRound,1),OFFSET(Pairings11!$C$6,($M$91-1)*gamesPerRound,0,Analysis11!gamesPerRound,1),"")),1)} -> H | S98: {=LEFT(_xlfn.XLOOKUP(S$80&$K98,OFFSET(Pairings11!$C$6,($M$91-1)*gamesPerRound,0,Analysis11!gamesPerRound,1),OFFSET(Pairings11!$D$6,($M$91-1)*gamesPerRound,0,Analysis11!gamesPerRound,1), _xlfn.XLOOKUP(S$80&$K98,OFFSET(Pairings11!$D$6,($M$91-1)*gamesPerRound,0,Analysis11!gamesPerRound,1),OFFSET(Pairings11!$C$6,($M$91-1)*gamesPerRound,0,Analysis11!gamesPerRound,1),"")),1)} -> C | T98: {=LEFT(_xlfn.XLOOKUP(T$80&$K98,OFFSET(Pairings11!$C$6,($M$91-1)*gamesPerRound,0,Analysis11!gamesPerRound,1),OFFSET(Pairings11!$D$6,($M$91-1)*gamesPerRound,0,Analysis11!gamesPerRound,1), _xlfn.XLOOKUP(T$80&$K98,OFFSET(Pairings11!$D$6,($M$91-1)*gamesPerRound,0,Analysis11!gamesPerRound,1),OFFSET(Pairings11!$C$6,($M$91-1)*gamesPerRound,0,Analysis11!gamesPerRound,1),"")),1)} -> J | U98: {=LEFT(_xlfn.XLOOKUP(U$80&$K98,OFFSET(Pairings11!$C$6,($M$91-1)*gamesPerRound,0,Analysis11!gamesPerRound,1),OFFSET(Pairings11!$D$6,($M$91-1)*gamesPerRound,0,Analysis11!gamesPerRound,1), _xlfn.XLOOKUP(U$80&$K98,OFFSET(Pairings11!$D$6,($M$91-1)*gamesPerRound,0,Analysis11!gamesPerRound,1),OFFSET(Pairings11!$C$6,($M$91-1)*gamesPerRound,0,Analysis11!gamesPerRound,1),"")),1)} -> E | ... Y98: {=LEFT(_xlfn.XLOOKUP(Y$80&$K98,OFFSET(Pairings11!$C$6,($M$91-1)*gamesPerRound,0,Analysis11!gamesPerRound,1),OFFSET(Pairings11!$D$6,($M$91-1)*gamesPerRound,0,Analysis11!gamesPerRound,1), _xlfn.XLOOKUP(Y$80&$K98,OFFSET(Pairings11!$D$6,($M$91-1)*gamesPerRound,0,Analysis11!gamesPerRound,1),OFFSET(Pairings11!$C$6,($M$91-1)*gamesPerRound,0,Analysis11!gamesPerRound,1),"")),1)}
A99: 2 | B99: C | C99: 07 | D99: F | E99: 07 | F99: =IF(E99<C99,B99&"."&C99,IF(C99<E99,D99&"."&E99,"")) | G99: =IF(E99>C99,B99&"."&C99,IF(C99>E99,D99&"."&E99,"")) | H99: FALSE | K99: .08 | N99: {=LEFT(_xlfn.XLOOKUP(N$80&$K99,OFFSET(Pairings11!$C$6,($M$91-1)*gamesPerRound,0,Analysis11!gamesPerRound,1),OFFSET(Pairings11!$D$6,($M$91-1)*gamesPerRound,0,Analysis11!gamesPerRound,1), _xlfn.XLOOKUP(N$80&$K99,OFFSET(Pairings11!$D$6,($M$91-1)*gamesPerRound,0,Analysis11!gamesPerRound,1),OFFSET(Pairings11!$C$6,($M$91-1)*gamesPerRound,0,Analysis11!gamesPerRound,1),"")),1)} -> D | O99: {=LEFT(_xlfn.XLOOKUP(O$80&$K99,OFFSET(Pairings11!$C$6,($M$91-1)*gamesPerRound,0,Analysis11!gamesPerRound,1),OFFSET(Pairings11!$D$6,($M$91-1)*gamesPerRound,0,Analysis11!gamesPerRound,1), _xlfn.XLOOKUP(O$80&$K99,OFFSET(Pairings11!$D$6,($M$91-1)*gamesPerRound,0,Analysis11!gamesPerRound,1),OFFSET(Pairings11!$C$6,($M$91-1)*gamesPerRound,0,Analysis11!gamesPerRound,1),"")),1)} -> E | P99: {=LEFT(_xlfn.XLOOKUP(P$80&$K99,OFFSET(Pairings11!$C$6,($M$91-1)*gamesPerRound,0,Analysis11!gamesPerRound,1),OFFSET(Pairings11!$D$6,($M$91-1)*gamesPerRound,0,Analysis11!gamesPerRound,1), _xlfn.XLOOKUP(P$80&$K99,OFFSET(Pairings11!$D$6,($M$91-1)*gamesPerRound,0,Analysis11!gamesPerRound,1),OFFSET(Pairings11!$C$6,($M$91-1)*gamesPerRound,0,Analysis11!gamesPerRound,1),"")),1)} -> G | Q99: {=LEFT(_xlfn.XLOOKUP(Q$80&$K99,OFFSET(Pairings11!$C$6,($M$91-1)*gamesPerRound,0,Analysis11!gamesPerRound,1),OFFSET(Pairings11!$D$6,($M$91-1)*gamesPerRound,0,Analysis11!gamesPerRound,1), _xlfn.XLOOKUP(Q$80&$K99,OFFSET(Pairings11!$D$6,($M$91-1)*gamesPerRound,0,Analysis11!gamesPerRound,1),OFFSET(Pairings11!$C$6,($M$91-1)*gamesPerRound,0,Analysis11!gamesPerRound,1),"")),1)} -> A | R99: {=LEFT(_xlfn.XLOOKUP(R$80&$K99,OFFSET(Pairings11!$C$6,($M$91-1)*gamesPerRound,0,Analysis11!gamesPerRound,1),OFFSET(Pairings11!$D$6,($M$91-1)*gamesPerRound,0,Analysis11!gamesPerRound,1), _xlfn.XLOOKUP(R$80&$K99,OFFSET(Pairings11!$D$6,($M$91-1)*gamesPerRound,0,Analysis11!gamesPerRound,1),OFFSET(Pairings11!$C$6,($M$91-1)*gamesPerRound,0,Analysis11!gamesPerRound,1),"")),1)} -> B | S99: {=LEFT(_xlfn.XLOOKUP(S$80&$K99,OFFSET(Pairings11!$C$6,($M$91-1)*gamesPerRound,0,Analysis11!gamesPerRound,1),OFFSET(Pairings11!$D$6,($M$91-1)*gamesPerRound,0,Analysis11!gamesPerRound,1), _xlfn.XLOOKUP(S$80&$K99,OFFSET(Pairings11!$D$6,($M$91-1)*gamesPerRound,0,Analysis11!gamesPerRound,1),OFFSET(Pairings11!$C$6,($M$91-1)*gamesPerRound,0,Analysis11!gamesPerRound,1),"")),1)} -> H | T99: {=LEFT(_xlfn.XLOOKUP(T$80&$K99,OFFSET(Pairings11!$C$6,($M$91-1)*gamesPerRound,0,Analysis11!gamesPerRound,1),OFFSET(Pairings11!$D$6,($M$91-1)*gamesPerRound,0,Analysis11!gamesPerRound,1), _xlfn.XLOOKUP(T$80&$K99,OFFSET(Pairings11!$D$6,($M$91-1)*gamesPerRound,0,Analysis11!gamesPerRound,1),OFFSET(Pairings11!$C$6,($M$91-1)*gamesPerRound,0,Analysis11!gamesPerRound,1),"")),1)} -> C | U99: {=LEFT(_xlfn.XLOOKUP(U$80&$K99,OFFSET(Pairings11!$C$6,($M$91-1)*gamesPerRound,0,Analysis11!gamesPerRound,1),OFFSET(Pairings11!$D$6,($M$91-1)*gamesPerRound,0,Analysis11!gamesPerRound,1), _xlfn.XLOOKUP(U$80&$K99,OFFSET(Pairings11!$D$6,($M$91-1)*gamesPerRound,0,Analysis11!gamesPerRound,1),OFFSET(Pairings11!$C$6,($M$91-1)*gamesPerRound,0,Analysis11!gamesPerRound,1),"")),1)} -> F | ... Y99: {=LEFT(_xlfn.XLOOKUP(Y$80&$K99,OFFSET(Pairings11!$C$6,($M$91-1)*gamesPerRound,0,Analysis11!gamesPerRound,1),OFFSET(Pairings11!$D$6,($M$91-1)*gamesPerRound,0,Analysis11!gamesPerRound,1), _xlfn.XLOOKUP(Y$80&$K99,OFFSET(Pairings11!$D$6,($M$91-1)*gamesPerRound,0,Analysis11!gamesPerRound,1),OFFSET(Pairings11!$C$6,($M$91-1)*gamesPerRound,0,Analysis11!gamesPerRound,1),"")),1)}
A100: 2 | B100: D | C100: 07 | D100: A | E100: 07 | F100: =IF(E100<C100,B100&"."&C100,IF(C100<E100,D100&"."&E100,"")) | G100: =IF(E100>C100,B100&"."&C100,IF(C100>E100,D100&"."&E100,"")) | H100: FALSE | K100: .09 | N100: {=LEFT(_xlfn.XLOOKUP(N$80&$K100,OFFSET(Pairings11!$C$6,($M$91-1)*gamesPerRound,0,Analysis11!gamesPerRound,1),OFFSET(Pairings11!$D$6,($M$91-1)*gamesPerRound,0,Analysis11!gamesPerRound,1), _xlfn.XLOOKUP(N$80&$K100,OFFSET(Pairings11!$D$6,($M$91-1)*gamesPerRound,0,Analysis11!gamesPerRound,1),OFFSET(Pairings11!$C$6,($M$91-1)*gamesPerRound,0,Analysis11!gamesPerRound,1),"")),1)} -> J | O100: {=LEFT(_xlfn.XLOOKUP(O$80&$K100,OFFSET(Pairings11!$C$6,($M$91-1)*gamesPerRound,0,Analysis11!gamesPerRound,1),OFFSET(Pairings11!$D$6,($M$91-1)*gamesPerRound,0,Analysis11!gamesPerRound,1), _xlfn.XLOOKUP(O$80&$K100,OFFSET(Pairings11!$D$6,($M$91-1)*gamesPerRound,0,Analysis11!gamesPerRound,1),OFFSET(Pairings11!$C$6,($M$91-1)*gamesPerRound,0,Analysis11!gamesPerRound,1),"")),1)} -> G | P100: {=LEFT(_xlfn.XLOOKUP(P$80&$K100,OFFSET(Pairings11!$C$6,($M$91-1)*gamesPerRound,0,Analysis11!gamesPerRound,1),OFFSET(Pairings11!$D$6,($M$91-1)*gamesPerRound,0,Analysis11!gamesPerRound,1), _xlfn.XLOOKUP(P$80&$K100,OFFSET(Pairings11!$D$6,($M$91-1)*gamesPerRound,0,Analysis11!gamesPerRound,1),OFFSET(Pairings11!$C$6,($M$91-1)*gamesPerRound,0,Analysis11!gamesPerRound,1),"")),1)} -> H | Q100: {=LEFT(_xlfn.XLOOKUP(Q$80&$K100,OFFSET(Pairings11!$C$6,($M$91-1)*gamesPerRound,0,Analysis11!gamesPerRound,1),OFFSET(Pairings11!$D$6,($M$91-1)*gamesPerRound,0,Analysis11!gamesPerRound,1), _xlfn.XLOOKUP(Q$80&$K100,OFFSET(Pairings11!$D$6,($M$91-1)*gamesPerRound,0,Analysis11!gamesPerRound,1),OFFSET(Pairings11!$C$6,($M$91-1)*gamesPerRound,0,Analysis11!gamesPerRound,1),"")),1)} -> K | R100: {=LEFT(_xlfn.XLOOKUP(R$80&$K100,OFFSET(Pairings11!$C$6,($M$91-1)*gamesPerRound,0,Analysis11!gamesPerRound,1),OFFSET(Pairings11!$D$6,($M$91-1)*gamesPerRound,0,Analysis11!gamesPerRound,1), _xlfn.XLOOKUP(R$80&$K100,OFFSET(Pairings11!$D$6,($M$91-1)*gamesPerRound,0,Analysis11!gamesPerRound,1),OFFSET(Pairings11!$C$6,($M$91-1)*gamesPerRound,0,Analysis11!gamesPerRound,1),"")),1)} -> F | S100: {=LEFT(_xlfn.XLOOKUP(S$80&$K100,OFFSET(Pairings11!$C$6,($M$91-1)*gamesPerRound,0,Analysis11!gamesPerRound,1),OFFSET(Pairings11!$D$6,($M$91-1)*gamesPerRound,0,Analysis11!gamesPerRound,1), _xlfn.XLOOKUP(S$80&$K100,OFFSET(Pairings11!$D$6,($M$91-1)*gamesPerRound,0,Analysis11!gamesPerRound,1),OFFSET(Pairings11!$C$6,($M$91-1)*gamesPerRound,0,Analysis11!gamesPerRound,1),"")),1)} -> E | T100: {=LEFT(_xlfn.XLOOKUP(T$80&$K100,OFFSET(Pairings11!$C$6,($M$91-1)*gamesPerRound,0,Analysis11!gamesPerRound,1),OFFSET(Pairings11!$D$6,($M$91-1)*gamesPerRound,0,Analysis11!gamesPerRound,1), _xlfn.XLOOKUP(T$80&$K100,OFFSET(Pairings11!$D$6,($M$91-1)*gamesPerRound,0,Analysis11!gamesPerRound,1),OFFSET(Pairings11!$C$6,($M$91-1)*gamesPerRound,0,Analysis11!gamesPerRound,1),"")),1)} -> B | U100: {=LEFT(_xlfn.XLOOKUP(U$80&$K100,OFFSET(Pairings11!$C$6,($M$91-1)*gamesPerRound,0,Analysis11!gamesPerRound,1),OFFSET(Pairings11!$D$6,($M$91-1)*gamesPerRound,0,Analysis11!gamesPerRound,1), _xlfn.XLOOKUP(U$80&$K100,OFFSET(Pairings11!$D$6,($M$91-1)*gamesPerRound,0,Analysis11!gamesPerRound,1),OFFSET(Pairings11!$C$6,($M$91-1)*gamesPerRound,0,Analysis11!gamesPerRound,1),"")),1)} -> C | ... Y100: {=LEFT(_xlfn.XLOOKUP(Y$80&$K100,OFFSET(Pairings11!$C$6,($M$91-1)*gamesPerRound,0,Analysis11!gamesPerRound,1),OFFSET(Pairings11!$D$6,($M$91-1)*gamesPerRound,0,Analysis11!gamesPerRound,1), _xlfn.XLOOKUP(Y$80&$K100,OFFSET(Pairings11!$D$6,($M$91-1)*gamesPerRound,0,Analysis11!gamesPerRound,1),OFFSET(Pairings11!$C$6,($M$91-1)*gamesPerRound,0,Analysis11!gamesPerRound,1),"")),1)}
A101: 2 | B101: G | C101: 07 | D101: J | E101: 07 | F101: =IF(E101<C101,B101&"."&C101,IF(C101<E101,D101&"."&E101,"")) | G101: =IF(E101>C101,B101&"."&C101,IF(C101>E101,D101&"."&E101,"")) | H101: FALSE | K101: .10 | N101: {=LEFT(_xlfn.XLOOKUP(N$80&$K101,OFFSET(Pairings11!$C$6,($M$91-1)*gamesPerRound,0,Analysis11!gamesPerRound,1),OFFSET(Pairings11!$D$6,($M$91-1)*gamesPerRound,0,Analysis11!gamesPerRound,1), _xlfn.XLOOKUP(N$80&$K101,OFFSET(Pairings11!$D$6,($M$91-1)*gamesPerRound,0,Analysis11!gamesPerRound,1),OFFSET(Pairings11!$C$6,($M$91-1)*gamesPerRound,0,Analysis11!gamesPerRound,1),"")),1)} -> C | O101: {=LEFT(_xlfn.XLOOKUP(O$80&$K101,OFFSET(Pairings11!$C$6,($M$91-1)*gamesPerRound,0,Analysis11!gamesPerRound,1),OFFSET(Pairings11!$D$6,($M$91-1)*gamesPerRound,0,Analysis11!gamesPerRound,1), _xlfn.XLOOKUP(O$80&$K101,OFFSET(Pairings11!$D$6,($M$91-1)*gamesPerRound,0,Analysis11!gamesPerRound,1),OFFSET(Pairings11!$C$6,($M$91-1)*gamesPerRound,0,Analysis11!gamesPerRound,1),"")),1)} -> D | P101: {=LEFT(_xlfn.XLOOKUP(P$80&$K101,OFFSET(Pairings11!$C$6,($M$91-1)*gamesPerRound,0,Analysis11!gamesPerRound,1),OFFSET(Pairings11!$D$6,($M$91-1)*gamesPerRound,0,Analysis11!gamesPerRound,1), _xlfn.XLOOKUP(P$80&$K101,OFFSET(Pairings11!$D$6,($M$91-1)*gamesPerRound,0,Analysis11!gamesPerRound,1),OFFSET(Pairings11!$C$6,($M$91-1)*gamesPerRound,0,Analysis11!gamesPerRound,1),"")),1)} -> A | Q101: {=LEFT(_xlfn.XLOOKUP(Q$80&$K101,OFFSET(Pairings11!$C$6,($M$91-1)*gamesPerRound,0,Analysis11!gamesPerRound,1),OFFSET(Pairings11!$D$6,($M$91-1)*gamesPerRound,0,Analysis11!gamesPerRound,1), _xlfn.XLOOKUP(Q$80&$K101,OFFSET(Pairings11!$D$6,($M$91-1)*gamesPerRound,0,Analysis11!gamesPerRound,1),OFFSET(Pairings11!$C$6,($M$91-1)*gamesPerRound,0,Analysis11!gamesPerRound,1),"")),1)} -> B | R101: {=LEFT(_xlfn.XLOOKUP(R$80&$K101,OFFSET(Pairings11!$C$6,($M$91-1)*gamesPerRound,0,Analysis11!gamesPerRound,1),OFFSET(Pairings11!$D$6,($M$91-1)*gamesPerRound,0,Analysis11!gamesPerRound,1), _xlfn.XLOOKUP(R$80&$K101,OFFSET(Pairings11!$D$6,($M$91-1)*gamesPerRound,0,Analysis11!gamesPerRound,1),OFFSET(Pairings11!$C$6,($M$91-1)*gamesPerRound,0,Analysis11!gamesPerRound,1),"")),1)} -> I | S101: {=LEFT(_xlfn.XLOOKUP(S$80&$K101,OFFSET(Pairings11!$C$6,($M$91-1)*gamesPerRound,0,Analysis11!gamesPerRound,1),OFFSET(Pairings11!$D$6,($M$91-1)*gamesPerRound,0,Analysis11!gamesPerRound,1), _xlfn.XLOOKUP(S$80&$K101,OFFSET(Pairings11!$D$6,($M$91-1)*gamesPerRound,0,Analysis11!gamesPerRound,1),OFFSET(Pairings11!$C$6,($M$91-1)*gamesPerRound,0,Analysis11!gamesPerRound,1),"")),1)} -> G | T101: {=LEFT(_xlfn.XLOOKUP(T$80&$K101,OFFSET(Pairings11!$C$6,($M$91-1)*gamesPerRound,0,Analysis11!gamesPerRound,1),OFFSET(Pairings11!$D$6,($M$91-1)*gamesPerRound,0,Analysis11!gamesPerRound,1), _xlfn.XLOOKUP(T$80&$K101,OFFSET(Pairings11!$D$6,($M$91-1)*gamesPerRound,0,Analysis11!gamesPerRound,1),OFFSET(Pairings11!$C$6,($M$91-1)*gamesPerRound,0,Analysis11!gamesPerRound,1),"")),1)} -> F | U101: {=LEFT(_xlfn.XLOOKUP(U$80&$K101,OFFSET(Pairings11!$C$6,($M$91-1)*gamesPerRound,0,Analysis11!gamesPerRound,1),OFFSET(Pairings11!$D$6,($M$91-1)*gamesPerRound,0,Analysis11!gamesPerRound,1), _xlfn.XLOOKUP(U$80&$K101,OFFSET(Pairings11!$D$6,($M$91-1)*gamesPerRound,0,Analysis11!gamesPerRound,1),OFFSET(Pairings11!$C$6,($M$91-1)*gamesPerRound,0,Analysis11!gamesPerRound,1),"")),1)} -> J | ... Y101: {=LEFT(_xlfn.XLOOKUP(Y$80&$K101,OFFSET(Pairings11!$C$6,($M$91-1)*gamesPerRound,0,Analysis11!gamesPerRound,1),OFFSET(Pairings11!$D$6,($M$91-1)*gamesPerRound,0,Analysis11!gamesPerRound,1), _xlfn.XLOOKUP(Y$80&$K101,OFFSET(Pairings11!$D$6,($M$91-1)*gamesPerRound,0,Analysis11!gamesPerRound,1),OFFSET(Pairings11!$C$6,($M$91-1)*gamesPerRound,0,Analysis11!gamesPerRound,1),"")),1)}
A102: 2 | B102: H | C102: 07 | D102: E | E102: 07 | F102: =IF(E102<C102,B102&"."&C102,IF(C102<E102,D102&"."&E102,"")) | G102: =IF(E102>C102,B102&"."&C102,IF(C102>E102,D102&"."&E102,"")) | H102: FALSE | K102: board | L102: Round | M102: 3
A103: 2 | B103: I | C103: 07 | D103: B | E103: 07 | F103: =IF(E103<C103,B103&"."&C103,IF(C103<E103,D103&"."&E103,"")) | G103: =IF(E103>C103,B103&"."&C103,IF(C103>E103,D103&"."&E103,"")) | H103: FALSE | K103: .01 | N103: {=LEFT(_xlfn.XLOOKUP(N$80&$K103,OFFSET(Pairings11!$C$6,($M$102-1)*gamesPerRound,0,Analysis11!gamesPerRound,1),OFFSET(Pairings11!$D$6,($M$102-1)*gamesPerRound,0,Analysis11!gamesPerRound,1), _xlfn.XLOOKUP(N$80&$K103,OFFSET(Pairings11!$D$6,($M$102-1)*gamesPerRound,0,Analysis11!gamesPerRound,1),OFFSET(Pairings11!$C$6,($M$102-1)*gamesPerRound,0,Analysis11!gamesPerRound,1),"")),1)} -> B | O103: {=LEFT(_xlfn.XLOOKUP(O$80&$K103,OFFSET(Pairings11!$C$6,($M$102-1)*gamesPerRound,0,Analysis11!gamesPerRound,1),OFFSET(Pairings11!$D$6,($M$102-1)*gamesPerRound,0,Analysis11!gamesPerRound,1), _xlfn.XLOOKUP(O$80&$K103,OFFSET(Pairings11!$D$6,($M$102-1)*gamesPerRound,0,Analysis11!gamesPerRound,1),OFFSET(Pairings11!$C$6,($M$102-1)*gamesPerRound,0,Analysis11!gamesPerRound,1),"")),1)} -> J | P103: {=LEFT(_xlfn.XLOOKUP(P$80&$K103,OFFSET(Pairings11!$C$6,($M$102-1)*gamesPerRound,0,Analysis11!gamesPerRound,1),OFFSET(Pairings11!$D$6,($M$102-1)*gamesPerRound,0,Analysis11!gamesPerRound,1), _xlfn.XLOOKUP(P$80&$K103,OFFSET(Pairings11!$D$6,($M$102-1)*gamesPerRound,0,Analysis11!gamesPerRound,1),OFFSET(Pairings11!$C$6,($M$102-1)*gamesPerRound,0,Analysis11!gamesPerRound,1),"")),1)} -> I | Q103: {=LEFT(_xlfn.XLOOKUP(Q$80&$K103,OFFSET(Pairings11!$C$6,($M$102-1)*gamesPerRound,0,Analysis11!gamesPerRound,1),OFFSET(Pairings11!$D$6,($M$102-1)*gamesPerRound,0,Analysis11!gamesPerRound,1), _xlfn.XLOOKUP(Q$80&$K103,OFFSET(Pairings11!$D$6,($M$102-1)*gamesPerRound,0,Analysis11!gamesPerRound,1),OFFSET(Pairings11!$C$6,($M$102-1)*gamesPerRound,0,Analysis11!gamesPerRound,1),"")),1)} -> K | R103: {=LEFT(_xlfn.XLOOKUP(R$80&$K103,OFFSET(Pairings11!$C$6,($M$102-1)*gamesPerRound,0,Analysis11!gamesPerRound,1),OFFSET(Pairings11!$D$6,($M$102-1)*gamesPerRound,0,Analysis11!gamesPerRound,1), _xlfn.XLOOKUP(R$80&$K103,OFFSET(Pairings11!$D$6,($M$102-1)*gamesPerRound,0,Analysis11!gamesPerRound,1),OFFSET(Pairings11!$C$6,($M$102-1)*gamesPerRound,0,Analysis11!gamesPerRound,1),"")),1)} -> F | S103: {=LEFT(_xlfn.XLOOKUP(S$80&$K103,OFFSET(Pairings11!$C$6,($M$102-1)*gamesPerRound,0,Analysis11!gamesPerRound,1),OFFSET(Pairings11!$D$6,($M$102-1)*gamesPerRound,0,Analysis11!gamesPerRound,1), _xlfn.XLOOKUP(S$80&$K103,OFFSET(Pairings11!$D$6,($M$102-1)*gamesPerRound,0,Analysis11!gamesPerRound,1),OFFSET(Pairings11!$C$6,($M$102-1)*gamesPerRound,0,Analysis11!gamesPerRound,1),"")),1)} -> E | T103: {=LEFT(_xlfn.XLOOKUP(T$80&$K103,OFFSET(Pairings11!$C$6,($M$102-1)*gamesPerRound,0,Analysis11!gamesPerRound,1),OFFSET(Pairings11!$D$6,($M$102-1)*gamesPerRound,0,Analysis11!gamesPerRound,1), _xlfn.XLOOKUP(T$80&$K103,OFFSET(Pairings11!$D$6,($M$102-1)*gamesPerRound,0,Analysis11!gamesPerRound,1),OFFSET(Pairings11!$C$6,($M$102-1)*gamesPerRound,0,Analysis11!gamesPerRound,1),"")),1)} -> H | U103: {=LEFT(_xlfn.XLOOKUP(U$80&$K103,OFFSET(Pairings11!$C$6,($M$102-1)*gamesPerRound,0,Analysis11!gamesPerRound,1),OFFSET(Pairings11!$D$6,($M$102-1)*gamesPerRound,0,Analysis11!gamesPerRound,1), _xlfn.XLOOKUP(U$80&$K103,OFFSET(Pairings11!$D$6,($M$102-1)*gamesPerRound,0,Analysis11!gamesPerRound,1),OFFSET(Pairings11!$C$6,($M$102-1)*gamesPerRound,0,Analysis11!gamesPerRound,1),"")),1)} -> G | ... Y103: {=LEFT(_xlfn.XLOOKUP(Y$80&$K103,OFFSET(Pairings11!$C$6,($M$102-1)*gamesPerRound,0,Analysis11!gamesPerRound,1),OFFSET(Pairings11!$D$6,($M$102-1)*gamesPerRound,0,Analysis11!gamesPerRound,1), _xlfn.XLOOKUP(Y$80&$K103,OFFSET(Pairings11!$D$6,($M$102-1)*gamesPerRound,0,Analysis11!gamesPerRound,1),OFFSET(Pairings11!$C$6,($M$102-1)*gamesPerRound,0,Analysis11!gamesPerRound,1),"")),1)}
A104: 2 | B104: J | C104: 08 | D104: K | E104: 07 | F104: =IF(E104<C104,B104&"."&C104,IF(C104<E104,D104&"."&E104,"")) -> J.08 | G104: =IF(E104>C104,B104&"."&C104,IF(C104>E104,D104&"."&E104,"")) -> K.07 | H104: FALSE | K104: .02 | N104: {=LEFT(_xlfn.XLOOKUP(N$80&$K104,OFFSET(Pairings11!$C$6,($M$102-1)*gamesPerRound,0,Analysis11!gamesPerRound,1),OFFSET(Pairings11!$D$6,($M$102-1)*gamesPerRound,0,Analysis11!gamesPerRound,1), _xlfn.XLOOKUP(N$80&$K104,OFFSET(Pairings11!$D$6,($M$102-1)*gamesPerRound,0,Analysis11!gamesPerRound,1),OFFSET(Pairings11!$C$6,($M$102-1)*gamesPerRound,0,Analysis11!gamesPerRound,1),"")),1)} -> J | O104: {=LEFT(_xlfn.XLOOKUP(O$80&$K104,OFFSET(Pairings11!$C$6,($M$102-1)*gamesPerRound,0,Analysis11!gamesPerRound,1),OFFSET(Pairings11!$D$6,($M$102-1)*gamesPerRound,0,Analysis11!gamesPerRound,1), _xlfn.XLOOKUP(O$80&$K104,OFFSET(Pairings11!$D$6,($M$102-1)*gamesPerRound,0,Analysis11!gamesPerRound,1),OFFSET(Pairings11!$C$6,($M$102-1)*gamesPerRound,0,Analysis11!gamesPerRound,1),"")),1)} -> A | P104: {=LEFT(_xlfn.XLOOKUP(P$80&$K104,OFFSET(Pairings11!$C$6,($M$102-1)*gamesPerRound,0,Analysis11!gamesPerRound,1),OFFSET(Pairings11!$D$6,($M$102-1)*gamesPerRound,0,Analysis11!gamesPerRound,1), _xlfn.XLOOKUP(P$80&$K104,OFFSET(Pairings11!$D$6,($M$102-1)*gamesPerRound,0,Analysis11!gamesPerRound,1),OFFSET(Pairings11!$C$6,($M$102-1)*gamesPerRound,0,Analysis11!gamesPerRound,1),"")),1)} -> E | Q104: {=LEFT(_xlfn.XLOOKUP(Q$80&$K104,OFFSET(Pairings11!$C$6,($M$102-1)*gamesPerRound,0,Analysis11!gamesPerRound,1),OFFSET(Pairings11!$D$6,($M$102-1)*gamesPerRound,0,Analysis11!gamesPerRound,1), _xlfn.XLOOKUP(Q$80&$K104,OFFSET(Pairings11!$D$6,($M$102-1)*gamesPerRound,0,Analysis11!gamesPerRound,1),OFFSET(Pairings11!$C$6,($M$102-1)*gamesPerRound,0,Analysis11!gamesPerRound,1),"")),1)} -> H | R104: {=LEFT(_xlfn.XLOOKUP(R$80&$K104,OFFSET(Pairings11!$C$6,($M$102-1)*gamesPerRound,0,Analysis11!gamesPerRound,1),OFFSET(Pairings11!$D$6,($M$102-1)*gamesPerRound,0,Analysis11!gamesPerRound,1), _xlfn.XLOOKUP(R$80&$K104,OFFSET(Pairings11!$D$6,($M$102-1)*gamesPerRound,0,Analysis11!gamesPerRound,1),OFFSET(Pairings11!$C$6,($M$102-1)*gamesPerRound,0,Analysis11!gamesPerRound,1),"")),1)} -> C | S104: {=LEFT(_xlfn.XLOOKUP(S$80&$K104,OFFSET(Pairings11!$C$6,($M$102-1)*gamesPerRound,0,Analysis11!gamesPerRound,1),OFFSET(Pairings11!$D$6,($M$102-1)*gamesPerRound,0,Analysis11!gamesPerRound,1), _xlfn.XLOOKUP(S$80&$K104,OFFSET(Pairings11!$D$6,($M$102-1)*gamesPerRound,0,Analysis11!gamesPerRound,1),OFFSET(Pairings11!$C$6,($M$102-1)*gamesPerRound,0,Analysis11!gamesPerRound,1),"")),1)} -> K | T104: {=LEFT(_xlfn.XLOOKUP(T$80&$K104,OFFSET(Pairings11!$C$6,($M$102-1)*gamesPerRound,0,Analysis11!gamesPerRound,1),OFFSET(Pairings11!$D$6,($M$102-1)*gamesPerRound,0,Analysis11!gamesPerRound,1), _xlfn.XLOOKUP(T$80&$K104,OFFSET(Pairings11!$D$6,($M$102-1)*gamesPerRound,0,Analysis11!gamesPerRound,1),OFFSET(Pairings11!$C$6,($M$102-1)*gamesPerRound,0,Analysis11!gamesPerRound,1),"")),1)} -> I | U104: {=LEFT(_xlfn.XLOOKUP(U$80&$K104,OFFSET(Pairings11!$C$6,($M$102-1)*gamesPerRound,0,Analysis11!gamesPerRound,1),OFFSET(Pairings11!$D$6,($M$102-1)*gamesPerRound,0,Analysis11!gamesPerRound,1), _xlfn.XLOOKUP(U$80&$K104,OFFSET(Pairings11!$D$6,($M$102-1)*gamesPerRound,0,Analysis11!gamesPerRound,1),OFFSET(Pairings11!$C$6,($M$102-1)*gamesPerRound,0,Analysis11!gamesPerRound,1),"")),1)} -> D | ... Y104: {=LEFT(_xlfn.XLOOKUP(Y$80&$K104,OFFSET(Pairings11!$C$6,($M$102-1)*gamesPerRound,0,Analysis11!gamesPerRound,1),OFFSET(Pairings11!$D$6,($M$102-1)*gamesPerRound,0,Analysis11!gamesPerRound,1), _xlfn.XLOOKUP(Y$80&$K104,OFFSET(Pairings11!$D$6,($M$102-1)*gamesPerRound,0,Analysis11!gamesPerRound,1),OFFSET(Pairings11!$C$6,($M$102-1)*gamesPerRound,0,Analysis11!gamesPerRound,1),"")),1)}
A105: 2 | B105: E | C105: 08 | D105: B | E105: 08 | F105: =IF(E105<C105,B105&"."&C105,IF(C105<E105,D105&"."&E105,"")) | G105: =IF(E105>C105,B105&"."&C105,IF(C105>E105,D105&"."&E105,"")) | H105: FALSE | K105: .03 | N105: {=LEFT(_xlfn.XLOOKUP(N$80&$K105,OFFSET(Pairings11!$C$6,($M$102-1)*gamesPerRound,0,Analysis11!gamesPerRound,1),OFFSET(Pairings11!$D$6,($M$102-1)*gamesPerRound,0,Analysis11!gamesPerRound,1), _xlfn.XLOOKUP(N$80&$K105,OFFSET(Pairings11!$D$6,($M$102-1)*gamesPerRound,0,Analysis11!gamesPerRound,1),OFFSET(Pairings11!$C$6,($M$102-1)*gamesPerRound,0,Analysis11!gamesPerRound,1),"")),1)} -> K | O105: {=LEFT(_xlfn.XLOOKUP(O$80&$K105,OFFSET(Pairings11!$C$6,($M$102-1)*gamesPerRound,0,Analysis11!gamesPerRound,1),OFFSET(Pairings11!$D$6,($M$102-1)*gamesPerRound,0,Analysis11!gamesPerRound,1), _xlfn.XLOOKUP(O$80&$K105,OFFSET(Pairings11!$D$6,($M$102-1)*gamesPerRound,0,Analysis11!gamesPerRound,1),OFFSET(Pairings11!$C$6,($M$102-1)*gamesPerRound,0,Analysis11!gamesPerRound,1),"")),1)} -> J | P105: {=LEFT(_xlfn.XLOOKUP(P$80&$K105,OFFSET(Pairings11!$C$6,($M$102-1)*gamesPerRound,0,Analysis11!gamesPerRound,1),OFFSET(Pairings11!$D$6,($M$102-1)*gamesPerRound,0,Analysis11!gamesPerRound,1), _xlfn.XLOOKUP(P$80&$K105,OFFSET(Pairings11!$D$6,($M$102-1)*gamesPerRound,0,Analysis11!gamesPerRound,1),OFFSET(Pairings11!$C$6,($M$102-1)*gamesPerRound,0,Analysis11!gamesPerRound,1),"")),1)} -> I | Q105: {=LEFT(_xlfn.XLOOKUP(Q$80&$K105,OFFSET(Pairings11!$C$6,($M$102-1)*gamesPerRound,0,Analysis11!gamesPerRound,1),OFFSET(Pairings11!$D$6,($M$102-1)*gamesPerRound,0,Analysis11!gamesPerRound,1), _xlfn.XLOOKUP(Q$80&$K105,OFFSET(Pairings11!$D$6,($M$102-1)*gamesPerRound,0,Analysis11!gamesPerRound,1),OFFSET(Pairings11!$C$6,($M$102-1)*gamesPerRound,0,Analysis11!gamesPerRound,1),"")),1)} -> F | R105: {=LEFT(_xlfn.XLOOKUP(R$80&$K105,OFFSET(Pairings11!$C$6,($M$102-1)*gamesPerRound,0,Analysis11!gamesPerRound,1),OFFSET(Pairings11!$D$6,($M$102-1)*gamesPerRound,0,Analysis11!gamesPerRound,1), _xlfn.XLOOKUP(R$80&$K105,OFFSET(Pairings11!$D$6,($M$102-1)*gamesPerRound,0,Analysis11!gamesPerRound,1),OFFSET(Pairings11!$C$6,($M$102-1)*gamesPerRound,0,Analysis11!gamesPerRound,1),"")),1)} -> H | S105: {=LEFT(_xlfn.XLOOKUP(S$80&$K105,OFFSET(Pairings11!$C$6,($M$102-1)*gamesPerRound,0,Analysis11!gamesPerRound,1),OFFSET(Pairings11!$D$6,($M$102-1)*gamesPerRound,0,Analysis11!gamesPerRound,1), _xlfn.XLOOKUP(S$80&$K105,OFFSET(Pairings11!$D$6,($M$102-1)*gamesPerRound,0,Analysis11!gamesPerRound,1),OFFSET(Pairings11!$C$6,($M$102-1)*gamesPerRound,0,Analysis11!gamesPerRound,1),"")),1)} -> D | T105: {=LEFT(_xlfn.XLOOKUP(T$80&$K105,OFFSET(Pairings11!$C$6,($M$102-1)*gamesPerRound,0,Analysis11!gamesPerRound,1),OFFSET(Pairings11!$D$6,($M$102-1)*gamesPerRound,0,Analysis11!gamesPerRound,1), _xlfn.XLOOKUP(T$80&$K105,OFFSET(Pairings11!$D$6,($M$102-1)*gamesPerRound,0,Analysis11!gamesPerRound,1),OFFSET(Pairings11!$C$6,($M$102-1)*gamesPerRound,0,Analysis11!gamesPerRound,1),"")),1)} -> A | U105: {=LEFT(_xlfn.XLOOKUP(U$80&$K105,OFFSET(Pairings11!$C$6,($M$102-1)*gamesPerRound,0,Analysis11!gamesPerRound,1),OFFSET(Pairings11!$D$6,($M$102-1)*gamesPerRound,0,Analysis11!gamesPerRound,1), _xlfn.XLOOKUP(U$80&$K105,OFFSET(Pairings11!$D$6,($M$102-1)*gamesPerRound,0,Analysis11!gamesPerRound,1),OFFSET(Pairings11!$C$6,($M$102-1)*gamesPerRound,0,Analysis11!gamesPerRound,1),"")),1)} -> E | ... Y105: {=LEFT(_xlfn.XLOOKUP(Y$80&$K105,OFFSET(Pairings11!$C$6,($M$102-1)*gamesPerRound,0,Analysis11!gamesPerRound,1),OFFSET(Pairings11!$D$6,($M$102-1)*gamesPerRound,0,Analysis11!gamesPerRound,1), _xlfn.XLOOKUP(Y$80&$K105,OFFSET(Pairings11!$D$6,($M$102-1)*gamesPerRound,0,Analysis11!gamesPerRound,1),OFFSET(Pairings11!$C$6,($M$102-1)*gamesPerRound,0,Analysis11!gamesPerRound,1),"")),1)}
A106: 2 | B106: D | C106: 08 | D106: A | E106: 08 | F106: =IF(E106<C106,B106&"."&C106,IF(C106<E106,D106&"."&E106,"")) | G106: =IF(E106>C106,B106&"."&C106,IF(C106>E106,D106&"."&E106,"")) | H106: FALSE | K106: .04 | N106: {=LEFT(_xlfn.XLOOKUP(N$80&$K106,OFFSET(Pairings11!$C$6,($M$102-1)*gamesPerRound,0,Analysis11!gamesPerRound,1),OFFSET(Pairings11!$D$6,($M$102-1)*gamesPerRound,0,Analysis11!gamesPerRound,1), _xlfn.XLOOKUP(N$80&$K106,OFFSET(Pairings11!$D$6,($M$102-1)*gamesPerRound,0,Analysis11!gamesPerRound,1),OFFSET(Pairings11!$C$6,($M$102-1)*gamesPerRound,0,Analysis11!gamesPerRound,1),"")),1)} -> G | O106: {=LEFT(_xlfn.XLOOKUP(O$80&$K106,OFFSET(Pairings11!$C$6,($M$102-1)*gamesPerRound,0,Analysis11!gamesPerRound,1),OFFSET(Pairings11!$D$6,($M$102-1)*gamesPerRound,0,Analysis11!gamesPerRound,1), _xlfn.XLOOKUP(O$80&$K106,OFFSET(Pairings11!$D$6,($M$102-1)*gamesPerRound,0,Analysis11!gamesPerRound,1),OFFSET(Pairings11!$C$6,($M$102-1)*gamesPerRound,0,Analysis11!gamesPerRound,1),"")),1)} -> E | P106: {=LEFT(_xlfn.XLOOKUP(P$80&$K106,OFFSET(Pairings11!$C$6,($M$102-1)*gamesPerRound,0,Analysis11!gamesPerRound,1),OFFSET(Pairings11!$D$6,($M$102-1)*gamesPerRound,0,Analysis11!gamesPerRound,1), _xlfn.XLOOKUP(P$80&$K106,OFFSET(Pairings11!$D$6,($M$102-1)*gamesPerRound,0,Analysis11!gamesPerRound,1),OFFSET(Pairings11!$C$6,($M$102-1)*gamesPerRound,0,Analysis11!gamesPerRound,1),"")),1)} -> I | Q106: {=LEFT(_xlfn.XLOOKUP(Q$80&$K106,OFFSET(Pairings11!$C$6,($M$102-1)*gamesPerRound,0,Analysis11!gamesPerRound,1),OFFSET(Pairings11!$D$6,($M$102-1)*gamesPerRound,0,Analysis11!gamesPerRound,1), _xlfn.XLOOKUP(Q$80&$K106,OFFSET(Pairings11!$D$6,($M$102-1)*gamesPerRound,0,Analysis11!gamesPerRound,1),OFFSET(Pairings11!$C$6,($M$102-1)*gamesPerRound,0,Analysis11!gamesPerRound,1),"")),1)} -> H | R106: {=LEFT(_xlfn.XLOOKUP(R$80&$K106,OFFSET(Pairings11!$C$6,($M$102-1)*gamesPerRound,0,Analysis11!gamesPerRound,1),OFFSET(Pairings11!$D$6,($M$102-1)*gamesPerRound,0,Analysis11!gamesPerRound,1), _xlfn.XLOOKUP(R$80&$K106,OFFSET(Pairings11!$D$6,($M$102-1)*gamesPerRound,0,Analysis11!gamesPerRound,1),OFFSET(Pairings11!$C$6,($M$102-1)*gamesPerRound,0,Analysis11!gamesPerRound,1),"")),1)} -> B | S106: {=LEFT(_xlfn.XLOOKUP(S$80&$K106,OFFSET(Pairings11!$C$6,($M$102-1)*gamesPerRound,0,Analysis11!gamesPerRound,1),OFFSET(Pairings11!$D$6,($M$102-1)*gamesPerRound,0,Analysis11!gamesPerRound,1), _xlfn.XLOOKUP(S$80&$K106,OFFSET(Pairings11!$D$6,($M$102-1)*gamesPerRound,0,Analysis11!gamesPerRound,1),OFFSET(Pairings11!$C$6,($M$102-1)*gamesPerRound,0,Analysis11!gamesPerRound,1),"")),1)} -> G | T106: {=LEFT(_xlfn.XLOOKUP(T$80&$K106,OFFSET(Pairings11!$C$6,($M$102-1)*gamesPerRound,0,Analysis11!gamesPerRound,1),OFFSET(Pairings11!$D$6,($M$102-1)*gamesPerRound,0,Analysis11!gamesPerRound,1), _xlfn.XLOOKUP(T$80&$K106,OFFSET(Pairings11!$D$6,($M$102-1)*gamesPerRound,0,Analysis11!gamesPerRound,1),OFFSET(Pairings11!$C$6,($M$102-1)*gamesPerRound,0,Analysis11!gamesPerRound,1),"")),1)} -> F | U106: {=LEFT(_xlfn.XLOOKUP(U$80&$K106,OFFSET(Pairings11!$C$6,($M$102-1)*gamesPerRound,0,Analysis11!gamesPerRound,1),OFFSET(Pairings11!$D$6,($M$102-1)*gamesPerRound,0,Analysis11!gamesPerRound,1), _xlfn.XLOOKUP(U$80&$K106,OFFSET(Pairings11!$D$6,($M$102-1)*gamesPerRound,0,Analysis11!gamesPerRound,1),OFFSET(Pairings11!$C$6,($M$102-1)*gamesPerRound,0,Analysis11!gamesPerRound,1),"")),1)} -> D | ... Y106: {=LEFT(_xlfn.XLOOKUP(Y$80&$K106,OFFSET(Pairings11!$C$6,($M$102-1)*gamesPerRound,0,Analysis11!gamesPerRound,1),OFFSET(Pairings11!$D$6,($M$102-1)*gamesPerRound,0,Analysis11!gamesPerRound,1), _xlfn.XLOOKUP(Y$80&$K106,OFFSET(Pairings11!$D$6,($M$102-1)*gamesPerRound,0,Analysis11!gamesPerRound,1),OFFSET(Pairings11!$C$6,($M$102-1)*gamesPerRound,0,Analysis11!gamesPerRound,1),"")),1)}
A107: 2 | B107: G | C107: 08 | D107: C | E107: 08 | F107: =IF(E107<C107,B107&"."&C107,IF(C107<E107,D107&"."&E107,"")) | G107: =IF(E107>C107,B107&"."&C107,IF(C107>E107,D107&"."&E107,"")) | H107: FALSE | K107: .05 | N107: {=LEFT(_xlfn.XLOOKUP(N$80&$K107,OFFSET(Pairings11!$C$6,($M$102-1)*gamesPerRound,0,Analysis11!gamesPerRound,1),OFFSET(Pairings11!$D$6,($M$102-1)*gamesPerRound,0,Analysis11!gamesPerRound,1), _xlfn.XLOOKUP(N$80&$K107,OFFSET(Pairings11!$D$6,($M$102-1)*gamesPerRound,0,Analysis11!gamesPerRound,1),OFFSET(Pairings11!$C$6,($M$102-1)*gamesPerRound,0,Analysis11!gamesPerRound,1),"")),1)} -> E | O107: {=LEFT(_xlfn.XLOOKUP(O$80&$K107,OFFSET(Pairings11!$C$6,($M$102-1)*gamesPerRound,0,Analysis11!gamesPerRound,1),OFFSET(Pairings11!$D$6,($M$102-1)*gamesPerRound,0,Analysis11!gamesPerRound,1), _xlfn.XLOOKUP(O$80&$K107,OFFSET(Pairings11!$D$6,($M$102-1)*gamesPerRound,0,Analysis11!gamesPerRound,1),OFFSET(Pairings11!$C$6,($M$102-1)*gamesPerRound,0,Analysis11!gamesPerRound,1),"")),1)} -> G | P107: {=LEFT(_xlfn.XLOOKUP(P$80&$K107,OFFSET(Pairings11!$C$6,($M$102-1)*gamesPerRound,0,Analysis11!gamesPerRound,1),OFFSET(Pairings11!$D$6,($M$102-1)*gamesPerRound,0,Analysis11!gamesPerRound,1), _xlfn.XLOOKUP(P$80&$K107,OFFSET(Pairings11!$D$6,($M$102-1)*gamesPerRound,0,Analysis11!gamesPerRound,1),OFFSET(Pairings11!$C$6,($M$102-1)*gamesPerRound,0,Analysis11!gamesPerRound,1),"")),1)} -> J | Q107: {=LEFT(_xlfn.XLOOKUP(Q$80&$K107,OFFSET(Pairings11!$C$6,($M$102-1)*gamesPerRound,0,Analysis11!gamesPerRound,1),OFFSET(Pairings11!$D$6,($M$102-1)*gamesPerRound,0,Analysis11!gamesPerRound,1), _xlfn.XLOOKUP(Q$80&$K107,OFFSET(Pairings11!$D$6,($M$102-1)*gamesPerRound,0,Analysis11!gamesPerRound,1),OFFSET(Pairings11!$C$6,($M$102-1)*gamesPerRound,0,Analysis11!gamesPerRound,1),"")),1)} -> G | R107: {=LEFT(_xlfn.XLOOKUP(R$80&$K107,OFFSET(Pairings11!$C$6,($M$102-1)*gamesPerRound,0,Analysis11!gamesPerRound,1),OFFSET(Pairings11!$D$6,($M$102-1)*gamesPerRound,0,Analysis11!gamesPerRound,1), _xlfn.XLOOKUP(R$80&$K107,OFFSET(Pairings11!$D$6,($M$102-1)*gamesPerRound,0,Analysis11!gamesPerRound,1),OFFSET(Pairings11!$C$6,($M$102-1)*gamesPerRound,0,Analysis11!gamesPerRound,1),"")),1)} -> A | S107: {=LEFT(_xlfn.XLOOKUP(S$80&$K107,OFFSET(Pairings11!$C$6,($M$102-1)*gamesPerRound,0,Analysis11!gamesPerRound,1),OFFSET(Pairings11!$D$6,($M$102-1)*gamesPerRound,0,Analysis11!gamesPerRound,1), _xlfn.XLOOKUP(S$80&$K107,OFFSET(Pairings11!$D$6,($M$102-1)*gamesPerRound,0,Analysis11!gamesPerRound,1),OFFSET(Pairings11!$C$6,($M$102-1)*gamesPerRound,0,Analysis11!gamesPerRound,1),"")),1)} -> I | T107: {=LEFT(_xlfn.XLOOKUP(T$80&$K107,OFFSET(Pairings11!$C$6,($M$102-1)*gamesPerRound,0,Analysis11!gamesPerRound,1),OFFSET(Pairings11!$D$6,($M$102-1)*gamesPerRound,0,Analysis11!gamesPerRound,1), _xlfn.XLOOKUP(T$80&$K107,OFFSET(Pairings11!$D$6,($M$102-1)*gamesPerRound,0,Analysis11!gamesPerRound,1),OFFSET(Pairings11!$C$6,($M$102-1)*gamesPerRound,0,Analysis11!gamesPerRound,1),"")),1)} -> D | U107: {=LEFT(_xlfn.XLOOKUP(U$80&$K107,OFFSET(Pairings11!$C$6,($M$102-1)*gamesPerRound,0,Analysis11!gamesPerRound,1),OFFSET(Pairings11!$D$6,($M$102-1)*gamesPerRound,0,Analysis11!gamesPerRound,1), _xlfn.XLOOKUP(U$80&$K107,OFFSET(Pairings11!$D$6,($M$102-1)*gamesPerRound,0,Analysis11!gamesPerRound,1),OFFSET(Pairings11!$C$6,($M$102-1)*gamesPerRound,0,Analysis11!gamesPerRound,1),"")),1)} -> K | ... Y107: {=LEFT(_xlfn.XLOOKUP(Y$80&$K107,OFFSET(Pairings11!$C$6,($M$102-1)*gamesPerRound,0,Analysis11!gamesPerRound,1),OFFSET(Pairings11!$D$6,($M$102-1)*gamesPerRound,0,Analysis11!gamesPerRound,1), _xlfn.XLOOKUP(Y$80&$K107,OFFSET(Pairings11!$D$6,($M$102-1)*gamesPerRound,0,Analysis11!gamesPerRound,1),OFFSET(Pairings11!$C$6,($M$102-1)*gamesPerRound,0,Analysis11!gamesPerRound,1),"")),1)}
A108: 2 | B108: H | C108: 08 | D108: F | E108: 08 | F108: =IF(E108<C108,B108&"."&C108,IF(C108<E108,D108&"."&E108,"")) | G108: =IF(E108>C108,B108&"."&C108,IF(C108>E108,D108&"."&E108,"")) | H108: FALSE | K108: .06 | N108: {=LEFT(_xlfn.XLOOKUP(N$80&$K108,OFFSET(Pairings11!$C$6,($M$102-1)*gamesPerRound,0,Analysis11!gamesPerRound,1),OFFSET(Pairings11!$D$6,($M$102-1)*gamesPerRound,0,Analysis11!gamesPerRound,1), _xlfn.XLOOKUP(N$80&$K108,OFFSET(Pairings11!$D$6,($M$102-1)*gamesPerRound,0,Analysis11!gamesPerRound,1),OFFSET(Pairings11!$C$6,($M$102-1)*gamesPerRound,0,Analysis11!gamesPerRound,1),"")),1)} -> I | O108: {=LEFT(_xlfn.XLOOKUP(O$80&$K108,OFFSET(Pairings11!$C$6,($M$102-1)*gamesPerRound,0,Analysis11!gamesPerRound,1),OFFSET(Pairings11!$D$6,($M$102-1)*gamesPerRound,0,Analysis11!gamesPerRound,1), _xlfn.XLOOKUP(O$80&$K108,OFFSET(Pairings11!$D$6,($M$102-1)*gamesPerRound,0,Analysis11!gamesPerRound,1),OFFSET(Pairings11!$C$6,($M$102-1)*gamesPerRound,0,Analysis11!gamesPerRound,1),"")),1)} -> K | P108: {=LEFT(_xlfn.XLOOKUP(P$80&$K108,OFFSET(Pairings11!$C$6,($M$102-1)*gamesPerRound,0,Analysis11!gamesPerRound,1),OFFSET(Pairings11!$D$6,($M$102-1)*gamesPerRound,0,Analysis11!gamesPerRound,1), _xlfn.XLOOKUP(P$80&$K108,OFFSET(Pairings11!$D$6,($M$102-1)*gamesPerRound,0,Analysis11!gamesPerRound,1),OFFSET(Pairings11!$C$6,($M$102-1)*gamesPerRound,0,Analysis11!gamesPerRound,1),"")),1)} -> F | Q108: {=LEFT(_xlfn.XLOOKUP(Q$80&$K108,OFFSET(Pairings11!$C$6,($M$102-1)*gamesPerRound,0,Analysis11!gamesPerRound,1),OFFSET(Pairings11!$D$6,($M$102-1)*gamesPerRound,0,Analysis11!gamesPerRound,1), _xlfn.XLOOKUP(Q$80&$K108,OFFSET(Pairings11!$D$6,($M$102-1)*gamesPerRound,0,Analysis11!gamesPerRound,1),OFFSET(Pairings11!$C$6,($M$102-1)*gamesPerRound,0,Analysis11!gamesPerRound,1),"")),1)} -> J | R108: {=LEFT(_xlfn.XLOOKUP(R$80&$K108,OFFSET(Pairings11!$C$6,($M$102-1)*gamesPerRound,0,Analysis11!gamesPerRound,1),OFFSET(Pairings11!$D$6,($M$102-1)*gamesPerRound,0,Analysis11!gamesPerRound,1), _xlfn.XLOOKUP(R$80&$K108,OFFSET(Pairings11!$D$6,($M$102-1)*gamesPerRound,0,Analysis11!gamesPerRound,1),OFFSET(Pairings11!$C$6,($M$102-1)*gamesPerRound,0,Analysis11!gamesPerRound,1),"")),1)} -> H | S108: {=LEFT(_xlfn.XLOOKUP(S$80&$K108,OFFSET(Pairings11!$C$6,($M$102-1)*gamesPerRound,0,Analysis11!gamesPerRound,1),OFFSET(Pairings11!$D$6,($M$102-1)*gamesPerRound,0,Analysis11!gamesPerRound,1), _xlfn.XLOOKUP(S$80&$K108,OFFSET(Pairings11!$D$6,($M$102-1)*gamesPerRound,0,Analysis11!gamesPerRound,1),OFFSET(Pairings11!$C$6,($M$102-1)*gamesPerRound,0,Analysis11!gamesPerRound,1),"")),1)} -> C | T108: {=LEFT(_xlfn.XLOOKUP(T$80&$K108,OFFSET(Pairings11!$C$6,($M$102-1)*gamesPerRound,0,Analysis11!gamesPerRound,1),OFFSET(Pairings11!$D$6,($M$102-1)*gamesPerRound,0,Analysis11!gamesPerRound,1), _xlfn.XLOOKUP(T$80&$K108,OFFSET(Pairings11!$D$6,($M$102-1)*gamesPerRound,0,Analysis11!gamesPerRound,1),OFFSET(Pairings11!$C$6,($M$102-1)*gamesPerRound,0,Analysis11!gamesPerRound,1),"")),1)} -> B | U108: {=LEFT(_xlfn.XLOOKUP(U$80&$K108,OFFSET(Pairings11!$C$6,($M$102-1)*gamesPerRound,0,Analysis11!gamesPerRound,1),OFFSET(Pairings11!$D$6,($M$102-1)*gamesPerRound,0,Analysis11!gamesPerRound,1), _xlfn.XLOOKUP(U$80&$K108,OFFSET(Pairings11!$D$6,($M$102-1)*gamesPerRound,0,Analysis11!gamesPerRound,1),OFFSET(Pairings11!$C$6,($M$102-1)*gamesPerRound,0,Analysis11!gamesPerRound,1),"")),1)} -> E | ... Y108: {=LEFT(_xlfn.XLOOKUP(Y$80&$K108,OFFSET(Pairings11!$C$6,($M$102-1)*gamesPerRound,0,Analysis11!gamesPerRound,1),OFFSET(Pairings11!$D$6,($M$102-1)*gamesPerRound,0,Analysis11!gamesPerRound,1), _xlfn.XLOOKUP(Y$80&$K108,OFFSET(Pairings11!$D$6,($M$102-1)*gamesPerRound,0,Analysis11!gamesPerRound,1),OFFSET(Pairings11!$C$6,($M$102-1)*gamesPerRound,0,Analysis11!gamesPerRound,1),"")),1)}
A109: 2 | B109: I | C109: 08 | D109: K | E109: 08 | F109: =IF(E109<C109,B109&"."&C109,IF(C109<E109,D109&"."&E109,"")) | G109: =IF(E109>C109,B109&"."&C109,IF(C109>E109,D109&"."&E109,"")) | H109: FALSE | K109: .07 | N109: {=LEFT(_xlfn.XLOOKUP(N$80&$K109,OFFSET(Pairings11!$C$6,($M$102-1)*gamesPerRound,0,Analysis11!gamesPerRound,1),OFFSET(Pairings11!$D$6,($M$102-1)*gamesPerRound,0,Analysis11!gamesPerRound,1), _xlfn.XLOOKUP(N$80&$K109,OFFSET(Pairings11!$D$6,($M$102-1)*gamesPerRound,0,Analysis11!gamesPerRound,1),OFFSET(Pairings11!$C$6,($M$102-1)*gamesPerRound,0,Analysis11!gamesPerRound,1),"")),1)} -> C | O109: {=LEFT(_xlfn.XLOOKUP(O$80&$K109,OFFSET(Pairings11!$C$6,($M$102-1)*gamesPerRound,0,Analysis11!gamesPerRound,1),OFFSET(Pairings11!$D$6,($M$102-1)*gamesPerRound,0,Analysis11!gamesPerRound,1), _xlfn.XLOOKUP(O$80&$K109,OFFSET(Pairings11!$D$6,($M$102-1)*gamesPerRound,0,Analysis11!gamesPerRound,1),OFFSET(Pairings11!$C$6,($M$102-1)*gamesPerRound,0,Analysis11!gamesPerRound,1),"")),1)} -> F | P109: {=LEFT(_xlfn.XLOOKUP(P$80&$K109,OFFSET(Pairings11!$C$6,($M$102-1)*gamesPerRound,0,Analysis11!gamesPerRound,1),OFFSET(Pairings11!$D$6,($M$102-1)*gamesPerRound,0,Analysis11!gamesPerRound,1), _xlfn.XLOOKUP(P$80&$K109,OFFSET(Pairings11!$D$6,($M$102-1)*gamesPerRound,0,Analysis11!gamesPerRound,1),OFFSET(Pairings11!$C$6,($M$102-1)*gamesPerRound,0,Analysis11!gamesPerRound,1),"")),1)} -> A | Q109: {=LEFT(_xlfn.XLOOKUP(Q$80&$K109,OFFSET(Pairings11!$C$6,($M$102-1)*gamesPerRound,0,Analysis11!gamesPerRound,1),OFFSET(Pairings11!$D$6,($M$102-1)*gamesPerRound,0,Analysis11!gamesPerRound,1), _xlfn.XLOOKUP(Q$80&$K109,OFFSET(Pairings11!$D$6,($M$102-1)*gamesPerRound,0,Analysis11!gamesPerRound,1),OFFSET(Pairings11!$C$6,($M$102-1)*gamesPerRound,0,Analysis11!gamesPerRound,1),"")),1)} -> E | R109: {=LEFT(_xlfn.XLOOKUP(R$80&$K109,OFFSET(Pairings11!$C$6,($M$102-1)*gamesPerRound,0,Analysis11!gamesPerRound,1),OFFSET(Pairings11!$D$6,($M$102-1)*gamesPerRound,0,Analysis11!gamesPerRound,1), _xlfn.XLOOKUP(R$80&$K109,OFFSET(Pairings11!$D$6,($M$102-1)*gamesPerRound,0,Analysis11!gamesPerRound,1),OFFSET(Pairings11!$C$6,($M$102-1)*gamesPerRound,0,Analysis11!gamesPerRound,1),"")),1)} -> G | S109: {=LEFT(_xlfn.XLOOKUP(S$80&$K109,OFFSET(Pairings11!$C$6,($M$102-1)*gamesPerRound,0,Analysis11!gamesPerRound,1),OFFSET(Pairings11!$D$6,($M$102-1)*gamesPerRound,0,Analysis11!gamesPerRound,1), _xlfn.XLOOKUP(S$80&$K109,OFFSET(Pairings11!$D$6,($M$102-1)*gamesPerRound,0,Analysis11!gamesPerRound,1),OFFSET(Pairings11!$C$6,($M$102-1)*gamesPerRound,0,Analysis11!gamesPerRound,1),"")),1)} -> B | T109: {=LEFT(_xlfn.XLOOKUP(T$80&$K109,OFFSET(Pairings11!$C$6,($M$102-1)*gamesPerRound,0,Analysis11!gamesPerRound,1),OFFSET(Pairings11!$D$6,($M$102-1)*gamesPerRound,0,Analysis11!gamesPerRound,1), _xlfn.XLOOKUP(T$80&$K109,OFFSET(Pairings11!$D$6,($M$102-1)*gamesPerRound,0,Analysis11!gamesPerRound,1),OFFSET(Pairings11!$C$6,($M$102-1)*gamesPerRound,0,Analysis11!gamesPerRound,1),"")),1)} -> E | U109: {=LEFT(_xlfn.XLOOKUP(U$80&$K109,OFFSET(Pairings11!$C$6,($M$102-1)*gamesPerRound,0,Analysis11!gamesPerRound,1),OFFSET(Pairings11!$D$6,($M$102-1)*gamesPerRound,0,Analysis11!gamesPerRound,1), _xlfn.XLOOKUP(U$80&$K109,OFFSET(Pairings11!$D$6,($M$102-1)*gamesPerRound,0,Analysis11!gamesPerRound,1),OFFSET(Pairings11!$C$6,($M$102-1)*gamesPerRound,0,Analysis11!gamesPerRound,1),"")),1)} -> K | ... Y109: {=LEFT(_xlfn.XLOOKUP(Y$80&$K109,OFFSET(Pairings11!$C$6,($M$102-1)*gamesPerRound,0,Analysis11!gamesPerRound,1),OFFSET(Pairings11!$D$6,($M$102-1)*gamesPerRound,0,Analysis11!gamesPerRound,1), _xlfn.XLOOKUP(Y$80&$K109,OFFSET(Pairings11!$D$6,($M$102-1)*gamesPerRound,0,Analysis11!gamesPerRound,1),OFFSET(Pairings11!$C$6,($M$102-1)*gamesPerRound,0,Analysis11!gamesPerRound,1),"")),1)}
A110: 2 | B110: F | C110: 09 | D110: E | E110: 09 | F110: =IF(E110<C110,B110&"."&C110,IF(C110<E110,D110&"."&E110,"")) | G110: =IF(E110>C110,B110&"."&C110,IF(C110>E110,D110&"."&E110,"")) | H110: FALSE | K110: .08 | N110: {=LEFT(_xlfn.XLOOKUP(N$80&$K110,OFFSET(Pairings11!$C$6,($M$102-1)*gamesPerRound,0,Analysis11!gamesPerRound,1),OFFSET(Pairings11!$D$6,($M$102-1)*gamesPerRound,0,Analysis11!gamesPerRound,1), _xlfn.XLOOKUP(N$80&$K110,OFFSET(Pairings11!$D$6,($M$102-1)*gamesPerRound,0,Analysis11!gamesPerRound,1),OFFSET(Pairings11!$C$6,($M$102-1)*gamesPerRound,0,Analysis11!gamesPerRound,1),"")),1)} -> I | O110: {=LEFT(_xlfn.XLOOKUP(O$80&$K110,OFFSET(Pairings11!$C$6,($M$102-1)*gamesPerRound,0,Analysis11!gamesPerRound,1),OFFSET(Pairings11!$D$6,($M$102-1)*gamesPerRound,0,Analysis11!gamesPerRound,1), _xlfn.XLOOKUP(O$80&$K110,OFFSET(Pairings11!$D$6,($M$102-1)*gamesPerRound,0,Analysis11!gamesPerRound,1),OFFSET(Pairings11!$C$6,($M$102-1)*gamesPerRound,0,Analysis11!gamesPerRound,1),"")),1)} -> D | P110: {=LEFT(_xlfn.XLOOKUP(P$80&$K110,OFFSET(Pairings11!$C$6,($M$102-1)*gamesPerRound,0,Analysis11!gamesPerRound,1),OFFSET(Pairings11!$D$6,($M$102-1)*gamesPerRound,0,Analysis11!gamesPerRound,1), _xlfn.XLOOKUP(P$80&$K110,OFFSET(Pairings11!$D$6,($M$102-1)*gamesPerRound,0,Analysis11!gamesPerRound,1),OFFSET(Pairings11!$C$6,($M$102-1)*gamesPerRound,0,Analysis11!gamesPerRound,1),"")),1)} -> H | Q110: {=LEFT(_xlfn.XLOOKUP(Q$80&$K110,OFFSET(Pairings11!$C$6,($M$102-1)*gamesPerRound,0,Analysis11!gamesPerRound,1),OFFSET(Pairings11!$D$6,($M$102-1)*gamesPerRound,0,Analysis11!gamesPerRound,1), _xlfn.XLOOKUP(Q$80&$K110,OFFSET(Pairings11!$D$6,($M$102-1)*gamesPerRound,0,Analysis11!gamesPerRound,1),OFFSET(Pairings11!$C$6,($M$102-1)*gamesPerRound,0,Analysis11!gamesPerRound,1),"")),1)} -> B | R110: {=LEFT(_xlfn.XLOOKUP(R$80&$K110,OFFSET(Pairings11!$C$6,($M$102-1)*gamesPerRound,0,Analysis11!gamesPerRound,1),OFFSET(Pairings11!$D$6,($M$102-1)*gamesPerRound,0,Analysis11!gamesPerRound,1), _xlfn.XLOOKUP(R$80&$K110,OFFSET(Pairings11!$D$6,($M$102-1)*gamesPerRound,0,Analysis11!gamesPerRound,1),OFFSET(Pairings11!$C$6,($M$102-1)*gamesPerRound,0,Analysis11!gamesPerRound,1),"")),1)} -> D | S110: {=LEFT(_xlfn.XLOOKUP(S$80&$K110,OFFSET(Pairings11!$C$6,($M$102-1)*gamesPerRound,0,Analysis11!gamesPerRound,1),OFFSET(Pairings11!$D$6,($M$102-1)*gamesPerRound,0,Analysis11!gamesPerRound,1), _xlfn.XLOOKUP(S$80&$K110,OFFSET(Pairings11!$D$6,($M$102-1)*gamesPerRound,0,Analysis11!gamesPerRound,1),OFFSET(Pairings11!$C$6,($M$102-1)*gamesPerRound,0,Analysis11!gamesPerRound,1),"")),1)} -> J | T110: {=LEFT(_xlfn.XLOOKUP(T$80&$K110,OFFSET(Pairings11!$C$6,($M$102-1)*gamesPerRound,0,Analysis11!gamesPerRound,1),OFFSET(Pairings11!$D$6,($M$102-1)*gamesPerRound,0,Analysis11!gamesPerRound,1), _xlfn.XLOOKUP(T$80&$K110,OFFSET(Pairings11!$D$6,($M$102-1)*gamesPerRound,0,Analysis11!gamesPerRound,1),OFFSET(Pairings11!$C$6,($M$102-1)*gamesPerRound,0,Analysis11!gamesPerRound,1),"")),1)} -> K | U110: {=LEFT(_xlfn.XLOOKUP(U$80&$K110,OFFSET(Pairings11!$C$6,($M$102-1)*gamesPerRound,0,Analysis11!gamesPerRound,1),OFFSET(Pairings11!$D$6,($M$102-1)*gamesPerRound,0,Analysis11!gamesPerRound,1), _xlfn.XLOOKUP(U$80&$K110,OFFSET(Pairings11!$D$6,($M$102-1)*gamesPerRound,0,Analysis11!gamesPerRound,1),OFFSET(Pairings11!$C$6,($M$102-1)*gamesPerRound,0,Analysis11!gamesPerRound,1),"")),1)} -> C | ... Y110: {=LEFT(_xlfn.XLOOKUP(Y$80&$K110,OFFSET(Pairings11!$C$6,($M$102-1)*gamesPerRound,0,Analysis11!gamesPerRound,1),OFFSET(Pairings11!$D$6,($M$102-1)*gamesPerRound,0,Analysis11!gamesPerRound,1), _xlfn.XLOOKUP(Y$80&$K110,OFFSET(Pairings11!$D$6,($M$102-1)*gamesPerRound,0,Analysis11!gamesPerRound,1),OFFSET(Pairings11!$C$6,($M$102-1)*gamesPerRound,0,Analysis11!gamesPerRound,1),"")),1)}
A111: 2 | B111: A | C111: 09 | D111: J | E111: 09 | F111: =IF(E111<C111,B111&"."&C111,IF(C111<E111,D111&"."&E111,"")) | G111: =IF(E111>C111,B111&"."&C111,IF(C111>E111,D111&"."&E111,"")) | H111: FALSE | K111: .09 | N111: {=LEFT(_xlfn.XLOOKUP(N$80&$K111,OFFSET(Pairings11!$C$6,($M$102-1)*gamesPerRound,0,Analysis11!gamesPerRound,1),OFFSET(Pairings11!$D$6,($M$102-1)*gamesPerRound,0,Analysis11!gamesPerRound,1), _xlfn.XLOOKUP(N$80&$K111,OFFSET(Pairings11!$D$6,($M$102-1)*gamesPerRound,0,Analysis11!gamesPerRound,1),OFFSET(Pairings11!$C$6,($M$102-1)*gamesPerRound,0,Analysis11!gamesPerRound,1),"")),1)} -> H | O111: {=LEFT(_xlfn.XLOOKUP(O$80&$K111,OFFSET(Pairings11!$C$6,($M$102-1)*gamesPerRound,0,Analysis11!gamesPerRound,1),OFFSET(Pairings11!$D$6,($M$102-1)*gamesPerRound,0,Analysis11!gamesPerRound,1), _xlfn.XLOOKUP(O$80&$K111,OFFSET(Pairings11!$D$6,($M$102-1)*gamesPerRound,0,Analysis11!gamesPerRound,1),OFFSET(Pairings11!$C$6,($M$102-1)*gamesPerRound,0,Analysis11!gamesPerRound,1),"")),1)} -> I | P111: {=LEFT(_xlfn.XLOOKUP(P$80&$K111,OFFSET(Pairings11!$C$6,($M$102-1)*gamesPerRound,0,Analysis11!gamesPerRound,1),OFFSET(Pairings11!$D$6,($M$102-1)*gamesPerRound,0,Analysis11!gamesPerRound,1), _xlfn.XLOOKUP(P$80&$K111,OFFSET(Pairings11!$D$6,($M$102-1)*gamesPerRound,0,Analysis11!gamesPerRound,1),OFFSET(Pairings11!$C$6,($M$102-1)*gamesPerRound,0,Analysis11!gamesPerRound,1),"")),1)} -> G | Q111: {=LEFT(_xlfn.XLOOKUP(Q$80&$K111,OFFSET(Pairings11!$C$6,($M$102-1)*gamesPerRound,0,Analysis11!gamesPerRound,1),OFFSET(Pairings11!$D$6,($M$102-1)*gamesPerRound,0,Analysis11!gamesPerRound,1), _xlfn.XLOOKUP(Q$80&$K111,OFFSET(Pairings11!$D$6,($M$102-1)*gamesPerRound,0,Analysis11!gamesPerRound,1),OFFSET(Pairings11!$C$6,($M$102-1)*gamesPerRound,0,Analysis11!gamesPerRound,1),"")),1)} -> E | R111: {=LEFT(_xlfn.XLOOKUP(R$80&$K111,OFFSET(Pairings11!$C$6,($M$102-1)*gamesPerRound,0,Analysis11!gamesPerRound,1),OFFSET(Pairings11!$D$6,($M$102-1)*gamesPerRound,0,Analysis11!gamesPerRound,1), _xlfn.XLOOKUP(R$80&$K111,OFFSET(Pairings11!$D$6,($M$102-1)*gamesPerRound,0,Analysis11!gamesPerRound,1),OFFSET(Pairings11!$C$6,($M$102-1)*gamesPerRound,0,Analysis11!gamesPerRound,1),"")),1)} -> D | S111: {=LEFT(_xlfn.XLOOKUP(S$80&$K111,OFFSET(Pairings11!$C$6,($M$102-1)*gamesPerRound,0,Analysis11!gamesPerRound,1),OFFSET(Pairings11!$D$6,($M$102-1)*gamesPerRound,0,Analysis11!gamesPerRound,1), _xlfn.XLOOKUP(S$80&$K111,OFFSET(Pairings11!$D$6,($M$102-1)*gamesPerRound,0,Analysis11!gamesPerRound,1),OFFSET(Pairings11!$C$6,($M$102-1)*gamesPerRound,0,Analysis11!gamesPerRound,1),"")),1)} -> D | T111: {=LEFT(_xlfn.XLOOKUP(T$80&$K111,OFFSET(Pairings11!$C$6,($M$102-1)*gamesPerRound,0,Analysis11!gamesPerRound,1),OFFSET(Pairings11!$D$6,($M$102-1)*gamesPerRound,0,Analysis11!gamesPerRound,1), _xlfn.XLOOKUP(T$80&$K111,OFFSET(Pairings11!$D$6,($M$102-1)*gamesPerRound,0,Analysis11!gamesPerRound,1),OFFSET(Pairings11!$C$6,($M$102-1)*gamesPerRound,0,Analysis11!gamesPerRound,1),"")),1)} -> C | U111: {=LEFT(_xlfn.XLOOKUP(U$80&$K111,OFFSET(Pairings11!$C$6,($M$102-1)*gamesPerRound,0,Analysis11!gamesPerRound,1),OFFSET(Pairings11!$D$6,($M$102-1)*gamesPerRound,0,Analysis11!gamesPerRound,1), _xlfn.XLOOKUP(U$80&$K111,OFFSET(Pairings11!$D$6,($M$102-1)*gamesPerRound,0,Analysis11!gamesPerRound,1),OFFSET(Pairings11!$C$6,($M$102-1)*gamesPerRound,0,Analysis11!gamesPerRound,1),"")),1)} -> A | ... Y111: {=LEFT(_xlfn.XLOOKUP(Y$80&$K111,OFFSET(Pairings11!$C$6,($M$102-1)*gamesPerRound,0,Analysis11!gamesPerRound,1),OFFSET(Pairings11!$D$6,($M$102-1)*gamesPerRound,0,Analysis11!gamesPerRound,1), _xlfn.XLOOKUP(Y$80&$K111,OFFSET(Pairings11!$D$6,($M$102-1)*gamesPerRound,0,Analysis11!gamesPerRound,1),OFFSET(Pairings11!$C$6,($M$102-1)*gamesPerRound,0,Analysis11!gamesPerRound,1),"")),1)}
A112: 2 | B112: B | C112: 09 | D112: G | E112: 09 | F112: =IF(E112<C112,B112&"."&C112,IF(C112<E112,D112&"."&E112,"")) | G112: =IF(E112>C112,B112&"."&C112,IF(C112>E112,D112&"."&E112,"")) | H112: FALSE | K112: .10 | N112: {=LEFT(_xlfn.XLOOKUP(N$80&$K112,OFFSET(Pairings11!$C$6,($M$102-1)*gamesPerRound,0,Analysis11!gamesPerRound,1),OFFSET(Pairings11!$D$6,($M$102-1)*gamesPerRound,0,Analysis11!gamesPerRound,1), _xlfn.XLOOKUP(N$80&$K112,OFFSET(Pairings11!$D$6,($M$102-1)*gamesPerRound,0,Analysis11!gamesPerRound,1),OFFSET(Pairings11!$C$6,($M$102-1)*gamesPerRound,0,Analysis11!gamesPerRound,1),"")),1)} -> H | O112: {=LEFT(_xlfn.XLOOKUP(O$80&$K112,OFFSET(Pairings11!$C$6,($M$102-1)*gamesPerRound,0,Analysis11!gamesPerRound,1),OFFSET(Pairings11!$D$6,($M$102-1)*gamesPerRound,0,Analysis11!gamesPerRound,1), _xlfn.XLOOKUP(O$80&$K112,OFFSET(Pairings11!$D$6,($M$102-1)*gamesPerRound,0,Analysis11!gamesPerRound,1),OFFSET(Pairings11!$C$6,($M$102-1)*gamesPerRound,0,Analysis11!gamesPerRound,1),"")),1)} -> G | P112: {=LEFT(_xlfn.XLOOKUP(P$80&$K112,OFFSET(Pairings11!$C$6,($M$102-1)*gamesPerRound,0,Analysis11!gamesPerRound,1),OFFSET(Pairings11!$D$6,($M$102-1)*gamesPerRound,0,Analysis11!gamesPerRound,1), _xlfn.XLOOKUP(P$80&$K112,OFFSET(Pairings11!$D$6,($M$102-1)*gamesPerRound,0,Analysis11!gamesPerRound,1),OFFSET(Pairings11!$C$6,($M$102-1)*gamesPerRound,0,Analysis11!gamesPerRound,1),"")),1)} -> J | Q112: {=LEFT(_xlfn.XLOOKUP(Q$80&$K112,OFFSET(Pairings11!$C$6,($M$102-1)*gamesPerRound,0,Analysis11!gamesPerRound,1),OFFSET(Pairings11!$D$6,($M$102-1)*gamesPerRound,0,Analysis11!gamesPerRound,1), _xlfn.XLOOKUP(Q$80&$K112,OFFSET(Pairings11!$D$6,($M$102-1)*gamesPerRound,0,Analysis11!gamesPerRound,1),OFFSET(Pairings11!$C$6,($M$102-1)*gamesPerRound,0,Analysis11!gamesPerRound,1),"")),1)} -> F | R112: {=LEFT(_xlfn.XLOOKUP(R$80&$K112,OFFSET(Pairings11!$C$6,($M$102-1)*gamesPerRound,0,Analysis11!gamesPerRound,1),OFFSET(Pairings11!$D$6,($M$102-1)*gamesPerRound,0,Analysis11!gamesPerRound,1), _xlfn.XLOOKUP(R$80&$K112,OFFSET(Pairings11!$D$6,($M$102-1)*gamesPerRound,0,Analysis11!gamesPerRound,1),OFFSET(Pairings11!$C$6,($M$102-1)*gamesPerRound,0,Analysis11!gamesPerRound,1),"")),1)} -> K | S112: {=LEFT(_xlfn.XLOOKUP(S$80&$K112,OFFSET(Pairings11!$C$6,($M$102-1)*gamesPerRound,0,Analysis11!gamesPerRound,1),OFFSET(Pairings11!$D$6,($M$102-1)*gamesPerRound,0,Analysis11!gamesPerRound,1), _xlfn.XLOOKUP(S$80&$K112,OFFSET(Pairings11!$D$6,($M$102-1)*gamesPerRound,0,Analysis11!gamesPerRound,1),OFFSET(Pairings11!$C$6,($M$102-1)*gamesPerRound,0,Analysis11!gamesPerRound,1),"")),1)} -> I | T112: {=LEFT(_xlfn.XLOOKUP(T$80&$K112,OFFSET(Pairings11!$C$6,($M$102-1)*gamesPerRound,0,Analysis11!gamesPerRound,1),OFFSET(Pairings11!$D$6,($M$102-1)*gamesPerRound,0,Analysis11!gamesPerRound,1), _xlfn.XLOOKUP(T$80&$K112,OFFSET(Pairings11!$D$6,($M$102-1)*gamesPerRound,0,Analysis11!gamesPerRound,1),OFFSET(Pairings11!$C$6,($M$102-1)*gamesPerRound,0,Analysis11!gamesPerRound,1),"")),1)} -> B | U112: {=LEFT(_xlfn.XLOOKUP(U$80&$K112,OFFSET(Pairings11!$C$6,($M$102-1)*gamesPerRound,0,Analysis11!gamesPerRound,1),OFFSET(Pairings11!$D$6,($M$102-1)*gamesPerRound,0,Analysis11!gamesPerRound,1), _xlfn.XLOOKUP(U$80&$K112,OFFSET(Pairings11!$D$6,($M$102-1)*gamesPerRound,0,Analysis11!gamesPerRound,1),OFFSET(Pairings11!$C$6,($M$102-1)*gamesPerRound,0,Analysis11!gamesPerRound,1),"")),1)} -> A | ... Y112: {=LEFT(_xlfn.XLOOKUP(Y$80&$K112,OFFSET(Pairings11!$C$6,($M$102-1)*gamesPerRound,0,Analysis11!gamesPerRound,1),OFFSET(Pairings11!$D$6,($M$102-1)*gamesPerRound,0,Analysis11!gamesPerRound,1), _xlfn.XLOOKUP(Y$80&$K112,OFFSET(Pairings11!$D$6,($M$102-1)*gamesPerRound,0,Analysis11!gamesPerRound,1),OFFSET(Pairings11!$C$6,($M$102-1)*gamesPerRound,0,Analysis11!gamesPerRound,1),"")),1)}
A113: 2 | B113: C | C113: 09 | D113: H | E113: 09 | F113: =IF(E113<C113,B113&"."&C113,IF(C113<E113,D113&"."&E113,"")) | G113: =IF(E113>C113,B113&"."&C113,IF(C113>E113,D113&"."&E113,"")) | H113: FALSE
...

Sheet Pairings12
D1: 12 | E1: teams
D2: {=INDIRECT("Analysis"&D1&"!players")} -> 10 | E2: players per team
D3: {=INDIRECT("Analysis"&D1&"!rounds")} -> 3 | E3: rounds
D4: =D1*D2/2 -> 60 | E4: games per round
A5: Ref | B5: Round | C5: White | D5: Black | E5: White Copy for TeamSheets
A6: 0 | B6: {=_xlfn.TEXTSPLIT(Entries!$B174,",")} -> 1 | C6: A.01 | D6: D.01 | E6: =C6 -> A.01
A7: 1 | B7: {=_xlfn.TEXTSPLIT(Entries!$B175,",")} -> 1 | C7: E.01 | D7: B.01 | E7: =C7 -> E.01
A8: 2 | B8: {=_xlfn.TEXTSPLIT(Entries!$B176,",")} -> 1 | C8: F.01 | D8: G.01 | E8: =C8 -> F.01
A9: 3 | B9: {=_xlfn.TEXTSPLIT(Entries!$B177,",")} -> 1 | C9: H.01 | D9: L.01 | E9: =C9 -> H.01
A10: 4 | B10: {=_xlfn.TEXTSPLIT(Entries!$B178,",")} -> 1 | C10: J.01 | D10: I.01 | E10: =C10 -> J.01
A11: 5 | B11: {=_xlfn.TEXTSPLIT(Entries!$B179,",")} -> 1 | C11: K.01 | D11: C.01 | E11: =C11 -> K.01
A12: 6 | B12: {=_xlfn.TEXTSPLIT(Entries!$B180,",")} -> 1 | C12: B.02 | D12: J.02 | E12: =C12 -> B.02
A13: 7 | B13: {=_xlfn.TEXTSPLIT(Entries!$B181,",")} -> 1 | C13: C.02 | D13: E.02 | E13: =C13 -> C.02
A14: 8 | B14: {=_xlfn.TEXTSPLIT(Entries!$B182,",")} -> 1 | C14: D.02 | D14: F.02 | E14: =C14 -> D.02
A15: 9 | B15: {=_xlfn.TEXTSPLIT(Entries!$B183,",")} -> 1 | C15: G.02 | D15: A.02 | E15: =C15 -> G.02
A16: 10 | B16: {=_xlfn.TEXTSPLIT(Entries!$B184,",")} -> 1 | C16: I.02 | D16: K.02 | E16: =C16 -> I.02
A17: 11 | B17: {=_xlfn.TEXTSPLIT(Entries!$B185,",")} -> 1 | C17: L.02 | D17: H.02 | E17: =C17 -> L.02
... A185: 179 | B185: {=_xlfn.TEXTSPLIT(Entries!$B353,",")} -> 3 | C185: D.10 | D185: K.10 | E185: =C185 -> D.10
A186: 180 | B186: =IF(INT(A186/$D$4)<$D$3,1+INT(A186/$D$4),"")
A187: 181 | B187: =IF(INT(A187/$D$4)<$D$3,1+INT(A187/$D$4),"")
A188: 182 | B188: =IF(INT(A188/$D$4)<$D$3,1+INT(A188/$D$4),"")
A189: 183 | B189: =IF(INT(A189/$D$4)<$D$3,1+INT(A189/$D$4),"")
A190: 184 | B190: =IF(INT(A190/$D$4)<$D$3,1+INT(A190/$D$4),"")
A191: 185 | B191: =IF(INT(A191/$D$4)<$D$3,1+INT(A191/$D$4),"")
A192: 186 | B192: =IF(INT(A192/$D$4)<$D$3,1+INT(A192/$D$4),"")
A193: 187 | B193: =IF(INT(A193/$D$4)<$D$3,1+INT(A193/$D$4),"")
A194: 188 | B194: =IF(INT(A194/$D$4)<$D$3,1+INT(A194/$D$4),"")
A195: 189 | B195: =IF(INT(A195/$D$4)<$D$3,1+INT(A195/$D$4),"")
A196: 190 | B196: =IF(INT(A196/$D$4)<$D$3,1+INT(A196/$D$4),"")
A197: 191 | B197: =IF(INT(A197/$D$4)<$D$3,1+INT(A197/$D$4),"")
... A306: 300 | B306: =IF(INT(A306/$D$4)<$D$3,1+INT(A306/$D$4),"")
A307: =A306+1 -> 301 | B307: =IF(INT(A307/$D$4)<$D$3,1+INT(A307/$D$4),"")
A308: =A307+1 -> 302 | B308: =IF(INT(A308/$D$4)<$D$3,1+INT(A308/$D$4),"")
A309: =A308+1 -> 303 | B309: =IF(INT(A309/$D$4)<$D$3,1+INT(A309/$D$4),"")
A310: =A309+1 -> 304 | B310: =IF(INT(A310/$D$4)<$D$3,1+INT(A310/$D$4),"")
A311: =A310+1 -> 305 | B311: =IF(INT(A311/$D$4)<$D$3,1+INT(A311/$D$4),"")
A312: =A311+1 -> 306 | B312: =IF(INT(A312/$D$4)<$D$3,1+INT(A312/$D$4),"")
A313: =A312+1 -> 307 | B313: =IF(INT(A313/$D$4)<$D$3,1+INT(A313/$D$4),"")
A314: =A313+1 -> 308 | B314: =IF(INT(A314/$D$4)<$D$3,1+INT(A314/$D$4),"")
A315: =A314+1 -> 309 | B315: =IF(INT(A315/$D$4)<$D$3,1+INT(A315/$D$4),"")
A316: =A315+1 -> 310 | B316: =IF(INT(A316/$D$4)<$D$3,1+INT(A316/$D$4),"")
A317: =A316+1 -> 311 | B317: =IF(INT(A317/$D$4)<$D$3,1+INT(A317/$D$4),"")
A318: =A317+1 -> 312 | B318: =IF(INT(A318/$D$4)<$D$3,1+INT(A318/$D$4),"")
... A473: =A472+1 -> 467 | B473: =IF(INT(A473/$D$4)<$D$3,1+INT(A473/$D$4),"")

Sheet Analysis12
G1: Repeated opposing teams | H1: =I39 -> FALSE | K1: =_xlfn.ARRAYTOTEXT(_xlfn._xlws.FILTER(G1:G9,H1:H9,"OK"),0) -> OK
G2: Play team-mate | H2: =MAX(OFFSET($N$78,0,0,players,1))>$M$78 -> FALSE
G3: Opposing team distrib violation | H3: =OR(OFFSET($I$52,0,0,teams)) -> FALSE
G4: Repeated up-floats | H4: {=COUNTA(_xlfn._xlws.FILTER(OFFSET($F$11,0,0,rounds*gamesPerRound,1),LEN(OFFSET($F$11,0,0,rounds*gamesPerRound,1))>0))<>COUNTA(_xlfn.UNIQUE(_xlfn._xlws.FILTER(OFFSET($F$11,0,0,rounds*gamesPerRound,1),LEN(OFFSET($F$11,0,0,rounds*gamesPerRound,1))>0)))} -> FALSE
G5: Repeated down-floats | H5: {=COUNTA(_xlfn._xlws.FILTER(OFFSET($G$11,0,0,rounds*gamesPerRound,1),LEN(OFFSET($G$11,0,0,rounds*gamesPerRound,1))>0))<>COUNTA(_xlfn.UNIQUE(_xlfn._xlws.FILTER(OFFSET($G$11,0,0,rounds*gamesPerRound,1),LEN(OFFSET($G$11,0,0,rounds*gamesPerRound,1))>0)))} -> FALSE
G6: Board colours violation | H6: =OR(OFFSET($I$27,0,0,players+1)) -> FALSE | J6: 12 | K6: teams
G7: Float number violation | H7: =OR(I17:I18) -> FALSE | J7: 10 | K7: players per team
G8: Float balance violation | H8: =I19 -> FALSE | J8: 3 | K8: rounds
G9: Float colour violation | H9: =OR(_xlfn.ANCHORARRAY(H11)) -> FALSE | I9: violations? | J9: =J6*J7/2 -> 60 | K9: games per round
A10: Round | B10: White | D10: Black | F10: Upfloat | G10: Downfloat | I10: =OR(H1:H9) -> FALSE | J10: Q | K10: total | M10: =SUM(M11:M14) -> 0.072727273
A11: {=Pairings12!B6:B473} -> 1 | B11: {=LEFT(Pairings12!C6:C473,1)} -> A | C11: {=RIGHT(Pairings12!C6:C473,2)} -> 01 | D11: {=LEFT(Pairings12!D6:D473,1)} -> D | E11: {=RIGHT(Pairings12!D6:D473,2)} -> 01 | F11: =IF(E11<C11,B11&"."&C11,IF(C11<E11,D11&"."&E11,"")) | G11: =IF(E11>C11,B11&"."&C11,IF(C11>E11,D11&"."&E11,"")) | H11: {=C11:C478<E11:E478} -> FALSE | J11: QX | K11: round colours | M11: =SUM(OFFSET(M11,0,1,1,teams)) -> 0 | N11: =IF(N$15>teams,"",SUM(N23:N25)) -> 0 | O11: =IF(O$15>teams,"",SUM(O23:O25)) -> 0 | P11: =IF(P$15>teams,"",SUM(P23:P25)) -> 0 | Q11: =IF(Q$15>teams,"",SUM(Q23:Q25)) -> 0 | R11: =IF(R$15>teams,"",SUM(R23:R25)) -> 0 | S11: =IF(S$15>teams,"",SUM(S23:S25)) -> 0 | T11: =IF(T$15>teams,"",SUM(T23:T25)) -> 0 | U11: =IF(U$15>teams,"",SUM(U23:U25)) -> 0 | ... AM11: =IF(AM$15>teams,"",SUM(AM23:AM25))
A12: 1 | B12: E | C12: 01 | D12: B | E12: 01 | F12: =IF(E12<C12,B12&"."&C12,IF(C12<E12,D12&"."&E12,"")) | G12: =IF(E12>C12,B12&"."&C12,IF(C12>E12,D12&"."&E12,"")) | H12: FALSE | J12: QY | K12: total floats | M12: =SUM(OFFSET(M12,0,1,1,teams)) -> 0 | N12: =IF(N$15>teams,"",ABS(N19)) -> 0 | O12: =IF(O$15>teams,"",ABS(O19)) -> 0 | P12: =IF(P$15>teams,"",ABS(P19)) -> 0 | Q12: =IF(Q$15>teams,"",ABS(Q19)) -> 0 | R12: =IF(R$15>teams,"",ABS(R19)) -> 0 | S12: =IF(S$15>teams,"",ABS(S19)) -> 0 | T12: =IF(T$15>teams,"",ABS(T19)) -> 0 | U12: =IF(U$15>teams,"",ABS(U19)) -> 0 | ... AM12: =IF(AM$15>teams,"",ABS(AM19))
A13: 1 | B13: F | C13: 01 | D13: G | E13: 01 | F13: =IF(E13<C13,B13&"."&C13,IF(C13<E13,D13&"."&E13,"")) | G13: =IF(E13>C13,B13&"."&C13,IF(C13>E13,D13&"."&E13,"")) | H13: FALSE | J13: QZ | K13: board whites | M13: {=SUM(ABS(OFFSET(M13,0,1,1,teams)))} -> 0.072727273 | N13: =IF(N$15>teams,"",1-(4/(rounds*players*(players+1))*SUMPRODUCT(OFFSET($J$27,0,0,players,1),OFFSET(N$27,0,0,players,1)))) -> 0.0060606061 | O13: =IF(O$15>teams,"",1-(4/(rounds*players*(players+1))*SUMPRODUCT(OFFSET($J$27,0,0,players,1),OFFSET(O$27,0,0,players,1)))) -> 0.0060606061 | P13: =IF(P$15>teams,"",1-(4/(rounds*players*(players+1))*SUMPRODUCT(OFFSET($J$27,0,0,players,1),OFFSET(P$27,0,0,players,1)))) -> 0.0060606061 | Q13: =IF(Q$15>teams,"",1-(4/(rounds*players*(players+1))*SUMPRODUCT(OFFSET($J$27,0,0,players,1),OFFSET(Q$27,0,0,players,1)))) -> 0.0060606061 | R13: =IF(R$15>teams,"",1-(4/(rounds*players*(players+1))*SUMPRODUCT(OFFSET($J$27,0,0,players,1),OFFSET(R$27,0,0,players,1)))) -> 0.0060606061 | S13: =IF(S$15>teams,"",1-(4/(rounds*players*(players+1))*SUMPRODUCT(OFFSET($J$27,0,0,players,1),OFFSET(S$27,0,0,players,1)))) -> 0.0060606061 | T13: =IF(T$15>teams,"",1-(4/(rounds*players*(players+1))*SUMPRODUCT(OFFSET($J$27,0,0,players,1),OFFSET(T$27,0,0,players,1)))) -> -0.0060606061 | U13: =IF(U$15>teams,"",1-(4/(rounds*players*(players+1))*SUMPRODUCT(OFFSET($J$27,0,0,players,1),OFFSET(U$27,0,0,players,1)))) -> -0.0060606061 | ... AM13: =IF(AM$15>teams,"",1-(4/(rounds*players*(players+1))*SUMPRODUCT(OFFSET($J$27,0,0,players,1),OFFSET(AM$27,0,0,players,1))))
A14: 1 | B14: H | C14: 01 | D14: L | E14: 01 | F14: =IF(E14<C14,B14&"."&C14,IF(C14<E14,D14&"."&E14,"")) | G14: =IF(E14>C14,B14&"."&C14,IF(C14>E14,D14&"."&E14,"")) | H14: FALSE
A15: 1 | B15: J | C15: 01 | D15: I | E15: 01 | F15: =IF(E15<C15,B15&"."&C15,IF(C15<E15,D15&"."&E15,"")) | G15: =IF(E15>C15,B15&"."&C15,IF(C15>E15,D15&"."&E15,"")) | H15: FALSE | K15: =teams -> 12 | L15: permitted | N15: 1 | O15: 2 | P15: 3 | Q15: 4 | R15: 5 | S15: 6 | T15: 7 | U15: 8 | V15: 9 | W15: 10 | X15: 11 | Y15: 12 | Z15: 13 | AA15: 14 | AB15: 15 | AC15: 16 | AD15: 17 | AE15: 18 | AF15: 19 | AG15: 20 | AH15: 21 | AI15: 22 | AJ15: 23 | AK15: 24 | AL15: 25 | AM15: 26
A16: 1 | B16: K | C16: 01 | D16: C | E16: 01 | F16: =IF(E16<C16,B16&"."&C16,IF(C16<E16,D16&"."&E16,"")) | G16: =IF(E16>C16,B16&"."&C16,IF(C16>E16,D16&"."&E16,"")) | H16: FALSE | I16: violation | K16: teams | L16: min | M16: max | N16: =IF(N$15>teams,"",INDEX(teamsList,Analysis12!N$15)) -> A | O16: =IF(O$15>teams,"",INDEX(teamsList,Analysis12!O$15)) -> B | P16: =IF(P$15>teams,"",INDEX(teamsList,Analysis12!P$15)) -> C | Q16: =IF(Q$15>teams,"",INDEX(teamsList,Analysis12!Q$15)) -> D | R16: =IF(R$15>teams,"",INDEX(teamsList,Analysis12!R$15)) -> E | S16: =IF(S$15>teams,"",INDEX(teamsList,Analysis12!S$15)) -> F | T16: =IF(T$15>teams,"",INDEX(teamsList,Analysis12!T$15)) -> G | U16: =IF(U$15>teams,"",INDEX(teamsList,Analysis12!U$15)) -> H | ... AM16: =IF(AM$15>teams,"",INDEX(teamsList,Analysis12!AM$15))
A17: 1 | B17: B | C17: 02 | D17: J | E17: 02 | F17: =IF(E17<C17,B17&"."&C17,IF(C17<E17,D17&"."&E17,"")) | G17: =IF(E17>C17,B17&"."&C17,IF(C17>E17,D17&"."&E17,"")) | H17: FALSE | I17: =OR(MAX(OFFSET($N17,0,0,1,teams))>$M17,MIN(OFFSET($N17,0,0,1,teams))<$L17) -> FALSE | K17: upfloats | L17: 0 | M17: =MOD(teams,2)*(INT(rounds*(players/2)/teams)+2) -> 0 | N17: =IF(N$15>teams,"",COUNTIF($F:$F,N$16)) -> 0 | O17: =IF(O$15>teams,"",COUNTIF($F:$F,O$16)) -> 0 | P17: =IF(P$15>teams,"",COUNTIF($F:$F,P$16)) -> 0 | Q17: =IF(Q$15>teams,"",COUNTIF($F:$F,Q$16)) -> 0 | R17: =IF(R$15>teams,"",COUNTIF($F:$F,R$16)) -> 0 | S17: =IF(S$15>teams,"",COUNTIF($F:$F,S$16)) -> 0 | T17: =IF(T$15>teams,"",COUNTIF($F:$F,T$16)) -> 0 | U17: =IF(U$15>teams,"",COUNTIF($F:$F,U$16)) -> 0 | ... AM17: =IF(AM$15>teams,"",COUNTIF($F:$F,AM$16))
A18: 1 | B18: C | C18: 02 | D18: E | E18: 02 | F18: =IF(E18<C18,B18&"."&C18,IF(C18<E18,D18&"."&E18,"")) | G18: =IF(E18>C18,B18&"."&C18,IF(C18>E18,D18&"."&E18,"")) | H18: FALSE | I18: =OR(MAX(OFFSET($N18,0,0,1,teams))>$M18,MIN(OFFSET($N18,0,0,1,teams))<$L18) -> FALSE | K18: downfloats | L18: 0 | M18: =MOD(teams,2)*(INT(rounds*(players/2)/teams)+2) -> 0 | N18: =IF(N$15>teams,"",COUNTIF($G:$G,N$16)) -> 0 | O18: =IF(O$15>teams,"",COUNTIF($G:$G,O$16)) -> 0 | P18: =IF(P$15>teams,"",COUNTIF($G:$G,P$16)) -> 0 | Q18: =IF(Q$15>teams,"",COUNTIF($G:$G,Q$16)) -> 0 | R18: =IF(R$15>teams,"",COUNTIF($G:$G,R$16)) -> 0 | S18: =IF(S$15>teams,"",COUNTIF($G:$G,S$16)) -> 0 | T18: =IF(T$15>teams,"",COUNTIF($G:$G,T$16)) -> 0 | U18: =IF(U$15>teams,"",COUNTIF($G:$G,U$16)) -> 0 | ... AM18: =IF(AM$15>teams,"",COUNTIF($G:$G,AM$16))
A19: 1 | B19: D | C19: 02 | D19: F | E19: 02 | F19: =IF(E19<C19,B19&"."&C19,IF(C19<E19,D19&"."&E19,"")) | G19: =IF(E19>C19,B19&"."&C19,IF(C19>E19,D19&"."&E19,"")) | H19: FALSE | I19: =OR(MAX(OFFSET($N19,0,0,1,teams))>$M19,MIN(OFFSET($N19,0,0,1,teams))<$L19) -> FALSE | K19: balance | L19: -1 | M19: 1 | N19: =IF(N$15>teams,"",N17-N18) -> 0 | O19: =IF(O$15>teams,"",O17-O18) -> 0 | P19: =IF(P$15>teams,"",P17-P18) -> 0 | Q19: =IF(Q$15>teams,"",Q17-Q18) -> 0 | R19: =IF(R$15>teams,"",R17-R18) -> 0 | S19: =IF(S$15>teams,"",S17-S18) -> 0 | T19: =IF(T$15>teams,"",T17-T18) -> 0 | U19: =IF(U$15>teams,"",U17-U18) -> 0 | ... AM19: =IF(AM$15>teams,"",AM17-AM18)
A20: 1 | B20: G | C20: 02 | D20: A | E20: 02 | F20: =IF(E20<C20,B20&"."&C20,IF(C20<E20,D20&"."&E20,"")) | G20: =IF(E20>C20,B20&"."&C20,IF(C20>E20,D20&"."&E20,"")) | H20: FALSE | J20: 1 | K20: r1 white | L20: =INT(players/2) -> 5 | M20: =L20+MOD(players,2) -> 5 | N20: =IF(N$15>teams,"",COUNTIFS($B:$B,N$16,$A:$A,$J20)) -> 5 | O20: =IF(O$15>teams,"",COUNTIFS($B:$B,O$16,$A:$A,$J20)) -> 5 | P20: =IF(P$15>teams,"",COUNTIFS($B:$B,P$16,$A:$A,$J20)) -> 5 | Q20: =IF(Q$15>teams,"",COUNTIFS($B:$B,Q$16,$A:$A,$J20)) -> 5 | R20: =IF(R$15>teams,"",COUNTIFS($B:$B,R$16,$A:$A,$J20)) -> 5 | S20: =IF(S$15>teams,"",COUNTIFS($B:$B,S$16,$A:$A,$J20)) -> 5 | T20: =IF(T$15>teams,"",COUNTIFS($B:$B,T$16,$A:$A,$J20)) -> 5 | U20: =IF(U$15>teams,"",COUNTIFS($B:$B,U$16,$A:$A,$J20)) -> 5 | ... AM20: =IF(AM$15>teams,"",COUNTIFS($B:$B,AM$16,$A:$A,$J20))
A21: 1 | B21: I | C21: 02 | D21: K | E21: 02 | F21: =IF(E21<C21,B21&"."&C21,IF(C21<E21,D21&"."&E21,"")) | G21: =IF(E21>C21,B21&"."&C21,IF(C21>E21,D21&"."&E21,"")) | H21: FALSE | J21: 2 | K21: r2 white | L21: =IF(rounds<$J21,"",L20) -> 5 | M21: =IF(rounds<$J21,"",M20) -> 5 | N21: =IF(N$15>teams,"",COUNTIFS($B:$B,N$16,$A:$A,$J21)) -> 5 | O21: =IF(O$15>teams,"",COUNTIFS($B:$B,O$16,$A:$A,$J21)) -> 5 | P21: =IF(P$15>teams,"",COUNTIFS($B:$B,P$16,$A:$A,$J21)) -> 5 | Q21: =IF(Q$15>teams,"",COUNTIFS($B:$B,Q$16,$A:$A,$J21)) -> 5 | R21: =IF(R$15>teams,"",COUNTIFS($B:$B,R$16,$A:$A,$J21)) -> 5 | S21: =IF(S$15>teams,"",COUNTIFS($B:$B,S$16,$A:$A,$J21)) -> 5 | T21: =IF(T$15>teams,"",COUNTIFS($B:$B,T$16,$A:$A,$J21)) -> 5 | U21: =IF(U$15>teams,"",COUNTIFS($B:$B,U$16,$A:$A,$J21)) -> 5 | ... AM21: =IF(AM$15>teams,"",COUNTIFS($B:$B,AM$16,$A:$A,$J21))
A22: 1 | B22: L | C22: 02 | D22: H | E22: 02 | F22: =IF(E22<C22,B22&"."&C22,IF(C22<E22,D22&"."&E22,"")) | G22: =IF(E22>C22,B22&"."&C22,IF(C22>E22,D22&"."&E22,"")) | H22: FALSE | J22: 3 | K22: r3 white | L22: =IF(rounds<$J22,"",L21) -> 5 | M22: =IF(rounds<$J22,"",M21) -> 5 | N22: =IF(N$15>teams,"",COUNTIFS($B:$B,N$16,$A:$A,$J22)) -> 5 | O22: =IF(O$15>teams,"",COUNTIFS($B:$B,O$16,$A:$A,$J22)) -> 5 | P22: =IF(P$15>teams,"",COUNTIFS($B:$B,P$16,$A:$A,$J22)) -> 5 | Q22: =IF(Q$15>teams,"",COUNTIFS($B:$B,Q$16,$A:$A,$J22)) -> 5 | R22: =IF(R$15>teams,"",COUNTIFS($B:$B,R$16,$A:$A,$J22)) -> 5 | S22: =IF(S$15>teams,"",COUNTIFS($B:$B,S$16,$A:$A,$J22)) -> 5 | T22: =IF(T$15>teams,"",COUNTIFS($B:$B,T$16,$A:$A,$J22)) -> 5 | U22: =IF(U$15>teams,"",COUNTIFS($B:$B,U$16,$A:$A,$J22)) -> 5 | ... AM22: =IF(AM$15>teams,"",COUNTIFS($B:$B,AM$16,$A:$A,$J22))
A23: 1 | B23: A | C23: 03 | D23: H | E23: 03 | F23: =IF(E23<C23,B23&"."&C23,IF(C23<E23,D23&"."&E23,"")) | G23: =IF(E23>C23,B23&"."&C23,IF(C23>E23,D23&"."&E23,"")) | H23: FALSE | J23: 1 | K23: r1 col diff | N23: =IF(N$15>teams,"",ABS(N20-(players-N20))) -> 0 | O23: =IF(O$15>teams,"",ABS(O20-(players-O20))) -> 0 | P23: =IF(P$15>teams,"",ABS(P20-(players-P20))) -> 0 | Q23: =IF(Q$15>teams,"",ABS(Q20-(players-Q20))) -> 0 | R23: =IF(R$15>teams,"",ABS(R20-(players-R20))) -> 0 | S23: =IF(S$15>teams,"",ABS(S20-(players-S20))) -> 0 | T23: =IF(T$15>teams,"",ABS(T20-(players-T20))) -> 0 | U23: =IF(U$15>teams,"",ABS(U20-(players-U20))) -> 0 | ... AM23: =IF(AM$15>teams,"",ABS(AM20-(players-AM20)))
A24: 1 | B24: C | C24: 03 | D24: L | E24: 03 | F24: =IF(E24<C24,B24&"."&C24,IF(C24<E24,D24&"."&E24,"")) | G24: =IF(E24>C24,B24&"."&C24,IF(C24>E24,D24&"."&E24,"")) | H24: FALSE | J24: 2 | K24: r2 col diff | N24: =IF(N$15>teams,"",ABS(N21-(players-N21))) -> 0 | O24: =IF(O$15>teams,"",ABS(O21-(players-O21))) -> 0 | P24: =IF(P$15>teams,"",ABS(P21-(players-P21))) -> 0 | Q24: =IF(Q$15>teams,"",ABS(Q21-(players-Q21))) -> 0 | R24: =IF(R$15>teams,"",ABS(R21-(players-R21))) -> 0 | S24: =IF(S$15>teams,"",ABS(S21-(players-S21))) -> 0 | T24: =IF(T$15>teams,"",ABS(T21-(players-T21))) -> 0 | U24: =IF(U$15>teams,"",ABS(U21-(players-U21))) -> 0 | ... AM24: =IF(AM$15>teams,"",ABS(AM21-(players-AM21)))
A25: 1 | B25: D | C25: 03 | D25: G | E25: 03 | F25: =IF(E25<C25,B25&"."&C25,IF(C25<E25,D25&"."&E25,"")) | G25: =IF(E25>C25,B25&"."&C25,IF(C25>E25,D25&"."&E25,"")) | H25: FALSE | J25: 3 | K25: r3 col diff | N25: =IF(N$15>teams,"",ABS(N22-(players-N22))) -> 0 | O25: =IF(O$15>teams,"",ABS(O22-(players-O22))) -> 0 | P25: =IF(P$15>teams,"",ABS(P22-(players-P22))) -> 0 | Q25: =IF(Q$15>teams,"",ABS(Q22-(players-Q22))) -> 0 | R25: =IF(R$15>teams,"",ABS(R22-(players-R22))) -> 0 | S25: =IF(S$15>teams,"",ABS(S22-(players-S22))) -> 0 | T25: =IF(T$15>teams,"",ABS(T22-(players-T22))) -> 0 | U25: =IF(U$15>teams,"",ABS(U22-(players-U22))) -> 0 | ... AM25: =IF(AM$15>teams,"",ABS(AM22-(players-AM22)))
A26: 1 | B26: E | C26: 03 | D26: K | E26: 03 | F26: =IF(E26<C26,B26&"."&C26,IF(C26<E26,D26&"."&E26,"")) | G26: =IF(E26>C26,B26&"."&C26,IF(C26>E26,D26&"."&E26,"")) | H26: FALSE
A27: 1 | B27: I | C27: 03 | D27: F | E27: 03 | F27: =IF(E27<C27,B27&"."&C27,IF(C27<E27,D27&"."&E27,"")) | G27: =IF(E27>C27,B27&"."&C27,IF(C27>E27,D27&"."&E27,"")) | H27: FALSE | I27: =OR(MAX(OFFSET($N27,0,0,1,teams))>$M27,MIN(OFFSET($N27,0,0,1,teams))<$L27) -> FALSE | J27: 1 | K27: board white | L27: =INT(rounds/2) -> 1 | M27: =L27+MOD(rounds,2) -> 2 | N27: =IF(N$15>teams,"",COUNTIFS($B:$B,N$16,$C:$C,TEXT($J27,"00"))) -> 2 | O27: =IF(O$15>teams,"",COUNTIFS($B:$B,O$16,$C:$C,TEXT($J27,"00"))) -> 1 | P27: =IF(P$15>teams,"",COUNTIFS($B:$B,P$16,$C:$C,TEXT($J27,"00"))) -> 1 | Q27: =IF(Q$15>teams,"",COUNTIFS($B:$B,Q$16,$C:$C,TEXT($J27,"00"))) -> 1 | R27: =IF(R$15>teams,"",COUNTIFS($B:$B,R$16,$C:$C,TEXT($J27,"00"))) -> 2 | S27: =IF(S$15>teams,"",COUNTIFS($B:$B,S$16,$C:$C,TEXT($J27,"00"))) -> 2 | T27: =IF(T$15>teams,"",COUNTIFS($B:$B,T$16,$C:$C,TEXT($J27,"00"))) -> 1 | U27: =IF(U$15>teams,"",COUNTIFS($B:$B,U$16,$C:$C,TEXT($J27,"00"))) -> 2 | ... AM27: =IF(AM$15>teams,"",COUNTIFS($B:$B,AM$16,$C:$C,TEXT($J27,"00")))
A28: 1 | B28: J | C28: 03 | D28: B | E28: 03 | F28: =IF(E28<C28,B28&"."&C28,IF(C28<E28,D28&"."&E28,"")) | G28: =IF(E28>C28,B28&"."&C28,IF(C28>E28,D28&"."&E28,"")) | H28: FALSE | I28: =OR(MAX(OFFSET($N28,0,0,1,teams))>$M28,MIN(OFFSET($N28,0,0,1,teams))<$L28) -> FALSE | J28: 2 | K28: board white | L28: =L27 -> 1 | M28: =M27 -> 2 | N28: =IF(N$15>teams,"",COUNTIFS($B:$B,N$16,$C:$C,TEXT($J28,"00"))) -> 1 | O28: =IF(O$15>teams,"",COUNTIFS($B:$B,O$16,$C:$C,TEXT($J28,"00"))) -> 2 | P28: =IF(P$15>teams,"",COUNTIFS($B:$B,P$16,$C:$C,TEXT($J28,"00"))) -> 2 | Q28: =IF(Q$15>teams,"",COUNTIFS($B:$B,Q$16,$C:$C,TEXT($J28,"00"))) -> 2 | R28: =IF(R$15>teams,"",COUNTIFS($B:$B,R$16,$C:$C,TEXT($J28,"00"))) -> 1 | S28: =IF(S$15>teams,"",COUNTIFS($B:$B,S$16,$C:$C,TEXT($J28,"00"))) -> 1 | T28: =IF(T$15>teams,"",COUNTIFS($B:$B,T$16,$C:$C,TEXT($J28,"00"))) -> 2 | U28: =IF(U$15>teams,"",COUNTIFS($B:$B,U$16,$C:$C,TEXT($J28,"00"))) -> 1 | ... AM28: =IF(AM$15>teams,"",COUNTIFS($B:$B,AM$16,$C:$C,TEXT($J28,"00")))
A29: 1 | B29: B | C29: 04 | D29: I | E29: 04 | F29: =IF(E29<C29,B29&"."&C29,IF(C29<E29,D29&"."&E29,"")) | G29: =IF(E29>C29,B29&"."&C29,IF(C29>E29,D29&"."&E29,"")) | H29: FALSE | I29: =OR(MAX(OFFSET($N29,0,0,1,teams))>$M29,MIN(OFFSET($N29,0,0,1,teams))<$L29) -> FALSE | J29: 3 | K29: board white | L29: =L28 -> 1 | M29: =M28 -> 2 | N29: =IF(N$15>teams,"",COUNTIFS($B:$B,N$16,$C:$C,TEXT($J29,"00"))) -> 2 | O29: =IF(O$15>teams,"",COUNTIFS($B:$B,O$16,$C:$C,TEXT($J29,"00"))) -> 1 | P29: =IF(P$15>teams,"",COUNTIFS($B:$B,P$16,$C:$C,TEXT($J29,"00"))) -> 2 | Q29: =IF(Q$15>teams,"",COUNTIFS($B:$B,Q$16,$C:$C,TEXT($J29,"00"))) -> 2 | R29: =IF(R$15>teams,"",COUNTIFS($B:$B,R$16,$C:$C,TEXT($J29,"00"))) -> 2 | S29: =IF(S$15>teams,"",COUNTIFS($B:$B,S$16,$C:$C,TEXT($J29,"00"))) -> 1 | T29: =IF(T$15>teams,"",COUNTIFS($B:$B,T$16,$C:$C,TEXT($J29,"00"))) -> 1 | U29: =IF(U$15>teams,"",COUNTIFS($B:$B,U$16,$C:$C,TEXT($J29,"00"))) -> 1 | ... AM29: =IF(AM$15>teams,"",COUNTIFS($B:$B,AM$16,$C:$C,TEXT($J29,"00")))
A30: 1 | B30: C | C30: 04 | D30: G | E30: 04 | F30: =IF(E30<C30,B30&"."&C30,IF(C30<E30,D30&"."&E30,"")) | G30: =IF(E30>C30,B30&"."&C30,IF(C30>E30,D30&"."&E30,"")) | H30: FALSE | I30: =OR(MAX(OFFSET($N30,0,0,1,teams))>$M30,MIN(OFFSET($N30,0,0,1,teams))<$L30) -> FALSE | J30: 4 | K30: board white | L30: =L29 -> 1 | M30: =M29 -> 2 | N30: =IF(N$15>teams,"",COUNTIFS($B:$B,N$16,$C:$C,TEXT($J30,"00"))) -> 1 | O30: =IF(O$15>teams,"",COUNTIFS($B:$B,O$16,$C:$C,TEXT($J30,"00"))) -> 2 | P30: =IF(P$15>teams,"",COUNTIFS($B:$B,P$16,$C:$C,TEXT($J30,"00"))) -> 2 | Q30: =IF(Q$15>teams,"",COUNTIFS($B:$B,Q$16,$C:$C,TEXT($J30,"00"))) -> 1 | R30: =IF(R$15>teams,"",COUNTIFS($B:$B,R$16,$C:$C,TEXT($J30,"00"))) -> 2 | S30: =IF(S$15>teams,"",COUNTIFS($B:$B,S$16,$C:$C,TEXT($J30,"00"))) -> 2 | T30: =IF(T$15>teams,"",COUNTIFS($B:$B,T$16,$C:$C,TEXT($J30,"00"))) -> 1 | U30: =IF(U$15>teams,"",COUNTIFS($B:$B,U$16,$C:$C,TEXT($J30,"00"))) -> 1 | ... AM30: =IF(AM$15>teams,"",COUNTIFS($B:$B,AM$16,$C:$C,TEXT($J30,"00")))
A31: 1 | B31: E | C31: 04 | D31: D | E31: 04 | F31: =IF(E31<C31,B31&"."&C31,IF(C31<E31,D31&"."&E31,"")) | G31: =IF(E31>C31,B31&"."&C31,IF(C31>E31,D31&"."&E31,"")) | H31: FALSE | I31: =OR(MAX(OFFSET($N31,0,0,1,teams))>$M31,MIN(OFFSET($N31,0,0,1,teams))<$L31) -> FALSE | J31: 5 | K31: board white | L31: =L30 -> 1 | M31: =M30 -> 2 | N31: =IF(N$15>teams,"",COUNTIFS($B:$B,N$16,$C:$C,TEXT($J31,"00"))) -> 1 | O31: =IF(O$15>teams,"",COUNTIFS($B:$B,O$16,$C:$C,TEXT($J31,"00"))) -> 2 | P31: =IF(P$15>teams,"",COUNTIFS($B:$B,P$16,$C:$C,TEXT($J31,"00"))) -> 1 | Q31: =IF(Q$15>teams,"",COUNTIFS($B:$B,Q$16,$C:$C,TEXT($J31,"00"))) -> 1 | R31: =IF(R$15>teams,"",COUNTIFS($B:$B,R$16,$C:$C,TEXT($J31,"00"))) -> 1 | S31: =IF(S$15>teams,"",COUNTIFS($B:$B,S$16,$C:$C,TEXT($J31,"00"))) -> 2 | T31: =IF(T$15>teams,"",COUNTIFS($B:$B,T$16,$C:$C,TEXT($J31,"00"))) -> 2 | U31: =IF(U$15>teams,"",COUNTIFS($B:$B,U$16,$C:$C,TEXT($J31,"00"))) -> 2 | ... AM31: =IF(AM$15>teams,"",COUNTIFS($B:$B,AM$16,$C:$C,TEXT($J31,"00")))
A32: 1 | B32: F | C32: 04 | D32: A | E32: 04 | F32: =IF(E32<C32,B32&"."&C32,IF(C32<E32,D32&"."&E32,"")) | G32: =IF(E32>C32,B32&"."&C32,IF(C32>E32,D32&"."&E32,"")) | H32: FALSE | I32: =OR(MAX(OFFSET($N32,0,0,1,teams))>$M32,MIN(OFFSET($N32,0,0,1,teams))<$L32) -> FALSE | J32: 6 | K32: board white | L32: =L31 -> 1 | M32: =M31 -> 2 | N32: =IF(N$15>teams,"",COUNTIFS($B:$B,N$16,$C:$C,TEXT($J32,"00"))) -> 2 | O32: =IF(O$15>teams,"",COUNTIFS($B:$B,O$16,$C:$C,TEXT($J32,"00"))) -> 2 | P32: =IF(P$15>teams,"",COUNTIFS($B:$B,P$16,$C:$C,TEXT($J32,"00"))) -> 1 | Q32: =IF(Q$15>teams,"",COUNTIFS($B:$B,Q$16,$C:$C,TEXT($J32,"00"))) -> 2 | R32: =IF(R$15>teams,"",COUNTIFS($B:$B,R$16,$C:$C,TEXT($J32,"00"))) -> 1 | S32: =IF(S$15>teams,"",COUNTIFS($B:$B,S$16,$C:$C,TEXT($J32,"00"))) -> 1 | T32: =IF(T$15>teams,"",COUNTIFS($B:$B,T$16,$C:$C,TEXT($J32,"00"))) -> 2 | U32: =IF(U$15>teams,"",COUNTIFS($B:$B,U$16,$C:$C,TEXT($J32,"00"))) -> 2 | ... AM32: =IF(AM$15>teams,"",COUNTIFS($B:$B,AM$16,$C:$C,TEXT($J32,"00")))
A33: 1 | B33: K | C33: 04 | D33: H | E33: 04 | F33: =IF(E33<C33,B33&"."&C33,IF(C33<E33,D33&"."&E33,"")) | G33: =IF(E33>C33,B33&"."&C33,IF(C33>E33,D33&"."&E33,"")) | H33: FALSE | I33: =OR(MAX(OFFSET($N33,0,0,1,teams))>$M33,MIN(OFFSET($N33,0,0,1,teams))<$L33) -> FALSE | J33: 7 | K33: board white | L33: =L32 -> 1 | M33: =M32 -> 2 | N33: =IF(N$15>teams,"",COUNTIFS($B:$B,N$16,$C:$C,TEXT($J33,"00"))) -> 1 | O33: =IF(O$15>teams,"",COUNTIFS($B:$B,O$16,$C:$C,TEXT($J33,"00"))) -> 1 | P33: =IF(P$15>teams,"",COUNTIFS($B:$B,P$16,$C:$C,TEXT($J33,"00"))) -> 1 | Q33: =IF(Q$15>teams,"",COUNTIFS($B:$B,Q$16,$C:$C,TEXT($J33,"00"))) -> 2 | R33: =IF(R$15>teams,"",COUNTIFS($B:$B,R$16,$C:$C,TEXT($J33,"00"))) -> 1 | S33: =IF(S$15>teams,"",COUNTIFS($B:$B,S$16,$C:$C,TEXT($J33,"00"))) -> 2 | T33: =IF(T$15>teams,"",COUNTIFS($B:$B,T$16,$C:$C,TEXT($J33,"00"))) -> 2 | U33: =IF(U$15>teams,"",COUNTIFS($B:$B,U$16,$C:$C,TEXT($J33,"00"))) -> 2 | ... AM33: =IF(AM$15>teams,"",COUNTIFS($B:$B,AM$16,$C:$C,TEXT($J33,"00")))
A34: 1 | B34: L | C34: 04 | D34: J | E34: 04 | F34: =IF(E34<C34,B34&"."&C34,IF(C34<E34,D34&"."&E34,"")) | G34: =IF(E34>C34,B34&"."&C34,IF(C34>E34,D34&"."&E34,"")) | H34: FALSE | I34: =OR(MAX(OFFSET($N34,0,0,1,teams))>$M34,MIN(OFFSET($N34,0,0,1,teams))<$L34) -> FALSE | J34: 8 | K34: board white | L34: =L33 -> 1 | M34: =M33 -> 2 | N34: =IF(N$15>teams,"",COUNTIFS($B:$B,N$16,$C:$C,TEXT($J34,"00"))) -> 2 | O34: =IF(O$15>teams,"",COUNTIFS($B:$B,O$16,$C:$C,TEXT($J34,"00"))) -> 1 | P34: =IF(P$15>teams,"",COUNTIFS($B:$B,P$16,$C:$C,TEXT($J34,"00"))) -> 2 | Q34: =IF(Q$15>teams,"",COUNTIFS($B:$B,Q$16,$C:$C,TEXT($J34,"00"))) -> 1 | R34: =IF(R$15>teams,"",COUNTIFS($B:$B,R$16,$C:$C,TEXT($J34,"00"))) -> 1 | S34: =IF(S$15>teams,"",COUNTIFS($B:$B,S$16,$C:$C,TEXT($J34,"00"))) -> 1 | T34: =IF(T$15>teams,"",COUNTIFS($B:$B,T$16,$C:$C,TEXT($J34,"00"))) -> 2 | U34: =IF(U$15>teams,"",COUNTIFS($B:$B,U$16,$C:$C,TEXT($J34,"00"))) -> 1 | ... AM34: =IF(AM$15>teams,"",COUNTIFS($B:$B,AM$16,$C:$C,TEXT($J34,"00")))
