Workbook
Name gamesPerRound: Analysis11!$J$9
Name gamesPerRound: Analysis12!$J$9
Name players: Analysis11!$J$7
Name players: Analysis12!$J$7
Name rounds: Analysis11!$J$8
Name rounds: Analysis12!$J$8
Name teams: Analysis11!$J$6
Name teams: Analysis12!$J$6
Name teamsList: Setup!$C$1:$C$26

Sheet Entries
A1: Valid? | B1: =IF(OR(Analysis11!I10,Analysis12!I10),"Invalid","Valid") -> Valid | C1: for Reference
B2: ="11t: "&Analysis11!K1&"; 12t: "&Analysis12!K1 -> 11t: OK; 12t: OK
A3: Timestamp | B3: 07/12/2023 20:57:32 | C3: Check
A4: Team ID | B4: 2311 | C4: Calculated Q:
A5: Q_6t_4p | B5: 20.27 | C5: 20.27
A6: Q_total | B6: 0.16 | C6: =C7+C173 -> 0.16
A7: Q_11t_10p | B7: 0.09 | C7: =ROUND(Analysis11!$M$10,2) -> 0.09
A8: 1 | B8: 1,K.01,A.01
A9: 2 | B9: 1,H.01,I.01
A10: 3 | B10: 1,J.01,F.01
A11: 4 | B11: 1,E.01,D.01
A12: 5 | B12: 1,C.01,G.01
A13: 6 | B13: 1,A.02,B.01
A14: 7 | B14: 1,E.02,J.02
A15: 8 | B15: 1,G.02,F.02
A16: 9 | B16: 1,D.02,I.02
A17: 10 | B17: 1,B.02,H.02
A18: 11 | B18: 1,K.02,C.02
A19: 12 | B19: 1,A.03,F.03
... A172: 165 | B172: 3,E.10,K.10
A173: Q_12t_10p | B173: 0.07 | C173: =ROUND(Analysis12!$M$10,2) -> 0.07
A174: 1 | B174: 1,A.01,D.01
A175: 2 | B175: 1,E.01,B.01
A176: 3 | B176: 1,F.01,G.01
A177: 4 | B177: 1,H.01,L.01
A178: 5 | B178: 1,J.01,I.01
A179: 6 | B179: 1,K.01,C.01
A180: 7 | B180: 1,B.02,J.02
A181: 8 | B181: 1,C.02,E.02
A182: 9 | B182: 1,D.02,F.02
A183: 10 | B183: 1,G.02,A.02
A184: 11 | B184: 1,I.02,K.02
A185: 12 | B185: 1,L.02,H.02
... A353: 180 | B353: 3,D.10,K.10

Sheet Pairings11
D1: 11 | E1: teams
D2: {=INDIRECT("Analysis"&D1&"!players")} -> 10 | E2: players per team
D3: {=INDIRECT("Analysis"&D1&"!rounds")} -> 3 | E3: rounds
D4: =D1*D2/2 -> 55 | E4: games per round
A5: Ref | B5: Round | C5: White | D5: Black | E5: White Copy for TeamSheets
A6: 0 | B6: {=_xlfn.TEXTSPLIT(Entries!$B8,",")} -> 1 | C6: K.01 | D6: A.01 | E6: =C6 -> K.01
A7: 1 | B7: {=_xlfn.TEXTSPLIT(Entries!$B9,",")} -> 1 | C7: H.01 | D7: I.01 | E7: =C7 -> H.01
A8: 2 | B8: {=_xlfn.TEXTSPLIT(Entries!$B10,",")} -> 1 | C8: J.01 | D8: F.01 | E8: =C8 -> J.01
A9: 3 | B9: {=_xlfn.TEXTSPLIT(Entries!$B11,",")} -> 1 | C9: E.01 | D9: D.01 | E9: =C9 -> E.01
A10: 4 | B10: {=_xlfn.TEXTSPLIT(Entries!$B12,",")} -> 1 | C10: C.01 | D10: G.01 | E10: =C10 -> C.01
A11: 5 | B11: {=_xlfn.TEXTSPLIT(Entries!$B13,",")} -> 1 | C11: A.02 | D11: B.01 | E11: =C11 -> A.02
A12: 6 | B12: {=_xlfn.TEXTSPLIT(Entries!$B14,",")} -> 1 | C12: E.02 | D12: J.02 | E12: =C12 -> E.02
A13: 7 | B13: {=_xlfn.TEXTSPLIT(Entries!$B15,",")} -> 1 | C13: G.02 | D13: F.02 | E13: =C13 -> G.02
A14: 8 | B14: {=_xlfn.TEXTSPLIT(Entries!$B16,",")} -> 1 | C14: D.02 | D14: I.02 | E14: =C14 -> D.02
A15: 9 | B15: {=_xlfn.TEXTSPLIT(Entries!$B17,",")} -> 1 | C15: B.02 | D15: H.02 | E15: =C15 -> B.02
A16: 10 | B16: {=_xlfn.TEXTSPLIT(Entries!$B18,",")} -> 1 | C16: K.02 | D16: C.02 | E16: =C16 -> K.02
A17: 11 | B17: {=_xlfn.TEXTSPLIT(Entries!$B19,",")} -> 1 | C17: A.03 | D17: F.03 | E17: =C17 -> A.03
... A170: 164 | B170: {=_xlfn.TEXTSPLIT(Entries!$B172,",")} -> 3 | C170: E.10 | D170: K.10 | E170: =C170 -> E.10
A171: 165 | B171: =IF(INT(A171/$D$4)<$D$3,1+INT(A171/$D$4),"")
A172: 166 | B172: =IF(INT(A172/$D$4)<$D$3,1+INT(A172/$D$4),"")
A173: 167 | B173: =IF(INT(A173/$D$4)<$D$3,1+INT(A173/$D$4),"")
A174: 168 | B174: =IF(INT(A174/$D$4)<$D$3,1+INT(A174/$D$4),"")
A175: 169 | B175: =IF(INT(A175/$D$4)<$D$3,1+INT(A175/$D$4),"")
A176: 170 | B176: =IF(INT(A176/$D$4)<$D$3,1+INT(A176/$D$4),"")
A177: 171 | B177: =IF(INT(A177/$D$4)<$D$3,1+INT(A177/$D$4),"")
A178: 172 | B178: =IF(INT(A178/$D$4)<$D$3,1+INT(A178/$D$4),"")
A179: 173 | B179: =IF(INT(A179/$D$4)<$D$3,1+INT(A179/$D$4),"")
A180: 174 | B180: =IF(INT(A180/$D$4)<$D$3,1+INT(A180/$D$4),"")
A181: 175 | B181: =IF(INT(A181/$D$4)<$D$3,1+INT(A181/$D$4),"")
A182: 176 | B182: =IF(INT(A182/$D$4)<$D$3,1+INT(A182/$D$4),"")
... A306: 300 | B306: =IF(INT(A306/$D$4)<$D$3,1+INT(A306/$D$4),"")
A307: =A306+1 -> 301 | B307: =IF(INT(A307/$D$4)<$D$3,1+INT(A307/$D$4),"")
A308: =A307+1 -> 302 | B308: =IF(INT(A308/$D$4)<$D$3,1+INT(A308/$D$4),"")
A309: =A308+1 -> 303 | B309: =IF(INT(A309/$D$4)<$D$3,1+INT(A309/$D$4),"")
A310: =A309+1 -> 304 | B310: =IF(INT(A310/$D$4)<$D$3,1+INT(A310/$D$4),"")
A311: =A310+1 -> 305 | B311: =IF(INT(A311/$D$4)<$D$3,1+INT(A311/$D$4),"")
A312: =A311+1 -> 306 | B312: =IF(INT(A312/$D$4)<$D$3,1+INT(A312/$D$4),"")
A313: =A312+1 -> 307 | B313: =IF(INT(A313/$D$4)<$D$3,1+INT(A313/$D$4),"")
A314: =A313+1 -> 308 | B314: =IF(INT(A314/$D$4)<$D$3,1+INT(A314/$D$4),"")
A315: =A314+1 -> 309 | B315: =IF(INT(A315/$D$4)<$D$3,1+INT(A315/$D$4),"")
...

Sheet Analysis11
G1: Repeated opposing teams | H1: =I39 -> FALSE | K1: =_xlfn.ARRAYTOTEXT(_xlfn._xlws.FILTER(G1:G9,H1:H9,"OK"),0) -> OK
G2: Play team-mate | H2: =MAX(OFFSET($N$78,0,0,players,1))>$M$78 -> FALSE
G3: Opposing team distrib violation | H3: =OR(OFFSET($I$52,0,0,teams)) -> FALSE
G4: Repeated up-floats | H4: {=COUNTA(_xlfn._xlws.FILTER(OFFSET($F$11,0,0,rounds*gamesPerRound,1),LEN(OFFSET($F$11,0,0,rounds*gamesPerRound,1))>0))<>COUNTA(_xlfn.UNIQUE(_xlfn._xlws.FILTER(OFFSET($F$11,0,0,rounds*gamesPerRound,1),LEN(OFFSET($F$11,0,0,rounds*gamesPerRound,1))>0)))} -> FALSE
G5: Repeated down-floats | H5: {=COUNTA(_xlfn._xlws.FILTER(OFFSET($G$11,0,0,rounds*gamesPerRound,1),LEN(OFFSET($G$11,0,0,rounds*gamesPerRound,1))>0))<>COUNTA(_xlfn.UNIQUE(_xlfn._xlws.FILTER(OFFSET($G$11,0,0,rounds*gamesPerRound,1),LEN(OFFSET($G$11,0,0,rounds*gamesPerRound,1))>0)))} -> FALSE
G6: Board colours violation | H6: =OR(OFFSET($I$27,0,0,players+1)) -> FALSE | J6: 11 | K6: teams
G7: Float number violation | H7: =OR(I17:I18) -> FALSE | J7: 10 | K7: players per team
G8: Float balance violation | H8: =I19 -> FALSE | J8: 3 | K8: rounds
G9: Float colour violation | H9: =OR(_xlfn.ANCHORARRAY(H11)) -> FALSE | I9: violations? | J9: =J6*J7/2 -> 55 | K9: games per round
A10: Round | B10: White | C10: H | D10: Black | E10: H | F10: Upfloat | G10: Downfloat | I10: =OR(H1:H9) -> FALSE | J10: Q | K10: total | M10: =SUM(M11:M14) -> 0.090909091 | AN10: All upfloats | AO10: All downfloats | AP10: teams up | AQ10: teams down
A11: {=Pairings11!B6:B473} -> 1 | B11: {=LEFT(TRIM(Pairings11!C6:C473),1)} -> K | C11: {=RIGHT(TRIM(Pairings11!C6:C473),2)} -> 01 | D11: {=LEFT(TRIM(Pairings11!D6:D473),1)} -> A | E11: {=RIGHT(TRIM(Pairings11!D6:D473),2)} -> 01 | F11: =IF(E11<C11,B11&"."&C11,IF(C11<E11,D11&"."&E11,"")) | G11: =IF(E11>C11,B11&"."&C11,IF(C11>E11,D11&"."&E11,"")) | H11: {=C11:C478<E11:E478} -> FALSE | J11: QX | K11: round colours | M11: =SUM(OFFSET(M11,0,1,1,teams)) -> 0 | N11: =IF(N$15>teams,"",SUM(N23:N25)) -> 0 | O11: =IF(O$15>teams,"",SUM(O23:O25)) -> 0 | P11: =IF(P$15>teams,"",SUM(P23:P25)) -> 0 | Q11: =IF(Q$15>teams,"",SUM(Q23:Q25)) -> 0 | R11: =IF(R$15>teams,"",SUM(R23:R25)) -> 0 | S11: =IF(S$15>teams,"",SUM(S23:S25)) -> 0 | T11: =IF(T$15>teams,"",SUM(T23:T25)) -> 0 | U11: =IF(U$15>teams,"",SUM(U23:U25)) -> 0 | ... AM11: =IF(AM$15>teams,"",SUM(AM23:AM25)) | AN11: {=_xlfn._xlws.FILTER(F11:F478,LEN(F11:F478)>0)} -> A.02 | AO11: {=_xlfn._xlws.FILTER(G11:G478,LEN(G11:G478)>0)} -> B.01 | AP11: {=LEFT(_xlfn.ANCHORARRAY(AN11),1)} -> A | AQ11: {=LEFT(_xlfn.ANCHORARRAY(AO11),1)} -> B
A12: 1 | B12: H | C12: 01 | D12: I | E12: 01 | F12: =IF(E12<C12,B12&"."&C12,IF(C12<E12,D12&"."&E12,"")) | G12: =IF(E12>C12,B12&"."&C12,IF(C12>E12,D12&"."&E12,"")) | H12: FALSE | J12: QY | K12: total floats | M12: =SUM(OFFSET(M12,0,1,1,teams)) -> 0 | N12: =IF(N$15>teams,"",ABS(N19)) -> 0 | O12: =IF(O$15>teams,"",ABS(O19)) -> 0 | P12: =IF(P$15>teams,"",ABS(P19)) -> 0 | Q12: =IF(Q$15>teams,"",ABS(Q19)) -> 0 | R12: =IF(R$15>teams,"",ABS(R19)) -> 0 | S12: =IF(S$15>teams,"",ABS(S19)) -> 0 | T12: =IF(T$15>teams,"",ABS(T19)) -> 0 | U12: =IF(U$15>teams,"",ABS(U19)) -> 0 | ... AM12: =IF(AM$15>teams,"",ABS(AM19)) | AN12: B.04 | AO12: H.03 | AP12: B | AQ12: H
A13: 1 | B13: J | C13: 01 | D13: F | E13: 01 | F13: =IF(E13<C13,B13&"."&C13,IF(C13<E13,D13&"."&E13,"")) | G13: =IF(E13>C13,B13&"."&C13,IF(C13>E13,D13&"."&E13,"")) | H13: FALSE | J13: QZ | K13: board whites | M13: {=SUM(ABS(OFFSET(M13,0,1,1,teams)))} -> 0.090909091 | N13: =IF(N$15>teams,"",1-(4/(rounds*players*(players+1))*SUMPRODUCT(OFFSET($J$27,0,0,players,1),OFFSET(N$27,0,0,players,1)))) -> -0.0060606061 | O13: =IF(O$15>teams,"",1-(4/(rounds*players*(players+1))*SUMPRODUCT(OFFSET($J$27,0,0,players,1),OFFSET(O$27,0,0,players,1)))) -> -0.0060606061 | P13: =IF(P$15>teams,"",1-(4/(rounds*players*(players+1))*SUMPRODUCT(OFFSET($J$27,0,0,players,1),OFFSET(P$27,0,0,players,1)))) -> -0.0060606061 | Q13: =IF(Q$15>teams,"",1-(4/(rounds*players*(players+1))*SUMPRODUCT(OFFSET($J$27,0,0,players,1),OFFSET(Q$27,0,0,players,1)))) -> -0.0060606061 | R13: =IF(R$15>teams,"",1-(4/(rounds*players*(players+1))*SUMPRODUCT(OFFSET($J$27,0,0,players,1),OFFSET(R$27,0,0,players,1)))) -> -0.018181818 | S13: =IF(S$15>teams,"",1-(4/(rounds*players*(players+1))*SUMPRODUCT(OFFSET($J$27,0,0,players,1),OFFSET(S$27,0,0,players,1)))) -> -0.0060606061 | T13: =IF(T$15>teams,"",1-(4/(rounds*players*(players+1))*SUMPRODUCT(OFFSET($J$27,0,0,players,1),OFFSET(T$27,0,0,players,1)))) -> -0.0060606061 | U13: =IF(U$15>teams,"",1-(4/(rounds*players*(players+1))*SUMPRODUCT(OFFSET($J$27,0,0,players,1),OFFSET(U$27,0,0,players,1)))) -> -0.0060606061 | ... AM13: =IF(AM$15>teams,"",1-(4/(rounds*players*(players+1))*SUMPRODUCT(OFFSET($J$27,0,0,players,1),OFFSET(AM$27,0,0,players,1)))) | AN13: H.06 | AO13: A.05 | AP13: H | AQ13: A
A14: 1 | B14: E | C14: 01 | D14: D | E14: 01 | F14: =IF(E14<C14,B14&"."&C14,IF(C14<E14,D14&"."&E14,"")) | G14: =IF(E14>C14,B14&"."&C14,IF(C14>E14,D14&"."&E14,"")) | H14: FALSE | AN14: C.08 | AO14: E.07 | AP14: C | AQ14: E
A15: 1 | B15: C | C15: 01 | D15: G | E15: 01 | F15: =IF(E15<C15,B15&"."&C15,IF(C15<E15,D15&"."&E15,"")) | G15: =IF(E15>C15,B15&"."&C15,IF(C15>E15,D15&"."&E15,"")) | H15: FALSE | K15: =teams -> 11 | L15: permitted | N15: 1 | O15: 2 | P15: 3 | Q15: 4 | R15: 5 | S15: 6 | T15: 7 | U15: 8 | V15: 9 | W15: 10 | X15: 11 | Y15: 12 | Z15: 13 | AA15: 14 | AB15: 15 | AC15: 16 | AD15: 17 | AE15: 18 | AF15: 19 | AG15: 20 | AH15: 21 | AI15: 22 | AJ15: 23 | AK15: 24 | AL15: 25 | AM15: 26 | AN15: F.10 | AO15: C.09 | AP15: F | AQ15: C
A16: 1 | B16: A | C16: 02 | D16: B | E16: 01 | F16: =IF(E16<C16,B16&"."&C16,IF(C16<E16,D16&"."&E16,"")) -> A.02 | G16: =IF(E16>C16,B16&"."&C16,IF(C16>E16,D16&"."&E16,"")) -> B.01 | H16: FALSE | I16: violation | K16: teams | L16: min | M16: max | N16: =IF(N$15>teams,"",INDEX(teamsList,Analysis11!N$15)) -> A | O16: =IF(O$15>teams,"",INDEX(teamsList,Analysis11!O$15)) -> B | P16: =IF(P$15>teams,"",INDEX(teamsList,Analysis11!P$15)) -> C | Q16: =IF(Q$15>teams,"",INDEX(teamsList,Analysis11!Q$15)) -> D | R16: =IF(R$15>teams,"",INDEX(teamsList,Analysis11!R$15)) -> E | S16: =IF(S$15>teams,"",INDEX(teamsList,Analysis11!S$15)) -> F | T16: =IF(T$15>teams,"",INDEX(teamsList,Analysis11!T$15)) -> G | U16: =IF(U$15>teams,"",INDEX(teamsList,Analysis11!U$15)) -> H | ... AM16: =IF(AM$15>teams,"",INDEX(teamsList,Analysis11!AM$15)) | AN16: C.02 | AO16: D.01 | AP16: C | AQ16: D
A17: 1 | B17: E | C17: 02 | D17: J | E17: 02 | F17: =IF(E17<C17,B17&"."&C17,IF(C17<E17,D17&"."&E17,"")) | G17: =IF(E17>C17,B17&"."&C17,IF(C17>E17,D17&"."&E17,"")) | H17: FALSE | I17: =OR(MAX(OFFSET($N17,0,0,1,teams))>$M17,MIN(OFFSET($N17,0,0,1,teams))<$L17) -> FALSE | K17: upfloats | L17: 0 | M17: =MOD(teams,2)*(INT(rounds*(players/2)/teams)+2) -> 3 | N17: =IF(N$15>teams,"",COUNTIF(_xlfn.ANCHORARRAY($AP$11),N$16)) -> 2 | O17: =IF(O$15>teams,"",COUNTIF(_xlfn.ANCHORARRAY($AP$11),O$16)) -> 2 | P17: =IF(P$15>teams,"",COUNTIF(_xlfn.ANCHORARRAY($AP$11),P$16)) -> 2 | Q17: =IF(Q$15>teams,"",COUNTIF(_xlfn.ANCHORARRAY($AP$11),Q$16)) -> 2 | R17: =IF(R$15>teams,"",COUNTIF(_xlfn.ANCHORARRAY($AP$11),R$16)) -> 1 | S17: =IF(S$15>teams,"",COUNTIF(_xlfn.ANCHORARRAY($AP$11),S$16)) -> 1 | T17: =IF(T$15>teams,"",COUNTIF(_xlfn.ANCHORARRAY($AP$11),T$16)) -> 1 | U17: =IF(U$15>teams,"",COUNTIF(_xlfn.ANCHORARRAY($AP$11),U$16)) -> 1 | ... AM17: =IF(AM$15>teams,"",COUNTIF(_xlfn.ANCHORARRAY($AP$11),AM$16)) | AN17: D.04 | AO17: C.03 | AP17: D | AQ17: C
A18: 1 | B18: G | C18: 02 | D18: F | E18: 02 | F18: =IF(E18<C18,B18&"."&C18,IF(C18<E18,D18&"."&E18,"")) | G18: =IF(E18>C18,B18&"."&C18,IF(C18>E18,D18&"."&E18,"")) | H18: FALSE | I18: =OR(MAX(OFFSET($N18,0,0,1,teams))>$M18,MIN(OFFSET($N18,0,0,1,teams))<$L18) -> FALSE | K18: downfloats | L18: 0 | M18: =MOD(teams,2)*(INT(rounds*(players/2)/teams)+2) -> 3 | N18: =IF(N$15>teams,"",COUNTIF(_xlfn.ANCHORARRAY($AQ$11),N$16)) -> 2 | O18: =IF(O$15>teams,"",COUNTIF(_xlfn.ANCHORARRAY($AQ$11),O$16)) -> 2 | P18: =IF(P$15>teams,"",COUNTIF(_xlfn.ANCHORARRAY($AQ$11),P$16)) -> 2 | Q18: =IF(Q$15>teams,"",COUNTIF(_xlfn.ANCHORARRAY($AQ$11),Q$16)) -> 2 | R18: =IF(R$15>teams,"",COUNTIF(_xlfn.ANCHORARRAY($AQ$11),R$16)) -> 1 | S18: =IF(S$15>teams,"",COUNTIF(_xlfn.ANCHORARRAY($AQ$11),S$16)) -> 1 | T18: =IF(T$15>teams,"",COUNTIF(_xlfn.ANCHORARRAY($AQ$11),T$16)) -> 1 | U18: =IF(U$15>teams,"",COUNTIF(_xlfn.ANCHORARRAY($AQ$11),U$16)) -> 1 | ... AM18: =IF(AM$15>teams,"",COUNTIF(_xlfn.ANCHORARRAY($AQ$11),AM$16)) | AN18: I.06 | AO18: J.05 | AP18: I | AQ18: J
A19: 1 | B19: D | C19: 02 | D19: I | E19: 02 | F19: =IF(E19<C19,B19&"."&C19,IF(C19<E19,D19&"."&E19,"")) | G19: =IF(E19>C19,B19&"."&C19,IF(C19>E19,D19&"."&E19,"")) | H19: FALSE | I19: =OR(MAX(OFFSET($N19,0,0,1,teams))>$M19,MIN(OFFSET($N19,0,0,1,teams))<$L19) -> FALSE | K19: balance | L19: -1 | M19: 1 | N19: =IF(N$15>teams,"",N17-N18) -> 0 | O19: =IF(O$15>teams,"",O17-O18) -> 0 | P19: =IF(P$15>teams,"",P17-P18) -> 0 | Q19: =IF(Q$15>teams,"",Q17-Q18) -> 0 | R19: =IF(R$15>teams,"",R17-R18) -> 0 | S19: =IF(S$15>teams,"",S17-S18) -> 0 | T19: =IF(T$15>teams,"",T17-T18) -> 0 | U19: =IF(U$15>teams,"",U17-U18) -> 0 | ... AM19: =IF(AM$15>teams,"",AM17-AM18) | AN19: J.08 | AO19: K.07 | AP19: J | AQ19: K
A20: 1 | B20: B | C20: 02 | D20: H | E20: 02 | F20: =IF(E20<C20,B20&"."&C20,IF(C20<E20,D20&"."&E20,"")) | G20: =IF(E20>C20,B20&"."&C20,IF(C20>E20,D20&"."&E20,"")) | H20: FALSE | J20: 1 | K20: r1 white | L20: =INT(players/2) -> 5 | M20: =L20+MOD(players,2) -> 5 | N20: =IF(N$15>teams,"",COUNTIFS($B:$B,N$16,$A:$A,$J20)) -> 5 | O20: =IF(O$15>teams,"",COUNTIFS($B:$B,O$16,$A:$A,$J20)) -> 5 | P20: =IF(P$15>teams,"",COUNTIFS($B:$B,P$16,$A:$A,$J20)) -> 5 | Q20: =IF(Q$15>teams,"",COUNTIFS($B:$B,Q$16,$A:$A,$J20)) -> 5 | R20: =IF(R$15>teams,"",COUNTIFS($B:$B,R$16,$A:$A,$J20)) -> 5 | S20: =IF(S$15>teams,"",COUNTIFS($B:$B,S$16,$A:$A,$J20)) -> 5 | T20: =IF(T$15>teams,"",COUNTIFS($B:$B,T$16,$A:$A,$J20)) -> 5 | U20: =IF(U$15>teams,"",COUNTIFS($B:$B,U$16,$A:$A,$J20)) -> 5 | ... AM20: =IF(AM$15>teams,"",COUNTIFS($B:$B,AM$16,$A:$A,$J20)) | AN20: K.10 | AO20: I.09 | AP20: K | AQ20: I
A21: 1 | B21: K | C21: 02 | D21: C | E21: 02 | F21: =IF(E21<C21,B21&"."&C21,IF(C21<E21,D21&"."&E21,"")) | G21: =IF(E21>C21,B21&"."&C21,IF(C21>E21,D21&"."&E21,"")) | H21: FALSE | J21: 2 | K21: r2 white | L21: =IF(rounds<$J21,"",L20) -> 5 | M21: =IF(rounds<$J21,"",M20) -> 5 | N21: =IF(N$15>teams,"",COUNTIFS($B:$B,N$16,$A:$A,$J21)) -> 5 | O21: =IF(O$15>teams,"",COUNTIFS($B:$B,O$16,$A:$A,$J21)) -> 5 | P21: =IF(P$15>teams,"",COUNTIFS($B:$B,P$16,$A:$A,$J21)) -> 5 | Q21: =IF(Q$15>teams,"",COUNTIFS($B:$B,Q$16,$A:$A,$J21)) -> 5 | R21: =IF(R$15>teams,"",COUNTIFS($B:$B,R$16,$A:$A,$J21)) -> 5 | S21: =IF(S$15>teams,"",COUNTIFS($B:$B,S$16,$A:$A,$J21)) -> 5 | T21: =IF(T$15>teams,"",COUNTIFS($B:$B,T$16,$A:$A,$J21)) -> 5 | U21: =IF(U$15>teams,"",COUNTIFS($B:$B,U$16,$A:$A,$J21)) -> 5 | ... AM21: =IF(AM$15>teams,"",COUNTIFS($B:$B,AM$16,$A:$A,$J21)) | AN21: B.02 | AO21: A.01 | AP21: B | AQ21: A
A22: 1 | B22: A | C22: 03 | D22: F | E22: 03 | F22: =IF(E22<C22,B22&"."&C22,IF(C22<E22,D22&"."&E22,"")) | G22: =IF(E22>C22,B22&"."&C22,IF(C22>E22,D22&"."&E22,"")) | H22: FALSE | J22: 3 | K22: r3 white | L22: =IF(rounds<$J22,"",L21) -> 5 | M22: =IF(rounds<$J22,"",M21) -> 5 | N22: =IF(N$15>teams,"",COUNTIFS($B:$B,N$16,$A:$A,$J22)) -> 5 | O22: =IF(O$15>teams,"",COUNTIFS($B:$B,O$16,$A:$A,$J22)) -> 5 | P22: =IF(P$15>teams,"",COUNTIFS($B:$B,P$16,$A:$A,$J22)) -> 5 | Q22: =IF(Q$15>teams,"",COUNTIFS($B:$B,Q$16,$A:$A,$J22)) -> 5 | R22: =IF(R$15>teams,"",COUNTIFS($B:$B,R$16,$A:$A,$J22)) -> 5 | S22: =IF(S$15>teams,"",COUNTIFS($B:$B,S$16,$A:$A,$J22)) -> 5 | T22: =IF(T$15>teams,"",COUNTIFS($B:$B,T$16,$A:$A,$J22)) -> 5 | U22: =IF(U$15>teams,"",COUNTIFS($B:$B,U$16,$A:$A,$J22)) -> 5 | ... AM22: =IF(AM$15>teams,"",COUNTIFS($B:$B,AM$16,$A:$A,$J22)) | AN22: A.04 | AO22: G.03 | AP22: A | AQ22: G
A23: 1 | B23: B | C23: 03 | D23: C | E23: 03 | F23: =IF(E23<C23,B23&"."&C23,IF(C23<E23,D23&"."&E23,"")) | G23: =IF(E23>C23,B23&"."&C23,IF(C23>E23,D23&"."&E23,"")) | H23: FALSE | J23: 1 | K23: r1 col diff | N23: =IF(N$15>teams,"",ABS(N20-(players-N20))) -> 0 | O23: =IF(O$15>teams,"",ABS(O20-(players-O20))) -> 0 | P23: =IF(P$15>teams,"",ABS(P20-(players-P20))) -> 0 | Q23: =IF(Q$15>teams,"",ABS(Q20-(players-Q20))) -> 0 | R23: =IF(R$15>teams,"",ABS(R20-(players-R20))) -> 0 | S23: =IF(S$15>teams,"",ABS(S20-(players-S20))) -> 0 | T23: =IF(T$15>teams,"",ABS(T20-(players-T20))) -> 0 | U23: =IF(U$15>teams,"",ABS(U20-(players-U20))) -> 0 | ... AM23: =IF(AM$15>teams,"",ABS(AM20-(players-AM20))) | AN23: G.06 | AO23: B.05 | AP23: G | AQ23: B
A24: 1 | B24: D | C24: 03 | D24: G | E24: 03 | F24: =IF(E24<C24,B24&"."&C24,IF(C24<E24,D24&"."&E24,"")) | G24: =IF(E24>C24,B24&"."&C24,IF(C24>E24,D24&"."&E24,"")) | H24: FALSE | J24: 2 | K24: r2 col diff | N24: =IF(N$15>teams,"",ABS(N21-(players-N21))) -> 0 | O24: =IF(O$15>teams,"",ABS(O21-(players-O21))) -> 0 | P24: =IF(P$15>teams,"",ABS(P21-(players-P21))) -> 0 | Q24: =IF(Q$15>teams,"",ABS(Q21-(players-Q21))) -> 0 | R24: =IF(R$15>teams,"",ABS(R21-(players-R21))) -> 0 | S24: =IF(S$15>teams,"",ABS(S21-(players-S21))) -> 0 | T24: =IF(T$15>teams,"",ABS(T21-(players-T21))) -> 0 | U24: =IF(U$15>teams,"",ABS(U21-(players-U21))) -> 0 | ... AM24: =IF(AM$15>teams,"",ABS(AM21-(players-AM21))) | AN24: E.08 | AO24: D.07 | AP24: E | AQ24: D
A25: 1 | B25: I | C25: 03 | D25: J | E25: 03 | F25: =IF(E25<C25,B25&"."&C25,IF(C25<E25,D25&"."&E25,"")) | G25: =IF(E25>C25,B25&"."&C25,IF(C25>E25,D25&"."&E25,"")) | H25: FALSE | J25: 3 | K25: r3 col diff | N25: =IF(N$15>teams,"",ABS(N22-(players-N22))) -> 0 | O25: =IF(O$15>teams,"",ABS(O22-(players-O22))) -> 0 | P25: =IF(P$15>teams,"",ABS(P22-(players-P22))) -> 0 | Q25: =IF(Q$15>teams,"",ABS(Q22-(players-Q22))) -> 0 | R25: =IF(R$15>teams,"",ABS(R22-(players-R22))) -> 0 | S25: =IF(S$15>teams,"",ABS(S22-(players-S22))) -> 0 | T25: =IF(T$15>teams,"",ABS(T22-(players-T22))) -> 0 | U25: =IF(U$15>teams,"",ABS(U22-(players-U22))) -> 0 | ... AM25: =IF(AM$15>teams,"",ABS(AM22-(players-AM22))) | AN25: D.10 | AO25: F.09 | AP25: D | AQ25: F
A26: 1 | B26: E | C26: 03 | D26: K | E26: 03 | F26: =IF(E26<C26,B26&"."&C26,IF(C26<E26,D26&"."&E26,"")) | G26: =IF(E26>C26,B26&"."&C26,IF(C26>E26,D26&"."&E26,"")) | H26: FALSE
A27: 1 | B27: B | C27: 04 | D27: H | E27: 03 | F27: =IF(E27<C27,B27&"."&C27,IF(C27<E27,D27&"."&E27,"")) -> B.04 | G27: =IF(E27>C27,B27&"."&C27,IF(C27>E27,D27&"."&E27,"")) -> H.03 | H27: FALSE | I27: =OR(MAX(OFFSET($N27,0,0,1,teams))>$M27,MIN(OFFSET($N27,0,0,1,teams))<$L27) -> FALSE | J27: 1 | K27: board white | L27: =INT(rounds/2) -> 1 | M27: =L27+MOD(rounds,2) -> 2 | N27: =IF(N$15>teams,"",COUNTIFS($B:$B,N$16,$C:$C,TEXT($J27,"00"))) -> 1 | O27: =IF(O$15>teams,"",COUNTIFS($B:$B,O$16,$C:$C,TEXT($J27,"00"))) -> 1 | P27: =IF(P$15>teams,"",COUNTIFS($B:$B,P$16,$C:$C,TEXT($J27,"00"))) -> 1 | Q27: =IF(Q$15>teams,"",COUNTIFS($B:$B,Q$16,$C:$C,TEXT($J27,"00"))) -> 1 | R27: =IF(R$15>teams,"",COUNTIFS($B:$B,R$16,$C:$C,TEXT($J27,"00"))) -> 2 | S27: =IF(S$15>teams,"",COUNTIFS($B:$B,S$16,$C:$C,TEXT($J27,"00"))) -> 2 | T27: =IF(T$15>teams,"",COUNTIFS($B:$B,T$16,$C:$C,TEXT($J27,"00"))) -> 1 | U27: =IF(U$15>teams,"",COUNTIFS($B:$B,U$16,$C:$C,TEXT($J27,"00"))) -> 1 | ... AM27: =IF(AM$15>teams,"",COUNTIFS($B:$B,AM$16,$C:$C,TEXT($J27,"00")))
A28: 1 | B28: A | C28: 04 | D28: C | E28: 04 | F28: =IF(E28<C28,B28&"."&C28,IF(C28<E28,D28&"."&E28,"")) | G28: =IF(E28>C28,B28&"."&C28,IF(C28>E28,D28&"."&E28,"")) | H28: FALSE | I28: =OR(MAX(OFFSET($N28,0,0,1,teams))>$M28,MIN(OFFSET($N28,0,0,1,teams))<$L28) -> FALSE | J28: 2 | K28: board white | L28: =L27 -> 1 | M28: =M27 -> 2 | N28: =IF(N$15>teams,"",COUNTIFS($B:$B,N$16,$C:$C,TEXT($J28,"00"))) -> 2 | O28: =IF(O$15>teams,"",COUNTIFS($B:$B,O$16,$C:$C,TEXT($J28,"00"))) -> 2 | P28: =IF(P$15>teams,"",COUNTIFS($B:$B,P$16,$C:$C,TEXT($J28,"00"))) -> 2 | Q28: =IF(Q$15>teams,"",COUNTIFS($B:$B,Q$16,$C:$C,TEXT($J28,"00"))) -> 2 | R28: =IF(R$15>teams,"",COUNTIFS($B:$B,R$16,$C:$C,TEXT($J28,"00"))) -> 1 | S28: =IF(S$15>teams,"",COUNTIFS($B:$B,S$16,$C:$C,TEXT($J28,"00"))) -> 1 | T28: =IF(T$15>teams,"",COUNTIFS($B:$B,T$16,$C:$C,TEXT($J28,"00"))) -> 2 | U28: =IF(U$15>teams,"",COUNTIFS($B:$B,U$16,$C:$C,TEXT($J28,"00"))) -> 2 | ... AM28: =IF(AM$15>teams,"",COUNTIFS($B:$B,AM$16,$C:$C,TEXT($J28,"00")))
A29: 1 | B29: H | C29: 04 | D29: K | E29: 04 | F29: =IF(E29<C29,B29&"."&C29,IF(C29<E29,D29&"."&E29,"")) | G29: =IF(E29>C29,B29&"."&C29,IF(C29>E29,D29&"."&E29,"")) | H29: FALSE | I29: =OR(MAX(OFFSET($N29,0,0,1,teams))>$M29,MIN(OFFSET($N29,0,0,1,teams))<$L29) -> FALSE | J29: 3 | K29: board white | L29: =L28 -> 1 | M29: =M28 -> 2 | N29: =IF(N$15>teams,"",COUNTIFS($B:$B,N$16,$C:$C,TEXT($J29,"00"))) -> 2 | O29: =IF(O$15>teams,"",COUNTIFS($B:$B,O$16,$C:$C,TEXT($J29,"00"))) -> 2 | P29: =IF(P$15>teams,"",COUNTIFS($B:$B,P$16,$C:$C,TEXT($J29,"00"))) -> 1 | Q29: =IF(Q$15>teams,"",COUNTIFS($B:$B,Q$16,$C:$C,TEXT($J29,"00"))) -> 2 | R29: =IF(R$15>teams,"",COUNTIFS($B:$B,R$16,$C:$C,TEXT($J29,"00"))) -> 1 | S29: =IF(S$15>teams,"",COUNTIFS($B:$B,S$16,$C:$C,TEXT($J29,"00"))) -> 1 | T29: =IF(T$15>teams,"",COUNTIFS($B:$B,T$16,$C:$C,TEXT($J29,"00"))) -> 1 | U29: =IF(U$15>teams,"",COUNTIFS($B:$B,U$16,$C:$C,TEXT($J29,"00"))) -> 1 | ... AM29: =IF(AM$15>teams,"",COUNTIFS($B:$B,AM$16,$C:$C,TEXT($J29,"00")))
A30: 1 | B30: F | C30: 04 | D30: D | E30: 04 | F30: =IF(E30<C30,B30&"."&C30,IF(C30<E30,D30&"."&E30,"")) | G30: =IF(E30>C30,B30&"."&C30,IF(C30>E30,D30&"."&E30,"")) | H30: FALSE | I30: =OR(MAX(OFFSET($N30,0,0,1,teams))>$M30,MIN(OFFSET($N30,0,0,1,teams))<$L30) -> FALSE | J30: 4 | K30: board white | L30: =L29 -> 1 | M30: =M29 -> 2 | N30: =IF(N$15>teams,"",COUNTIFS($B:$B,N$16,$C:$C,TEXT($J30,"00"))) -> 2 | O30: =IF(O$15>teams,"",COUNTIFS($B:$B,O$16,$C:$C,TEXT($J30,"00"))) -> 2 | P30: =IF(P$15>teams,"",COUNTIFS($B:$B,P$16,$C:$C,TEXT($J30,"00"))) -> 1 | Q30: =IF(Q$15>teams,"",COUNTIFS($B:$B,Q$16,$C:$C,TEXT($J30,"00"))) -> 1 | R30: =IF(R$15>teams,"",COUNTIFS($B:$B,R$16,$C:$C,TEXT($J30,"00"))) -> 2 | S30: =IF(S$15>teams,"",COUNTIFS($B:$B,S$16,$C:$C,TEXT($J30,"00"))) -> 2 | T30: =IF(T$15>teams,"",COUNTIFS($B:$B,T$16,$C:$C,TEXT($J30,"00"))) -> 1 | U30: =IF(U$15>teams,"",COUNTIFS($B:$B,U$16,$C:$C,TEXT($J30,"00"))) -> 2 | ... AM30: =IF(AM$15>teams,"",COUNTIFS($B:$B,AM$16,$C:$C,TEXT($J30,"00")))
A31: 1 | B31: I | C31: 04 | D31: G | E31: 04 | F31: =IF(E31<C31,B31&"."&C31,IF(C31<E31,D31&"."&E31,"")) | G31: =IF(E31>C31,B31&"."&C31,IF(C31>E31,D31&"."&E31,"")) | H31: FALSE | I31: =OR(MAX(OFFSET($N31,0,0,1,teams))>$M31,MIN(OFFSET($N31,0,0,1,teams))<$L31) -> FALSE | J31: 5 | K31: board white | L31: =L30 -> 1 | M31: =M30 -> 2 | N31: =IF(N$15>teams,"",COUNTIFS($B:$B,N$16,$C:$C,TEXT($J31,"00"))) -> 1 | O31: =IF(O$15>teams,"",COUNTIFS($B:$B,O$16,$C:$C,TEXT($J31,"00"))) -> 1 | P31: =IF(P$15>teams,"",COUNTIFS($B:$B,P$16,$C:$C,TEXT($J31,"00"))) -> 2 | Q31: =IF(Q$15>teams,"",COUNTIFS($B:$B,Q$16,$C:$C,TEXT($J31,"00"))) -> 2 | R31: =IF(R$15>teams,"",COUNTIFS($B:$B,R$16,$C:$C,TEXT($J31,"00"))) -> 1 | S31: =IF(S$15>teams,"",COUNTIFS($B:$B,S$16,$C:$C,TEXT($J31,"00"))) -> 2 | T31: =IF(T$15>teams,"",COUNTIFS($B:$B,T$16,$C:$C,TEXT($J31,"00"))) -> 2 | U31: =IF(U$15>teams,"",COUNTIFS($B:$B,U$16,$C:$C,TEXT($J31,"00"))) -> 1 | ... AM31: =IF(AM$15>teams,"",COUNTIFS($B:$B,AM$16,$C:$C,TEXT($J31,"00")))
A32: 1 | B32: J | C32: 04 | D32: E | E32: 04 | F32: =IF(E32<C32,B32&"."&C32,IF(C32<E32,D32&"."&E32,"")) | G32: =IF(E32>C32,B32&"."&C32,IF(C32>E32,D32&"."&E32,"")) | H32: FALSE | I32: =OR(MAX(OFFSET($N32,0,0,1,teams))>$M32,MIN(OFFSET($N32,0,0,1,teams))<$L32) -> FALSE | J32: 6 | K32: board white | L32: =L31 -> 1 | M32: =M31 -> 2 | N32: =IF(N$15>teams,"",COUNTIFS($B:$B,N$16,$C:$C,TEXT($J32,"00"))) -> 1 | O32: =IF(O$15>teams,"",COUNTIFS($B:$B,O$16,$C:$C,TEXT($J32,"00"))) -> 1 | P32: =IF(P$15>teams,"",COUNTIFS($B:$B,P$16,$C:$C,TEXT($J32,"00"))) -> 2 | Q32: =IF(Q$15>teams,"",COUNTIFS($B:$B,Q$16,$C:$C,TEXT($J32,"00"))) -> 1 | R32: =IF(R$15>teams,"",COUNTIFS($B:$B,R$16,$C:$C,TEXT($J32,"00"))) -> 2 | S32: =IF(S$15>teams,"",COUNTIFS($B:$B,S$16,$C:$C,TEXT($J32,"00"))) -> 1 | T32: =IF(T$15>teams,"",COUNTIFS($B:$B,T$16,$C:$C,TEXT($J32,"00"))) -> 2 | U32: =IF(U$15>teams,"",COUNTIFS($B:$B,U$16,$C:$C,TEXT($J32,"00"))) -> 2 | ... AM32: =IF(AM$15>teams,"",COUNTIFS($B:$B,AM$16,$C:$C,TEXT($J32,"00")))
A33: 1 | B33: C | C33: 05 | D33: H | E33: 05 | F33: =IF(E33<C33,B33&"."&C33,IF(C33<E33,D33&"."&E33,"")) | G33: =IF(E33>C33,B33&"."&C33,IF(C33>E33,D33&"."&E33,"")) | H33: FALSE | I33: =OR(MAX(OFFSET($N33,0,0,1,teams))>$M33,MIN(OFFSET($N33,0,0,1,teams))<$L33) -> FALSE | J33: 7 | K33: board white | L33: =L32 -> 1 | M33: =M32 -> 2 | N33: =IF(N$15>teams,"",COUNTIFS($B:$B,N$16,$C:$C,TEXT($J33,"00"))) -> 1 | O33: =IF(O$15>teams,"",COUNTIFS($B:$B,O$16,$C:$C,TEXT($J33,"00"))) -> 1 | P33: =IF(P$15>teams,"",COUNTIFS($B:$B,P$16,$C:$C,TEXT($J33,"00"))) -> 2 | Q33: =IF(Q$15>teams,"",COUNTIFS($B:$B,Q$16,$C:$C,TEXT($J33,"00"))) -> 1 | R33: =IF(R$15>teams,"",COUNTIFS($B:$B,R$16,$C:$C,TEXT($J33,"00"))) -> 1 | S33: =IF(S$15>teams,"",COUNTIFS($B:$B,S$16,$C:$C,TEXT($J33,"00"))) -> 1 | T33: =IF(T$15>teams,"",COUNTIFS($B:$B,T$16,$C:$C,TEXT($J33,"00"))) -> 2 | U33: =IF(U$15>teams,"",COUNTIFS($B:$B,U$16,$C:$C,TEXT($J33,"00"))) -> 2 | ... AM33: =IF(AM$15>teams,"",COUNTIFS($B:$B,AM$16,$C:$C,TEXT($J33,"00")))
A34: 1 | B34: G | C34: 05 | D34: K | E34: 05 | F34: =IF(E34<C34,B34&"."&C34,IF(C34<E34,D34&"."&E34,"")) | G34: =IF(E34>C34,B34&"."&C34,IF(C34>E34,D34&"."&E34,"")) | H34: FALSE | I34: =OR(MAX(OFFSET($N34,0,0,1,teams))>$M34,MIN(OFFSET($N34,0,0,1,teams))<$L34) -> FALSE | J34: 8 | K34: board white | L34: =L33 -> 1 | M34: =M33 -> 2 | N34: =IF(N$15>teams,"",COUNTIFS($B:$B,N$16,$C:$C,TEXT($J34,"00"))) -> 1 | O34: =IF(O$15>teams,"",COUNTIFS($B:$B,O$16,$C:$C,TEXT($J34,"00"))) -> 1 | P34: =IF(P$15>teams,"",COUNTIFS($B:$B,P$16,$C:$C,TEXT($J34,"00"))) -> 2 | Q34: =IF(Q$15>teams,"",COUNTIFS($B:$B,Q$16,$C:$C,TEXT($J34,"00"))) -> 2 | R34: =IF(R$15>teams,"",COUNTIFS($B:$B,R$16,$C:$C,TEXT($J34,"00"))) -> 2 | S34: =IF(S$15>teams,"",COUNTIFS($B:$B,S$16,$C:$C,TEXT($J34,"00"))) -> 2 | T34: =IF(T$15>teams,"",COUNTIFS($B:$B,T$16,$C:$C,TEXT($J34,"00"))) -> 2 | U34: =IF(U$15>teams,"",COUNTIFS($B:$B,U$16,$C:$C,TEXT($J34,"00"))) -> 1 | ... AM34: =IF(AM$15>teams,"",COUNTIFS($B:$B,AM$16,$C:$C,TEXT($J34,"00")))
A35: 1 | B35: D | C35: 05 | D35: J | E35: 05 | F35: =IF(E35<C35,B35&"."&C35,IF(C35<E35,D35&"."&E35,"")) | G35: =IF(E35>C35,B35&"."&C35,IF(C35>E35,D35&"."&E35,"")) | H35: FALSE | I35: =OR(MAX(OFFSET($N35,0,0,1,teams))>$M35,MIN(OFFSET($N35,0,0,1,teams))<$L35) -> FALSE | J35: 9 | K35: board white | L35: =L34 -> 1 | M35: =M34 -> 2 | N35: =IF(N$15>teams,"",COUNTIFS($B:$B,N$16,$C:$C,TEXT($J35,"00"))) -> 2 | O35: =IF(O$15>teams,"",COUNTIFS($B:$B,O$16,$C:$C,TEXT($J35,"00"))) -> 2 | P35: =IF(P$15>teams,"",COUNTIFS($B:$B,P$16,$C:$C,TEXT($J35,"00"))) -> 1 | Q35: =IF(Q$15>teams,"",COUNTIFS($B:$B,Q$16,$C:$C,TEXT($J35,"00"))) -> 1 | R35: =IF(R$15>teams,"",COUNTIFS($B:$B,R$16,$C:$C,TEXT($J35,"00"))) -> 1 | S35: =IF(S$15>teams,"",COUNTIFS($B:$B,S$16,$C:$C,TEXT($J35,"00"))) -> 1 | T35: =IF(T$15>teams,"",COUNTIFS($B:$B,T$16,$C:$C,TEXT($J35,"00"))) -> 1 | U35: =IF(U$15>teams,"",COUNTIFS($B:$B,U$16,$C:$C,TEXT($J35,"00"))) -> 2 | ... AM35: =IF(AM$15>teams,"",COUNTIFS($B:$B,AM$16,$C:$C,TEXT($J35,"00")))
A36: 1 | B36: E | C36: 05 | D36: I | E36: 05 | F36: =IF(E36<C36,B36&"."&C36,IF(C36<E36,D36&"."&E36,"")) | G36: =IF(E36>C36,B36&"."&C36,IF(C36>E36,D36&"."&E36,"")) | H36: FALSE | I36: =OR(MAX(OFFSET($N36,0,0,1,teams))>$M36,MIN(OFFSET($N36,0,0,1,teams))<$L36) -> FALSE | J36: 10 | K36: board white | L36: =L35 -> 1 | M36: =M35 -> 2 | N36: =IF(N$15>teams,"",COUNTIFS($B:$B,N$16,$C:$C,TEXT($J36,"00"))) -> 2 | O36: =IF(O$15>teams,"",COUNTIFS($B:$B,O$16,$C:$C,TEXT($J36,"00"))) -> 2 | P36: =IF(P$15>teams,"",COUNTIFS($B:$B,P$16,$C:$C,TEXT($J36,"00"))) -> 1 | Q36: =IF(Q$15>teams,"",COUNTIFS($B:$B,Q$16,$C:$C,TEXT($J36,"00"))) -> 2 | R36: =IF(R$15>teams,"",COUNTIFS($B:$B,R$16,$C:$C,TEXT($J36,"00"))) -> 2 | S36: =IF(S$15>teams,"",COUNTIFS($B:$B,S$16,$C:$C,TEXT($J36,"00"))) -> 2 | T36: =IF(T$15>teams,"",COUNTIFS($B:$B,T$16,$C:$C,TEXT($J36,"00"))) -> 1 | U36: =IF(U$15>teams,"",COUNTIFS($B:$B,U$16,$C:$C,TEXT($J36,"00"))) -> 1 | ... AM36: =IF(AM$15>teams,"",COUNTIFS($B:$B,AM$16,$C:$C,TEXT($J36,"00")))
A37: 1 | B37: F | C37: 05 | D37: B | E37: 05 | F37: =IF(E37<C37,B37&"."&C37,IF(C37<E37,D37&"."&E37,"")) | G37: =IF(E37>C37,B37&"."&C37,IF(C37>E37,D37&"."&E37,"")) | H37: FALSE | I37: =OR(MAX(OFFSET($N37,0,0,1,teams))>$M37,MIN(OFFSET($N37,0,0,1,teams))<$L37) -> FALSE | K37: total white | L37: =INT(rounds*players/2) -> 15 | M37: =L37+MOD(players,2) -> 15 | N37: =IF(N$15>teams,"",SUM(N20:N22)) -> 15 | O37: =IF(O$15>teams,"",SUM(O20:O22)) -> 15 | P37: =IF(P$15>teams,"",SUM(P20:P22)) -> 15 | Q37: =IF(Q$15>teams,"",SUM(Q20:Q22)) -> 15 | R37: =IF(R$15>teams,"",SUM(R20:R22)) -> 15 | S37: =IF(S$15>teams,"",SUM(S20:S22)) -> 15 | T37: =IF(T$15>teams,"",SUM(T20:T22)) -> 15 | U37: =IF(U$15>teams,"",SUM(U20:U22)) -> 15 | ... AM37: =IF(AM$15>teams,"",SUM(AM20:AM22))
A38: 1 | B38: H | C38: 06 | D38: A | E38: 05 | F38: =IF(E38<C38,B38&"."&C38,IF(C38<E38,D38&"."&E38,"")) -> H.06 | G38: =IF(E38>C38,B38&"."&C38,IF(C38>E38,D38&"."&E38,"")) -> A.05 | H38: FALSE
A39: 1 | B39: C | C39: 06 | D39: B | E39: 06 | F39: =IF(E39<C39,B39&"."&C39,IF(C39<E39,D39&"."&E39,"")) | G39: =IF(E39>C39,B39&"."&C39,IF(C39>E39,D39&"."&E39,"")) | H39: FALSE | I39: =OR(MAX(OFFSET($N39,0,0,1,teams))>$M39,MIN(OFFSET($N39,0,0,1,teams))<$L39) -> FALSE | K39: opponents | L39: 0 | M39: 0 | N39: =IF(N$15>teams,"",SUM(OFFSET(N$41,0,0,players,1))) -> 0 | O39: =IF(O$15>teams,"",SUM(OFFSET(O$41,0,0,players,1))) -> 0 | P39: =IF(P$15>teams,"",SUM(OFFSET(P$41,0,0,players,1))) -> 0 | Q39: =IF(Q$15>teams,"",SUM(OFFSET(Q$41,0,0,players,1))) -> 0 | R39: =IF(R$15>teams,"",SUM(OFFSET(R$41,0,0,players,1))) -> 0 | S39: =IF(S$15>teams,"",SUM(OFFSET(S$41,0,0,players,1))) -> 0 | T39: =IF(T$15>teams,"",SUM(OFFSET(T$41,0,0,players,1))) -> 0 | U39: =IF(U$15>teams,"",SUM(OFFSET(U$41,0,0,players,1))) -> 0 | ... Y39: =IF(Y$15>teams,"",SUM(OFFSET(Y$41,0,0,players,1))) | Z39: =IF(Z$15>teams,"",SUM(OFFSET(#REF!,0,3*(Z$15-1),players,1))) | AA39: =IF(AA$15>teams,"",SUM(OFFSET(#REF!,0,3*(AA$15-1),players,1))) | AB39: =IF(AB$15>teams,"",SUM(OFFSET(#REF!,0,3*(AB$15-1),players,1))) | AC39: =IF(AC$15>teams,"",SUM(OFFSET(#REF!,0,3*(AC$15-1),players,1))) | AD39: =IF(AD$15>teams,"",SUM(OFFSET(#REF!,0,3*(AD$15-1),players,1))) | AE39: =IF(AE$15>teams,"",SUM(OFFSET(#REF!,0,3*(AE$15-1),players,1))) | AF39: =IF(AF$15>teams,"",SUM(OFFSET(#REF!,0,3*(AF$15-1),players,1))) | AG39: =IF(AG$15>teams,"",SUM(OFFSET(#REF!,0,3*(AG$15-1),players,1))) | ... AM39: =IF(AM$15>teams,"",SUM(OFFSET(#REF!,0,3*(AM$15-1),players,1)))
A40: 1 | B40: I | C40: 06 | D40: D | E40: 06 | F40: =IF(E40<C40,B40&"."&C40,IF(C40<E40,D40&"."&E40,"")) | G40: =IF(E40>C40,B40&"."&C40,IF(C40>E40,D40&"."&E40,"")) | H40: FALSE | K40: repeated opposing teams
...

Sheet Pairings12
D1: 12 | E1: teams
D2: {=INDIRECT("Analysis"&D1&"!players")} -> 10 | E2: players per team
D3: {=INDIRECT("Analysis"&D1&"!rounds")} -> 3 | E3: rounds
D4: =D1*D2/2 -> 60 | E4: games per round
A5: Ref | B5: Round | C5: White | D5: Black | E5: White Copy for TeamSheets
A6: 0 | B6: {=_xlfn.TEXTSPLIT(Entries!$B174,",")} -> 1 | C6: A.01 | D6: D.01 | E6: =C6 -> A.01
A7: 1 | B7: {=_xlfn.TEXTSPLIT(Entries!$B175,",")} -> 1 | C7: E.01 | D7: B.01 | E7: =C7 -> E.01
A8: 2 | B8: {=_xlfn.TEXTSPLIT(Entries!$B176,",")} -> 1 | C8: F.01 | D8: G.01 | E8: =C8 -> F.01
A9: 3 | B9: {=_xlfn.TEXTSPLIT(Entries!$B177,",")} -> 1 | C9: H.01 | D9: L.01 | E9: =C9 -> H.01
A10: 4 | B10: {=_xlfn.TEXTSPLIT(Entries!$B178,",")} -> 1 | C10: J.01 | D10: I.01 | E10: =C10 -> J.01
A11: 5 | B11: {=_xlfn.TEXTSPLIT(Entries!$B179,",")} -> 1 | C11: K.01 | D11: C.01 | E11: =C11 -> K.01
A12: 6 | B12: {=_xlfn.TEXTSPLIT(Entries!$B180,",")} -> 1 | C12: B.02 | D12: J.02 | E12: =C12 -> B.02
A13: 7 | B13: {=_xlfn.TEXTSPLIT(Entries!$B181,",")} -> 1 | C13: C.02 | D13: E.02 | E13: =C13 -> C.02
A14: 8 | B14: {=_xlfn.TEXTSPLIT(Entries!$B182,",")} -> 1 | C14: D.02 | D14: F.02 | E14: =C14 -> D.02
A15: 9 | B15: {=_xlfn.TEXTSPLIT(Entries!$B183,",")} -> 1 | C15: G.02 | D15: A.02 | E15: =C15 -> G.02
A16: 10 | B16: {=_xlfn.TEXTSPLIT(Entries!$B184,",")} -> 1 | C16: I.02 | D16: K.02 | E16: =C16 -> I.02
A17: 11 | B17: {=_xlfn.TEXTSPLIT(Entries!$B185,",")} -> 1 | C17: L.02 | D17: H.02 | E17: =C17 -> L.02
... A185: 179 | B185: {=_xlfn.TEXTSPLIT(Entries!$B353,",")} -> 3 | C185: D.10 | D185: K.10 | E185: =C185 -> D.10
A186: 180 | B186: =IF(INT(A186/$D$4)<$D$3,1+INT(A186/$D$4),"")
A187: 181 | B187: =IF(INT(A187/$D$4)<$D$3,1+INT(A187/$D$4),"")
A188: 182 | B188: =IF(INT(A188/$D$4)<$D$3,1+INT(A188/$D$4),"")
A189: 183 | B189: =IF(INT(A189/$D$4)<$D$3,1+INT(A189/$D$4),"")
A190: 184 | B190: =IF(INT(A190/$D$4)<$D$3,1+INT(A190/$D$4),"")
A191: 185 | B191: =IF(INT(A191/$D$4)<$D$3,1+INT(A191/$D$4),"")
A192: 186 | B192: =IF(INT(A192/$D$4)<$D$3,1+INT(A192/$D$4),"")
A193: 187 | B193: =IF(INT(A193/$D$4)<$D$3,1+INT(A193/$D$4),"")
A194: 188 | B194: =IF(INT(A194/$D$4)<$D$3,1+INT(A194/$D$4),"")
A195: 189 | B195: =IF(INT(A195/$D$4)<$D$3,1+INT(A195/$D$4),"")
A196: 190 | B196: =IF(INT(A196/$D$4)<$D$3,1+INT(A196/$D$4),"")
A197: 191 | B197: =IF(INT(A197/$D$4)<$D$3,1+INT(A197/$D$4),"")
... A306: 300 | B306: =IF(INT(A306/$D$4)<$D$3,1+INT(A306/$D$4),"")
A307: =A306+1 -> 301 | B307: =IF(INT(A307/$D$4)<$D$3,1+INT(A307/$D$4),"")
A308: =A307+1 -> 302 | B308: =IF(INT(A308/$D$4)<$D$3,1+INT(A308/$D$4),"")
A309: =A308+1 -> 303 | B309: =IF(INT(A309/$D$4)<$D$3,1+INT(A309/$D$4),"")
A310: =A309+1 -> 304 | B310: =IF(INT(A310/$D$4)<$D$3,1+INT(A310/$D$4),"")
A311: =A310+1 -> 305 | B311: =IF(INT(A311/$D$4)<$D$3,1+INT(A311/$D$4),"")
A312: =A311+1 -> 306 | B312: =IF(INT(A312/$D$4)<$D$3,1+INT(A312/$D$4),"")
A313: =A312+1 -> 307 | B313: =IF(INT(A313/$D$4)<$D$3,1+INT(A313/$D$4),"")
A314: =A313+1 -> 308 | B314: =IF(INT(A314/$D$4)<$D$3,1+INT(A314/$D$4),"")
A315: =A314+1 -> 309 | B315: =IF(INT(A315/$D$4)<$D$3,1+INT(A315/$D$4),"")
...

Sheet Analysis12
G1: Repeated opposing teams | H1: =I39 -> FALSE | K1: =_xlfn.ARRAYTOTEXT(_xlfn._xlws.FILTER(G1:G9,H1:H9,"OK"),0) -> OK
G2: Play team-mate | H2: =MAX(OFFSET($N$78,0,0,players,1))>$M$78 -> FALSE
G3: Opposing team distrib violation | H3: =OR(OFFSET($I$52,0,0,teams)) -> FALSE
G4: Repeated up-floats | H4: {=COUNTA(_xlfn._xlws.FILTER(OFFSET($F$11,0,0,rounds*gamesPerRound,1),LEN(OFFSET($F$11,0,0,rounds*gamesPerRound,1))>0))<>COUNTA(_xlfn.UNIQUE(_xlfn._xlws.FILTER(OFFSET($F$11,0,0,rounds*gamesPerRound,1),LEN(OFFSET($F$11,0,0,rounds*gamesPerRound,1))>0)))} -> FALSE
G5: Repeated down-floats | H5: {=COUNTA(_xlfn._xlws.FILTER(OFFSET($G$11,0,0,rounds*gamesPerRound,1),LEN(OFFSET($G$11,0,0,rounds*gamesPerRound,1))>0))<>COUNTA(_xlfn.UNIQUE(_xlfn._xlws.FILTER(OFFSET($G$11,0,0,rounds*gamesPerRound,1),LEN(OFFSET($G$11,0,0,rounds*gamesPerRound,1))>0)))} -> FALSE
G6: Board colours violation | H6: =OR(OFFSET($I$27,0,0,players+1)) -> FALSE | J6: 12 | K6: teams
G7: Float number violation | H7: =OR(I17:I18) -> FALSE | J7: 10 | K7: players per team
G8: Float balance violation | H8: =I19 -> FALSE | J8: 3 | K8: rounds
G9: Float colour violation | H9: =OR(_xlfn.ANCHORARRAY(H11)) -> FALSE | I9: violations? | J9: =J6*J7/2 -> 60 | K9: games per round
A10: Round | B10: White | D10: Black | F10: Upfloat | G10: Downfloat | I10: =OR(H1:H9) -> FALSE | J10: Q | K10: total | M10: =SUM(M11:M14) -> 0.072727273
A11: {=Pairings12!B6:B473} -> 1 | B11: {=LEFT(Pairings12!C6:C473,1)} -> A | C11: {=RIGHT(Pairings12!C6:C473,2)} -> 01 | D11: {=LEFT(Pairings12!D6:D473,1)} -> D | E11: {=RIGHT(Pairings12!D6:D473,2)} -> 01 | F11: =IF(E11<C11,B11&"."&C11,IF(C11<E11,D11&"."&E11,"")) | G11: =IF(E11>C11,B11&"."&C11,IF(C11>E11,D11&"."&E11,"")) | H11: {=C11:C478<E11:E478} -> FALSE | J11: QX | K11: round colours | M11: =SUM(OFFSET(M11,0,1,1,teams)) -> 0 | N11: =IF(N$15>teams,"",SUM(N23:N25)) -> 0 | O11: =IF(O$15>teams,"",SUM(O23:O25)) -> 0 | P11: =IF(P$15>teams,"",SUM(P23:P25)) -> 0 | Q11: =IF(Q$15>teams,"",SUM(Q23:Q25)) -> 0 | R11: =IF(R$15>teams,"",SUM(R23:R25)) -> 0 | S11: =IF(S$15>teams,"",SUM(S23:S25)) -> 0 | T11: =IF(T$15>teams,"",SUM(T23:T25)) -> 0 | U11: =IF(U$15>teams,"",SUM(U23:U25)) -> 0 | ... AM11: =IF(AM$15>teams,"",SUM(AM23:AM25))
A12: 1 | B12: E | C12: 01 | D12: B | E12: 01 | F12: =IF(E12<C12,B12&"."&C12,IF(C12<E12,D12&"."&E12,"")) | G12: =IF(E12>C12,B12&"."&C12,IF(C12>E12,D12&"."&E12,"")) | H12: FALSE | J12: QY | K12: total floats | M12: =SUM(OFFSET(M12,0,1,1,teams)) -> 0 | N12: =IF(N$15>teams,"",ABS(N19)) -> 0 | O12: =IF(O$15>teams,"",ABS(O19)) -> 0 | P12: =IF(P$15>teams,"",ABS(P19)) -> 0 | Q12: =IF(Q$15>teams,"",ABS(Q19)) -> 0 | R12: =IF(R$15>teams,"",ABS(R19)) -> 0 | S12: =IF(S$15>teams,"",ABS(S19)) -> 0 | T12: =IF(T$15>teams,"",ABS(T19)) -> 0 | U12: =IF(U$15>teams,"",ABS(U19)) -> 0 | ... AM12: =IF(AM$15>teams,"",ABS(AM19))
A13: 1 | B13: F | C13: 01 | D13: G | E13: 01 | F13: =IF(E13<C13,B13&"."&C13,IF(C13<E13,D13&"."&E13,"")) | G13: =IF(E13>C13,B13&"."&C13,IF(C13>E13,D13&"."&E13,"")) | H13: FALSE | J13: QZ | K13: board whites | M13: {=SUM(ABS(OFFSET(M13,0,1,1,teams)))} -> 0.072727273 | N13: =IF(N$15>teams,"",1-(4/(rounds*players*(players+1))*SUMPRODUCT(OFFSET($J$27,0,0,players,1),OFFSET(N$27,0,0,players,1)))) -> 0.0060606061 | O13: =IF(O$15>teams,"",1-(4/(rounds*players*(players+1))*SUMPRODUCT(OFFSET($J$27,0,0,players,1),OFFSET(O$27,0,0,players,1)))) -> 0.0060606061 | P13: =IF(P$15>teams,"",1-(4/(rounds*players*(players+1))*SUMPRODUCT(OFFSET($J$27,0,0,players,1),OFFSET(P$27,0,0,players,1)))) -> 0.0060606061 | Q13: =IF(Q$15>teams,"",1-(4/(rounds*players*(players+1))*SUMPRODUCT(OFFSET($J$27,0,0,players,1),OFFSET(Q$27,0,0,players,1)))) -> 0.0060606061 | R13: =IF(R$15>teams,"",1-(4/(rounds*players*(players+1))*SUMPRODUCT(OFFSET($J$27,0,0,players,1),OFFSET(R$27,0,0,players,1)))) -> 0.0060606061 | S13: =IF(S$15>teams,"",1-(4/(rounds*players*(players+1))*SUMPRODUCT(OFFSET($J$27,0,0,players,1),OFFSET(S$27,0,0,players,1)))) -> 0.0060606061 | T13: =IF(T$15>teams,"",1-(4/(rounds*players*(players+1))*SUMPRODUCT(OFFSET($J$27,0,0,players,1),OFFSET(T$27,0,0,players,1)))) -> -0.0060606061 | U13: =IF(U$15>teams,"",1-(4/(rounds*players*(players+1))*SUMPRODUCT(OFFSET($J$27,0,0,players,1),OFFSET(U$27,0,0,players,1)))) -> -0.0060606061 | ... AM13: =IF(AM$15>teams,"",1-(4/(rounds*players*(players+1))*SUMPRODUCT(OFFSET($J$27,0,0,players,1),OFFSET(AM$27,0,0,players,1))))
A14: 1 | B14: H | C14: 01 | D14: L | E14: 01 | F14: =IF(E14<C14,B14&"."&C14,IF(C14<E14,D14&"."&E14,"")) | G14: =IF(E14>C14,B14&"."&C14,IF(C14>E14,D14&"."&E14,"")) | H14: FALSE
A15: 1 | B15: J | C15: 01 | D15: I | E15: 01 | F15: =IF(E15<C15,B15&"."&C15,IF(C15<E15,D15&"."&E15,"")) | G15: =IF(E15>C15,B15&"."&C15,IF(C15>E15,D15&"."&E15,"")) | H15: FALSE | K15: =teams -> 12 | L15: permitted | N15: 1 | O15: 2 | P15: 3 | Q15: 4 | R15: 5 | S15: 6 | T15: 7 | U15: 8 | V15: 9 | W15: 10 | X15: 11 | Y15: 12 | Z15: 13 | AA15: 14 | AB15: 15 | AC15: 16 | AD15: 17 | AE15: 18 | AF15: 19 | AG15: 20 | AH15: 21 | AI15: 22 | AJ15: 23 | AK15: 24 | AL15: 25 | AM15: 26
A16: 1 | B16: K | C16: 01 | D16: C | E16: 01 | F16: =IF(E16<C16,B16&"."&C16,IF(C16<E16,D16&"."&E16,"")) | G16: =IF(E16>C16,B16&"."&C16,IF(C16>E16,D16&"."&E16,"")) | H16: FALSE | I16: violation | K16: teams | L16: min | M16: max | N16: =IF(N$15>teams,"",INDEX(teamsList,Analysis12!N$15)) -> A | O16: =IF(O$15>teams,"",INDEX(teamsList,Analysis12!O$15)) -> B | P16: =IF(P$15>teams,"",INDEX(teamsList,Analysis12!P$15)) -> C | Q16: =IF(Q$15>teams,"",INDEX(teamsList,Analysis12!Q$15)) -> D | R16: =IF(R$15>teams,"",INDEX(teamsList,Analysis12!R$15)) -> E | S16: =IF(S$15>teams,"",INDEX(teamsList,Analysis12!S$15)) -> F | T16: =IF(T$15>teams,"",INDEX(teamsList,Analysis12!T$15)) -> G | U16: =IF(U$15>teams,"",INDEX(teamsList,Analysis12!U$15)) -> H | ... AM16: =IF(AM$15>teams,"",INDEX(teamsList,Analysis12!AM$15))
A17: 1 | B17: B | C17: 02 | D17: J | E17: 02 | F17: =IF(E17<C17,B17&"."&C17,IF(C17<E17,D17&"."&E17,"")) | G17: =IF(E17>C17,B17&"."&C17,IF(C17>E17,D17&"."&E17,"")) | H17: FALSE | I17: =OR(MAX(OFFSET($N17,0,0,1,teams))>$M17,MIN(OFFSET($N17,0,0,1,teams))<$L17) -> FALSE | K17: upfloats | L17: 0 | M17: =MOD(teams,2)*(INT(rounds*(players/2)/teams)+2) -> 0 | N17: =IF(N$15>teams,"",COUNTIF($F:$F,N$16)) -> 0 | O17: =IF(O$15>teams,"",COUNTIF($F:$F,O$16)) -> 0 | P17: =IF(P$15>teams,"",COUNTIF($F:$F,P$16)) -> 0 | Q17: =IF(Q$15>teams,"",COUNTIF($F:$F,Q$16)) -> 0 | R17: =IF(R$15>teams,"",COUNTIF($F:$F,R$16)) -> 0 | S17: =IF(S$15>teams,"",COUNTIF($F:$F,S$16)) -> 0 | T17: =IF(T$15>teams,"",COUNTIF($F:$F,T$16)) -> 0 | U17: =IF(U$15>teams,"",COUNTIF($F:$F,U$16)) -> 0 | ... AM17: =IF(AM$15>teams,"",COUNTIF($F:$F,AM$16))
A18: 1 | B18: C | C18: 02 | D18: E | E18: 02 | F18: =IF(E18<C18,B18&"."&C18,IF(C18<E18,D18&"."&E18,"")) | G18: =IF(E18>C18,B18&"."&C18,IF(C18>E18,D18&"."&E18,"")) | H18: FALSE | I18: =OR(MAX(OFFSET($N18,0,0,1,teams))>$M18,MIN(OFFSET($N18,0,0,1,teams))<$L18) -> FALSE | K18: downfloats | L18: 0 | M18: =MOD(teams,2)*(INT(rounds*(players/2)/teams)+2) -> 0 | N18: =IF(N$15>teams,"",COUNTIF($G:$G,N$16)) -> 0 | O18: =IF(O$15>teams,"",COUNTIF($G:$G,O$16)) -> 0 | P18: =IF(P$15>teams,"",COUNTIF($G:$G,P$16)) -> 0 | Q18: =IF(Q$15>teams,"",COUNTIF($G:$G,Q$16)) -> 0 | R18: =IF(R$15>teams,"",COUNTIF($G:$G,R$16)) -> 0 | S18: =IF(S$15>teams,"",COUNTIF($G:$G,S$16)) -> 0 | T18: =IF(T$15>teams,"",COUNTIF($G:$G,T$16)) -> 0 | U18: =IF(U$15>teams,"",COUNTIF($G:$G,U$16)) -> 0 | ... AM18: =IF(AM$15>teams,"",COUNTIF($G:$G,AM$16))
A19: 1 | B19: D | C19: 02 | D19: F | E19: 02 | F19: =IF(E19<C19,B19&"."&C19,IF(C19<E19,D19&"."&E19,"")) | G19: =IF(E19>C19,B19&"."&C19,IF(C19>E19,D19&"."&E19,"")) | H19: FALSE | I19: =OR(MAX(OFFSET($N19,0,0,1,teams))>$M19,MIN(OFFSET($N19,0,0,1,teams))<$L19) -> FALSE | K19: balance | L19: -1 | M19: 1 | N19: =IF(N$15>teams,"",N17-N18) -> 0 | O19: =IF(O$15>teams,"",O17-O18) -> 0 | P19: =IF(P$15>teams,"",P17-P18) -> 0 | Q19: =IF(Q$15>teams,"",Q17-Q18) -> 0 | R19: =IF(R$15>teams,"",R17-R18) -> 0 | S19: =IF(S$15>teams,"",S17-S18) -> 0 | T19: =IF(T$15>teams,"",T17-T18) -> 0 | U19: =IF(U$15>teams,"",U17-U18) -> 0 | ... AM19: =IF(AM$15>teams,"",AM17-AM18)
A20: 1 | B20: G | C20: 02 | D20: A | E20: 02 | F20: =IF(E20<C20,B20&"."&C20,IF(C20<E20,D20&"."&E20,"")) | G20: =IF(E20>C20,B20&"."&C20,IF(C20>E20,D20&"."&E20,"")) | H20: FALSE | J20: 1 | K20: r1 white | L20: =INT(players/2) -> 5 | M20: =L20+MOD(players,2) -> 5 | N20: =IF(N$15>teams,"",COUNTIFS($B:$B,N$16,$A:$A,$J20)) -> 5 | O20: =IF(O$15>teams,"",COUNTIFS($B:$B,O$16,$A:$A,$J20)) -> 5 | P20: =IF(P$15>teams,"",COUNTIFS($B:$B,P$16,$A:$A,$J20)) -> 5 | Q20: =IF(Q$15>teams,"",COUNTIFS($B:$B,Q$16,$A:$A,$J20)) -> 5 | R20: =IF(R$15>teams,"",COUNTIFS($B:$B,R$16,$A:$A,$J20)) -> 5 | S20: =IF(S$15>teams,"",COUNTIFS($B:$B,S$16,$A:$A,$J20)) -> 5 | T20: =IF(T$15>teams,"",COUNTIFS($B:$B,T$16,$A:$A,$J20)) -> 5 | U20: =IF(U$15>teams,"",COUNTIFS($B:$B,U$16,$A:$A,$J20)) -> 5 | ... AM20: =IF(AM$15>teams,"",COUNTIFS($B:$B,AM$16,$A:$A,$J20))
A21: 1 | B21: I | C21: 02 | D21: K | E21: 02 | F21: =IF(E21<C21,B21&"."&C21,IF(C21<E21,D21&"."&E21,"")) | G21: =IF(E21>C21,B21&"."&C21,IF(C21>E21,D21&"."&E21,"")) | H21: FALSE | J21: 2 | K21: r2 white | L21: =IF(rounds<$J21,"",L20) -> 5 | M21: =IF(rounds<$J21,"",M20) -> 5 | N21: =IF(N$15>teams,"",COUNTIFS($B:$B,N$16,$A:$A,$J21)) -> 5 | O21: =IF(O$15>teams,"",COUNTIFS($B:$B,O$16,$A:$A,$J21)) -> 5 | P21: =IF(P$15>teams,"",COUNTIFS($B:$B,P$16,$A:$A,$J21)) -> 5 | Q21: =IF(Q$15>teams,"",COUNTIFS($B:$B,Q$16,$A:$A,$J21)) -> 5 | R21: =IF(R$15>teams,"",COUNTIFS($B:$B,R$16,$A:$A,$J21)) -> 5 | S21: =IF(S$15>teams,"",COUNTIFS($B:$B,S$16,$A:$A,$J21)) -> 5 | T21: =IF(T$15>teams,"",COUNTIFS($B:$B,T$16,$A:$A,$J21)) -> 5 | U21: =IF(U$15>teams,"",COUNTIFS($B:$B,U$16,$A:$A,$J21)) -> 5 | ... AM21: =IF(AM$15>teams,"",COUNTIFS($B:$B,AM$16,$A:$A,$J21))
A22: 1 | B22: L | C22: 02 | D22: H | E22: 02 | F22: =IF(E22<C22,B22&"."&C22,IF(C22<E22,D22&"."&E22,"")) | G22: =IF(E22>C22,B22&"."&C22,IF(C22>E22,D22&"."&E22,"")) | H22: FALSE | J22: 3 | K22: r3 white | L22: =IF(rounds<$J22,"",L21) -> 5 | M22: =IF(rounds<$J22,"",M21) -> 5 | N22: =IF(N$15>teams,"",COUNTIFS($B:$B,N$16,$A:$A,$J22)) -> 5 | O22: =IF(O$15>teams,"",COUNTIFS($B:$B,O$16,$A:$A,$J22)) -> 5 | P22: =IF(P$15>teams,"",COUNTIFS($B:$B,P$16,$A:$A,$J22)) -> 5 | Q22: =IF(Q$15>teams,"",COUNTIFS($B:$B,Q$16,$A:$A,$J22)) -> 5 | R22: =IF(R$15>teams,"",COUNTIFS($B:$B,R$16,$A:$A,$J22)) -> 5 | S22: =IF(S$15>teams,"",COUNTIFS($B:$B,S$16,$A:$A,$J22)) -> 5 | T22: =IF(T$15>teams,"",COUNTIFS($B:$B,T$16,$A:$A,$J22)) -> 5 | U22: =IF(U$15>teams,"",COUNTIFS($B:$B,U$16,$A:$A,$J22)) -> 5 | ... AM22: =IF(AM$15>teams,"",COUNTIFS($B:$B,AM$16,$A:$A,$J22))
A23: 1 | B23: A | C23: 03 | D23: H | E23: 03 | F23: =IF(E23<C23,B23&"."&C23,IF(C23<E23,D23&"."&E23,"")) | G23: =IF(E23>C23,B23&"."&C23,IF(C23>E23,D23&"."&E23,"")) | H23: FALSE | J23: 1 | K23: r1 col diff | N23: =IF(N$15>teams,"",ABS(N20-(players-N20))) -> 0 | O23: =IF(O$15>teams,"",ABS(O20-(players-O20))) -> 0 | P23: =IF(P$15>teams,"",ABS(P20-(players-P20))) -> 0 | Q23: =IF(Q$15>teams,"",ABS(Q20-(players-Q20))) -> 0 | R23: =IF(R$15>teams,"",ABS(R20-(players-R20))) -> 0 | S23: =IF(S$15>teams,"",ABS(S20-(players-S20))) -> 0 | T23: =IF(T$15>teams,"",ABS(T20-(players-T20))) -> 0 | U23: =IF(U$15>teams,"",ABS(U20-(players-U20))) -> 0 | ... AM23: =IF(AM$15>teams,"",ABS(AM20-(players-AM20)))
A24: 1 | B24: C | C24: 03 | D24: L | E24: 03 | F24: =IF(E24<C24,B24&"."&C24,IF(C24<E24,D24&"."&E24,"")) | G24: =IF(E24>C24,B24&"."&C24,IF(C24>E24,D24&"."&E24,"")) | H24: FALSE | J24: 2 | K24: r2 col diff | N24: =IF(N$15>teams,"",ABS(N21-(players-N21))) -> 0 | O24: =IF(O$15>teams,"",ABS(O21-(players-O21))) -> 0 | P24: =IF(P$15>teams,"",ABS(P21-(players-P21))) -> 0 | Q24: =IF(Q$15>teams,"",ABS(Q21-(players-Q21))) -> 0 | R24: =IF(R$15>teams,"",ABS(R21-(players-R21))) -> 0 | S24: =IF(S$15>teams,"",ABS(S21-(players-S21))) -> 0 | T24: =IF(T$15>teams,"",ABS(T21-(players-T21))) -> 0 | U24: =IF(U$15>teams,"",ABS(U21-(players-U21))) -> 0 | ... AM24: =IF(AM$15>teams,"",ABS(AM21-(players-AM21)))
A25: 1 | B25: D | C25: 03 | D25: G | E25: 03 | F25: =IF(E25<C25,B25&"."&C25,IF(C25<E25,D25&"."&E25,"")) | G25: =IF(E25>C25,B25&"."&C25,IF(C25>E25,D25&"."&E25,"")) | H25: FALSE | J25: 3 | K25: r3 col diff | N25: =IF(N$15>teams,"",ABS(N22-(players-N22))) -> 0 | O25: =IF(O$15>teams,"",ABS(O22-(players-O22))) -> 0 | P25: =IF(P$15>teams,"",ABS(P22-(players-P22))) -> 0 | Q25: =IF(Q$15>teams,"",ABS(Q22-(players-Q22))) -> 0 | R25: =IF(R$15>teams,"",ABS(R22-(players-R22))) -> 0 | S25: =IF(S$15>teams,"",ABS(S22-(players-S22))) -> 0 | T25: =IF(T$15>teams,"",ABS(T22-(players-T22))) -> 0 | U25: =IF(U$15>teams,"",ABS(U22-(players-U22))) -> 0 | ... AM25: =IF(AM$15>teams,"",ABS(AM22-(players-AM22)))
A26: 1 | B26: E | C26: 03 | D26: K | E26: 03 | F26: =IF(E26<C26,B26&"."&C26,IF(C26<E26,D26&"."&E26,"")) | G26: =IF(E26>C26,B26&"."&C26,IF(C26>E26,D26&"."&E26,"")) | H26: FALSE
A27: 1 | B27: I | C27: 03 | D27: F | E27: 03 | F27: =IF(E27<C27,B27&"."&C27,IF(C27<E27,D27&"."&E27,"")) | G27: =IF(E27>C27,B27&"."&C27,IF(C27>E27,D27&"."&E27,"")) | H27: FALSE | I27: =OR(MAX(OFFSET($N27,0,0,1,teams))>$M27,MIN(OFFSET($N27,0,0,1,teams))<$L27) -> FALSE | J27: 1 | K27: board white | L27: =INT(rounds/2) -> 1 | M27: =L27+MOD(rounds,2) -> 2 | N27: =IF(N$15>teams,"",COUNTIFS($B:$B,N$16,$C:$C,TEXT($J27,"00"))) -> 2 | O27: =IF(O$15>teams,"",COUNTIFS($B:$B,O$16,$C:$C,TEXT($J27,"00"))) -> 1 | P27: =IF(P$15>teams,"",COUNTIFS($B:$B,P$16,$C:$C,TEXT($J27,"00"))) -> 1 | Q27: =IF(Q$15>teams,"",COUNTIFS($B:$B,Q$16,$C:$C,TEXT($J27,"00"))) -> 1 | R27: =IF(R$15>teams,"",COUNTIFS($B:$B,R$16,$C:$C,TEXT($J27,"00"))) -> 2 | S27: =IF(S$15>teams,"",COUNTIFS($B:$B,S$16,$C:$C,TEXT($J27,"00"))) -> 2 | T27: =IF(T$15>teams,"",COUNTIFS($B:$B,T$16,$C:$C,TEXT($J27,"00"))) -> 1 | U27: =IF(U$15>teams,"",COUNTIFS($B:$B,U$16,$C:$C,TEXT($J27,"00"))) -> 2 | ... AM27: =IF(AM$15>teams,"",COUNTIFS($B:$B,AM$16,$C:$C,TEXT($J27,"00")))
A28: 1 | B28: J | C28: 03 | D28: B | E28: 03 | F28: =IF(E28<C28,B28&"."&C28,IF(C28<E28,D28&"."&E28,"")) | G28: =IF(E28>C28,B28&"."&C28,IF(C28>E28,D28&"."&E28,"")) | H28: FALSE | I28: =OR(MAX(OFFSET($N28,0,0,1,teams))>$M28,MIN(OFFSET($N28,0,0,1,teams))<$L28) -> FALSE | J28: 2 | K28: board white | L28: =L27 -> 1 | M28: =M27 -> 2 | N28: =IF(N$15>teams,"",COUNTIFS($B:$B,N$16,$C:$C,TEXT($J28,"00"))) -> 1 | O28: =IF(O$15>teams,"",COUNTIFS($B:$B,O$16,$C:$C,TEXT($J28,"00"))) -> 2 | P28: =IF(P$15>teams,"",COUNTIFS($B:$B,P$16,$C:$C,TEXT($J28,"00"))) -> 2 | Q28: =IF(Q$15>teams,"",COUNTIFS($B:$B,Q$16,$C:$C,TEXT($J28,"00"))) -> 2 | R28: =IF(R$15>teams,"",COUNTIFS($B:$B,R$16,$C:$C,TEXT($J28,"00"))) -> 1 | S28: =IF(S$15>teams,"",COUNTIFS($B:$B,S$16,$C:$C,TEXT($J28,"00"))) -> 1 | T28: =IF(T$15>teams,"",COUNTIFS($B:$B,T$16,$C:$C,TEXT($J28,"00"))) -> 2 | U28: =IF(U$15>teams,"",COUNTIFS($B:$B,U$16,$C:$C,TEXT($J28,"00"))) -> 1 | ... AM28: =IF(AM$15>teams,"",COUNTIFS($B:$B,AM$16,$C:$C,TEXT($J28,"00")))
A29: 1 | B29: B | C29: 04 | D29: I | E29: 04 | F29: =IF(E29<C29,B29&"."&C29,IF(C29<E29,D29&"."&E29,"")) | G29: =IF(E29>C29,B29&"."&C29,IF(C29>E29,D29&"."&E29,"")) | H29: FALSE | I29: =OR(MAX(OFFSET($N29,0,0,1,teams))>$M29,MIN(OFFSET($N29,0,0,1,teams))<$L29) -> FALSE | J29: 3 | K29: board white | L29: =L28 -> 1 | M29: =M28 -> 2 | N29: =IF(N$15>teams,"",COUNTIFS($B:$B,N$16,$C:$C,TEXT($J29,"00"))) -> 2 | O29: =IF(O$15>teams,"",COUNTIFS($B:$B,O$16,$C:$C,TEXT($J29,"00"))) -> 1 | P29: =IF(P$15>teams,"",COUNTIFS($B:$B,P$16,$C:$C,TEXT($J29,"00"))) -> 2 | Q29: =IF(Q$15>teams,"",COUNTIFS($B:$B,Q$16,$C:$C,TEXT($J29,"00"))) -> 2 | R29: =IF(R$15>teams,"",COUNTIFS($B:$B,R$16,$C:$C,TEXT($J29,"00"))) -> 2 | S29: =IF(S$15>teams,"",COUNTIFS($B:$B,S$16,$C:$C,TEXT($J29,"00"))) -> 1 | T29: =IF(T$15>teams,"",COUNTIFS($B:$B,T$16,$C:$C,TEXT($J29,"00"))) -> 1 | U29: =IF(U$15>teams,"",COUNTIFS($B:$B,U$16,$C:$C,TEXT($J29,"00"))) -> 1 | ... AM29: =IF(AM$15>teams,"",COUNTIFS($B:$B,AM$16,$C:$C,TEXT($J29,"00")))
A30: 1 | B30: C | C30: 04 | D30: G | E30: 04 | F30: =IF(E30<C30,B30&"."&C30,IF(C30<E30,D30&"."&E30,"")) | G30: =IF(E30>C30,B30&"."&C30,IF(C30>E30,D30&"."&E30,"")) | H30: FALSE | I30: =OR(MAX(OFFSET($N30,0,0,1,teams))>$M30,MIN(OFFSET($N30,0,0,1,teams))<$L30) -> FALSE | J30: 4 | K30: board white | L30: =L29 -> 1 | M30: =M29 -> 2 | N30: =IF(N$15>teams,"",COUNTIFS($B:$B,N$16,$C:$C,TEXT($J30,"00"))) -> 1 | O30: =IF(O$15>teams,"",COUNTIFS($B:$B,O$16,$C:$C,TEXT($J30,"00"))) -> 2 | P30: =IF(P$15>teams,"",COUNTIFS($B:$B,P$16,$C:$C,TEXT($J30,"00"))) -> 2 | Q30: =IF(Q$15>teams,"",COUNTIFS($B:$B,Q$16,$C:$C,TEXT($J30,"00"))) -> 1 | R30: =IF(R$15>teams,"",COUNTIFS($B:$B,R$16,$C:$C,TEXT($J30,"00"))) -> 2 | S30: =IF(S$15>teams,"",COUNTIFS($B:$B,S$16,$C:$C,TEXT($J30,"00"))) -> 2 | T30: =IF(T$15>teams,"",COUNTIFS($B:$B,T$16,$C:$C,TEXT($J30,"00"))) -> 1 | U30: =IF(U$15>teams,"",COUNTIFS($B:$B,U$16,$C:$C,TEXT($J30,"00"))) -> 1 | ... AM30: =IF(AM$15>teams,"",COUNTIFS($B:$B,AM$16,$C:$C,TEXT($J30,"00")))
A31: 1 | B31: E | C31: 04 | D31: D | E31: 04 | F31: =IF(E31<C31,B31&"."&C31,IF(C31<E31,D31&"."&E31,"")) | G31: =IF(E31>C31,B31&"."&C31,IF(C31>E31,D31&"."&E31,"")) | H31: FALSE | I31: =OR(MAX(OFFSET($N31,0,0,1,teams))>$M31,MIN(OFFSET($N31,0,0,1,teams))<$L31) -> FALSE | J31: 5 | K31: board white | L31: =L30 -> 1 | M31: =M30 -> 2 | N31: =IF(N$15>teams,"",COUNTIFS($B:$B,N$16,$C:$C,TEXT($J31,"00"))) -> 1 | O31: =IF(O$15>teams,"",COUNTIFS($B:$B,O$16,$C:$C,TEXT($J31,"00"))) -> 2 | P31: =IF(P$15>teams,"",COUNTIFS($B:$B,P$16,$C:$C,TEXT($J31,"00"))) -> 1 | Q31: =IF(Q$15>teams,"",COUNTIFS($B:$B,Q$16,$C:$C,TEXT($J31,"00"))) -> 1 | R31: =IF(R$15>teams,"",COUNTIFS($B:$B,R$16,$C:$C,TEXT($J31,"00"))) -> 1 | S31: =IF(S$15>teams,"",COUNTIFS($B:$B,S$16,$C:$C,TEXT($J31,"00"))) -> 2 | T31: =IF(T$15>teams,"",COUNTIFS($B:$B,T$16,$C:$C,TEXT($J31,"00"))) -> 2 | U31: =IF(U$15>teams,"",COUNTIFS($B:$B,U$16,$C:$C,TEXT($J31,"00"))) -> 2 | ... AM31: =IF(AM$15>teams,"",COUNTIFS($B:$B,AM$16,$C:$C,TEXT($J31,"00")))
A32: 1 | B32: F | C32: 04 | D32: A | E32: 04 | F32: =IF(E32<C32,B32&"."&C32,IF(C32<E32,D32&"."&E32,"")) | G32: =IF(E32>C32,B32&"."&C32,IF(C32>E32,D32&"."&E32,"")) | H32: FALSE | I32: =OR(MAX(OFFSET($N32,0,0,1,teams))>$M32,MIN(OFFSET($N32,0,0,1,teams))<$L32) -> FALSE | J32: 6 | K32: board white | L32: =L31 -> 1 | M32: =M31 -> 2 | N32: =IF(N$15>teams,"",COUNTIFS($B:$B,N$16,$C:$C,TEXT($J32,"00"))) -> 2 | O32: =IF(O$15>teams,"",COUNTIFS($B:$B,O$16,$C:$C,TEXT($J32,"00"))) -> 2 | P32: =IF(P$15>teams,"",COUNTIFS($B:$B,P$16,$C:$C,TEXT($J32,"00"))) -> 1 | Q32: =IF(Q$15>teams,"",COUNTIFS($B:$B,Q$16,$C:$C,TEXT($J32,"00"))) -> 2 | R32: =IF(R$15>teams,"",COUNTIFS($B:$B,R$16,$C:$C,TEXT($J32,"00"))) -> 1 | S32: =IF(S$15>teams,"",COUNTIFS($B:$B,S$16,$C:$C,TEXT($J32,"00"))) -> 1 | T32: =IF(T$15>teams,"",COUNTIFS($B:$B,T$16,$C:$C,TEXT($J32,"00"))) -> 2 | U32: =IF(U$15>teams,"",COUNTIFS($B:$B,U$16,$C:$C,TEXT($J32,"00"))) -> 2 | ... AM32: =IF(AM$15>teams,"",COUNTIFS($B:$B,AM$16,$C:$C,TEXT($J32,"00")))
A33: 1 | B33: K | C33: 04 | D33: H | E33: 04 | F33: =IF(E33<C33,B33&"."&C33,IF(C33<E33,D33&"."&E33,"")) | G33: =IF(E33>C33,B33&"."&C33,IF(C33>E33,D33&"."&E33,"")) | H33: FALSE | I33: =OR(MAX(OFFSET($N33,0,0,1,teams))>$M33,MIN(OFFSET($N33,0,0,1,teams))<$L33) -> FALSE | J33: 7 | K33: board white | L33: =L32 -> 1 | M33: =M32 -> 2 | N33: =IF(N$15>teams,"",COUNTIFS($B:$B,N$16,$C:$C,TEXT($J33,"00"))) -> 1 | O33: =IF(O$15>teams,"",COUNTIFS($B:$B,O$16,$C:$C,TEXT($J33,"00"))) -> 1 | P33: =IF(P$15>teams,"",COUNTIFS($B:$B,P$16,$C:$C,TEXT($J33,"00"))) -> 1 | Q33: =IF(Q$15>teams,"",COUNTIFS($B:$B,Q$16,$C:$C,TEXT($J33,"00"))) -> 2 | R33: =IF(R$15>teams,"",COUNTIFS($B:$B,R$16,$C:$C,TEXT($J33,"00"))) -> 1 | S33: =IF(S$15>teams,"",COUNTIFS($B:$B,S$16,$C:$C,TEXT($J33,"00"))) -> 2 | T33: =IF(T$15>teams,"",COUNTIFS($B:$B,T$16,$C:$C,TEXT($J33,"00"))) -> 2 | U33: =IF(U$15>teams,"",COUNTIFS($B:$B,U$16,$C:$C,TEXT($J33,"00"))) -> 2 | ... AM33: =IF(AM$15>teams,"",COUNTIFS($B:$B,AM$16,$C:$C,TEXT($J33,"00")))
A34: 1 | B34: L | C34: 04 | D34: J | E34: 04 | F34: =IF(E34<C34,B34&"."&C34,IF(C34<E34,D34&"."&E34,"")) | G34: =IF(E34>C34,B34&"."&C34,IF(C34>E34,D34&"."&E34,"")) | H34: FALSE | I34: =OR(MAX(OFFSET($N34,0,0,1,teams))>$M34,MIN(OFFSET($N34,0,0,1,teams))<$L34) -> FALSE | J34: 8 | K34: board white | L34: =L33 -> 1 | M34: =M33 -> 2 | N34: =IF(N$15>teams,"",COUNTIFS($B:$B,N$16,$C:$C,TEXT($J34,"00"))) -> 2 | O34: =IF(O$15>teams,"",COUNTIFS($B:$B,O$16,$C:$C,TEXT($J34,"00"))) -> 1 | P34: =IF(P$15>teams,"",COUNTIFS($B:$B,P$16,$C:$C,TEXT($J34,"00"))) -> 2 | Q34: =IF(Q$15>teams,"",COUNTIFS($B:$B,Q$16,$C:$C,TEXT($J34,"00"))) -> 1 | R34: =IF(R$15>teams,"",COUNTIFS($B:$B,R$16,$C:$C,TEXT($J34,"00"))) -> 1 | S34: =IF(S$15>teams,"",COUNTIFS($B:$B,S$16,$C:$C,TEXT($J34,"00"))) -> 1 | T34: =IF(T$15>teams,"",COUNTIFS($B:$B,T$16,$C:$C,TEXT($J34,"00"))) -> 2 | U34: =IF(U$15>teams,"",COUNTIFS($B:$B,U$16,$C:$C,TEXT($J34,"00"))) -> 1 | ... AM34: =IF(AM$15>teams,"",COUNTIFS($B:$B,AM$16,$C:$C,TEXT($J34,"00")))
A35: 1 | B35: B | C35: 05 | D35: A | E35: 05 | F35: =IF(E35<C35,B35&"."&C35,IF(C35<E35,D35&"."&E35,"")) | G35: =IF(E35>C35,B35&"."&C35,IF(C35>E35,D35&"."&E35,"")) | H35: FALSE | I35: =OR(MAX(OFFSET($N35,0,0,1,teams))>$M35,MIN(OFFSET($N35,0,0,1,teams))<$L35) -> FALSE | J35: 9 | K35: board white | L35: =L34 -> 1 | M35: =M34 -> 2 | N35: =IF(N$15>teams,"",COUNTIFS($B:$B,N$16,$C:$C,TEXT($J35,"00"))) -> 2 | O35: =IF(O$15>teams,"",COUNTIFS($B:$B,O$16,$C:$C,TEXT($J35,"00"))) -> 1 | P35: =IF(P$15>teams,"",COUNTIFS($B:$B,P$16,$C:$C,TEXT($J35,"00"))) -> 1 | Q35: =IF(Q$15>teams,"",COUNTIFS($B:$B,Q$16,$C:$C,TEXT($J35,"00"))) -> 2 | R35: =IF(R$15>teams,"",COUNTIFS($B:$B,R$16,$C:$C,TEXT($J35,"00"))) -> 2 | S35: =IF(S$15>teams,"",COUNTIFS($B:$B,S$16,$C:$C,TEXT($J35,"00"))) -> 1 | T35: =IF(T$15>teams,"",COUNTIFS($B:$B,T$16,$C:$C,TEXT($J35,"00"))) -> 1 | U35: =IF(U$15>teams,"",COUNTIFS($B:$B,U$16,$C:$C,TEXT($J35,"00"))) -> 2 | ... AM35: =IF(AM$15>teams,"",COUNTIFS($B:$B,AM$16,$C:$C,TEXT($J35,"00")))
A36: 1 | B36: F | C36: 05 | D36: E | E36: 05 | F36: =IF(E36<C36,B36&"."&C36,IF(C36<E36,D36&"."&E36,"")) | G36: =IF(E36>C36,B36&"."&C36,IF(C36>E36,D36&"."&E36,"")) | H36: FALSE | I36: =OR(MAX(OFFSET($N36,0,0,1,teams))>$M36,MIN(OFFSET($N36,0,0,1,teams))<$L36) -> FALSE | J36: 10 | K36: board white | L36: =L35 -> 1 | M36: =M35 -> 2 | N36: =IF(N$15>teams,"",COUNTIFS($B:$B,N$16,$C:$C,TEXT($J36,"00"))) -> 1 | O36: =IF(O$15>teams,"",COUNTIFS($B:$B,O$16,$C:$C,TEXT($J36,"00"))) -> 2 | P36: =IF(P$15>teams,"",COUNTIFS($B:$B,P$16,$C:$C,TEXT($J36,"00"))) -> 2 | Q36: =IF(Q$15>teams,"",COUNTIFS($B:$B,Q$16,$C:$C,TEXT($J36,"00"))) -> 1 | R36: =IF(R$15>teams,"",COUNTIFS($B:$B,R$16,$C:$C,TEXT($J36,"00"))) -> 2 | S36: =IF(S$15>teams,"",COUNTIFS($B:$B,S$16,$C:$C,TEXT($J36,"00"))) -> 2 | T36: =IF(T$15>teams,"",COUNTIFS($B:$B,T$16,$C:$C,TEXT($J36,"00"))) -> 1 | U36: =IF(U$15>teams,"",COUNTIFS($B:$B,U$16,$C:$C,TEXT($J36,"00"))) -> 1 | ... AM36: =IF(AM$15>teams,"",COUNTIFS($B:$B,AM$16,$C:$C,TEXT($J36,"00")))
A37: 1 | B37: G | C37: 05 | D37: D | E37: 05 | F37: =IF(E37<C37,B37&"."&C37,IF(C37<E37,D37&"."&E37,"")) | G37: =IF(E37>C37,B37&"."&C37,IF(C37>E37,D37&"."&E37,"")) | H37: FALSE | I37: =OR(MAX(OFFSET($N37,0,0,1,teams))>$M37,MIN(OFFSET($N37,0,0,1,teams))<$L37) -> FALSE | K37: total white | L37: =INT(rounds*players/2) -> 15 | M37: =L37+MOD(players,2) -> 15 | N37: =IF(N$15>teams,"",SUM(N20:N22)) -> 15 | O37: =IF(O$15>teams,"",SUM(O20:O22)) -> 15 | P37: =IF(P$15>teams,"",SUM(P20:P22)) -> 15 | Q37: =IF(Q$15>teams,"",SUM(Q20:Q22)) -> 15 | R37: =IF(R$15>teams,"",SUM(R20:R22)) -> 15 | S37: =IF(S$15>teams,"",SUM(S20:S22)) -> 15 | T37: =IF(T$15>teams,"",SUM(T20:T22)) -> 15 | U37: =IF(U$15>teams,"",SUM(U20:U22)) -> 15 | ... AM37: =IF(AM$15>teams,"",SUM(AM20:AM22))
A38: 1 | B38: H | C38: 05 | D38: L | E38: 05 | F38: =IF(E38<C38,B38&"."&C38,IF(C38<E38,D38&"."&E38,"")) | G38: =IF(E38>C38,B38&"."&C38,IF(C38>E38,D38&"."&E38,"")) | H38: FALSE
A39: 1 | B39: I | C39: 05 | D39: C | E39: 05 | F39: =IF(E39<C39,B39&"."&C39,IF(C39<E39,D39&"."&E39,"")) | G39: =IF(E39>C39,B39&"."&C39,IF(C39>E39,D39&"."&E39,"")) | H39: FALSE | I39: =OR(MAX(OFFSET($N39,0,0,1,teams))>$M39,MIN(OFFSET($N39,0,0,1,teams))<$L39) -> FALSE | K39: opponents | L39: 0 | M39: 0 | N39: =IF(N$15>teams,"",SUM(OFFSET(N$41,0,0,players,1))) -> 0 | O39: =IF(O$15>teams,"",SUM(OFFSET(O$41,0,0,players,1))) -> 0 | P39: =IF(P$15>teams,"",SUM(OFFSET(P$41,0,0,players,1))) -> 0 | Q39: =IF(Q$15>teams,"",SUM(OFFSET(Q$41,0,0,players,1))) -> 0 | R39: =IF(R$15>teams,"",SUM(OFFSET(R$41,0,0,players,1))) -> 0 | S39: =IF(S$15>teams,"",SUM(OFFSET(S$41,0,0,players,1))) -> 0 | T39: =IF(T$15>teams,"",SUM(OFFSET(T$41,0,0,players,1))) -> 0 | U39: =IF(U$15>teams,"",SUM(OFFSET(U$41,0,0,players,1))) -> 0 | ... Y39: =IF(Y$15>teams,"",SUM(OFFSET(Y$41,0,0,players,1))) -> 0 | Z39: =IF(Z$15>teams,"",SUM(OFFSET(#REF!,0,3*(Z$15-1),players,1))) | AA39: =IF(AA$15>teams,"",SUM(OFFSET(#REF!,0,3*(AA$15-1),players,1))) | AB39: =IF(AB$15>teams,"",SUM(OFFSET(#REF!,0,3*(AB$15-1),players,1))) | AC39: =IF(AC$15>teams,"",SUM(OFFSET(#REF!,0,3*(AC$15-1),players,1))) | AD39: =IF(AD$15>teams,"",SUM(OFFSET(#REF!,0,3*(AD$15-1),players,1))) | AE39: =IF(AE$15>teams,"",SUM(OFFSET(#REF!,0,3*(AE$15-1),players,1))) | AF39: =IF(AF$15>teams,"",SUM(OFFSET(#REF!,0,3*(AF$15-1),players,1))) | AG39: =IF(AG$15>teams,"",SUM(OFFSET(#REF!,0,3*(AG$15-1),players,1))) | ... AM39: =IF(AM$15>teams,"",SUM(OFFSET(#REF!,0,3*(AM$15-1),players,1)))
