Workbook

Sheet RawResults
A1: What score did you aim for? | B1: What total score did you get after 10 turns?

Sheet Analysis
H1: Total responses | I1: =SUM(I4:I43) -> 0
G3: Target Score | H3: Average score per turn | I3: No. of Responses
G4: 1 | H4: =SUMIF(RawResults!A:A,G4,RawResults!B:B)/(10*COUNTIF(RawResults!A:A,G4)) -> #DIV/0! | I4: =COUNTIF(RawResults!A:A,G4) -> 0
G5: 2 | H5: =SUMIF(RawResults!A:A,G5,RawResults!B:B)/(10*COUNTIF(RawResults!A:A,G5)) -> #DIV/0! | I5: =COUNTIF(RawResults!A:A,G5) -> 0
G6: 3 | H6: =SUMIF(RawResults!A:A,G6,RawResults!B:B)/(10*COUNTIF(RawResults!A:A,G6)) -> #DIV/0! | I6: =COUNTIF(RawResults!A:A,G6) -> 0
G7: 4 | H7: =SUMIF(RawResults!A:A,G7,RawResults!B:B)/(10*COUNTIF(RawResults!A:A,G7)) -> #DIV/0! | I7: =COUNTIF(RawResults!A:A,G7) -> 0
G8: 5 | H8: =SUMIF(RawResults!A:A,G8,RawResults!B:B)/(10*COUNTIF(RawResults!A:A,G8)) -> #DIV/0! | I8: =COUNTIF(RawResults!A:A,G8) -> 0
G9: 6 | H9: =SUMIF(RawResults!A:A,G9,RawResults!B:B)/(10*COUNTIF(RawResults!A:A,G9)) -> #DIV/0! | I9: =COUNTIF(RawResults!A:A,G9) -> 0
G10: 7 | H10: =SUMIF(RawResults!A:A,G10,RawResults!B:B)/(10*COUNTIF(RawResults!A:A,G10)) -> #DIV/0! | I10: =COUNTIF(RawResults!A:A,G10) -> 0
G11: 8 | H11: =SUMIF(RawResults!A:A,G11,RawResults!B:B)/(10*COUNTIF(RawResults!A:A,G11)) -> #DIV/0! | I11: =COUNTIF(RawResults!A:A,G11) -> 0
G12: 9 | H12: =SUMIF(RawResults!A:A,G12,RawResults!B:B)/(10*COUNTIF(RawResults!A:A,G12)) -> #DIV/0! | I12: =COUNTIF(RawResults!A:A,G12) -> 0
G13: 10 | H13: =SUMIF(RawResults!A:A,G13,RawResults!B:B)/(10*COUNTIF(RawResults!A:A,G13)) -> #DIV/0! | I13: =COUNTIF(RawResults!A:A,G13) -> 0
G14: =G13+1 -> 11 | H14: =SUMIF(RawResults!A:A,G14,RawResults!B:B)/(10*COUNTIF(RawResults!A:A,G14)) -> #DIV/0! | I14: =COUNTIF(RawResults!A:A,G14) -> 0
G15: =G14+1 -> 12 | H15: =SUMIF(RawResults!A:A,G15,RawResults!B:B)/(10*COUNTIF(RawResults!A:A,G15)) -> #DIV/0! | I15: =COUNTIF(RawResults!A:A,G15) -> 0
G16: =G15+1 -> 13 | H16: =SUMIF(RawResults!A:A,G16,RawResults!B:B)/(10*COUNTIF(RawResults!A:A,G16)) -> #DIV/0! | I16: =COUNTIF(RawResults!A:A,G16) -> 0
G17: =G16+1 -> 14 | H17: =SUMIF(RawResults!A:A,G17,RawResults!B:B)/(10*COUNTIF(RawResults!A:A,G17)) -> #DIV/0! | I17: =COUNTIF(RawResults!A:A,G17) -> 0
G18: =G17+1 -> 15 | H18: =SUMIF(RawResults!A:A,G18,RawResults!B:B)/(10*COUNTIF(RawResults!A:A,G18)) -> #DIV/0! | I18: =COUNTIF(RawResults!A:A,G18) -> 0
G19: =G18+1 -> 16 | H19: =SUMIF(RawResults!A:A,G19,RawResults!B:B)/(10*COUNTIF(RawResults!A:A,G19)) -> #DIV/0! | I19: =COUNTIF(RawResults!A:A,G19) -> 0
G20: =G19+1 -> 17 | H20: =SUMIF(RawResults!A:A,G20,RawResults!B:B)/(10*COUNTIF(RawResults!A:A,G20)) -> #DIV/0! | I20: =COUNTIF(RawResults!A:A,G20) -> 0
G21: =G20+1 -> 18 | H21: =SUMIF(RawResults!A:A,G21,RawResults!B:B)/(10*COUNTIF(RawResults!A:A,G21)) -> #DIV/0! | I21: =COUNTIF(RawResults!A:A,G21) -> 0
G22: =G21+1 -> 19 | H22: =SUMIF(RawResults!A:A,G22,RawResults!B:B)/(10*COUNTIF(RawResults!A:A,G22)) -> #DIV/0! | I22: =COUNTIF(RawResults!A:A,G22) -> 0
G23: =G22+1 -> 20 | H23: =SUMIF(RawResults!A:A,G23,RawResults!B:B)/(10*COUNTIF(RawResults!A:A,G23)) -> #DIV/0! | I23: =COUNTIF(RawResults!A:A,G23) -> 0
G24: =G23+1 -> 21 | H24: =SUMIF(RawResults!A:A,G24,RawResults!B:B)/(10*COUNTIF(RawResults!A:A,G24)) -> #DIV/0! | I24: =COUNTIF(RawResults!A:A,G24) -> 0
G25: =G24+1 -> 22 | H25: =SUMIF(RawResults!A:A,G25,RawResults!B:B)/(10*COUNTIF(RawResults!A:A,G25)) -> #DIV/0! | I25: =COUNTIF(RawResults!A:A,G25) -> 0
... G43: =G42+1 -> 40 | H43: =SUMIF(RawResults!A:A,G43,RawResults!B:B)/(10*COUNTIF(RawResults!A:A,G43)) -> #DIV/0! | I43: =COUNTIF(RawResults!A:A,G43) -> 0
